Workbook
Name Adj_EPS: '[1]Main Worksheet'!$A$98:$AY$98
Name Adjusted_Earnings_Per_Share__attributable_to_Leidos: '[2]Main Worksheet'!$A$138:$AQ$138
Name Adjusted_EBITDA: '[3]Main Worksheet'!$A$60:$AY$60
Name Adjusted_EBITDA_Margin: '[3]Main Worksheet'!$A$61:$AY$61
Name Adjusted_EPS: '[4]Main Worksheet'!$A$124:$BP$124
Name AEBIT: '[1]Main Worksheet'!$A$60:$AY$60
Name AEBIT_margin: '[1]Main Worksheet'!$A$61:$AY$61
Name AEBITDA: '[1]Main Worksheet'!$A$77:$AY$77
Name AEBITDA_margin: '[1]Main Worksheet'!$A$80:$AY$80
Name Aerospace: #REF!
Name Capex: #REF!
Name Cash: '[4]Main Worksheet'!$A$284:$FJ$284
Name Cash_EPS__excl._intangible_amortization: '[3]Main Worksheet'!$A$91:$AY$91
Name Cash_Net_Income__excl._intangible_amortization: '[3]Main Worksheet'!$A$88:$AY$88
Name Cash_used__provided__by_MARPA: '[3]Main Worksheet'!$A$137:$AY$137
Name CFO: '[1]Main Worksheet'!$A$124:$AY$124
Name Combat_Systems: #REF!
Name Core_EPS: [5]Main!$A$88:$AH$88
Name Core_Operating_Income: [5]Main!$A$54:$AD$55
Name date: #REF!
Name Diluted_EPS: #REF!
Name diluted_shares: '[1]Main Worksheet'!$A$46:$AY$46
Name Diluted_Shares_Outstanding: #REF!
Name Div_Per_Share: [5]Main!$A$90:$AJ$90
Name Dividends_per_Share: #REF!
Name EBIT_Margin: #REF!
Name EBITDA_as_Defined: '[4]Main Worksheet'!$A$145:$BO$145
Name EPS___Diluted: '[2]Main Worksheet'!$A$80:$AQ$80
Name FCF: '[1]Main Worksheet'!$A$152:$AY$152
Name FCF_Net_Income: #REF!
Name Free_Cash_Flow: #REF!
Name Free_Cash_Flow__ex._MARPA: '[3]Main Worksheet'!$A$138:$AY$138
Name Free_Cash_Flow_per_Share: #REF!
Name FY: '[1]Main Worksheet'!$A$2:$AY$2
Name GAAP_EPS: '[1]Main Worksheet'!$A$42:$AY$42
Name gross_debt: '[1]Main Worksheet'!$A$222:$AY$222
Name Gross_Profit: '[1]Main Worksheet'!$A$19:$AY$19
Name Gulfstream_Deliveries: #REF!
Name Leverage__Net_Debt_EBITDA: #REF!
Name Leverage_Data: [5]Main!$A$244:$AQ$250
Name Marine: #REF!
Name Net_Debt: #REF!
Name Net_Income: #REF!
Name net_leverage: '[1]Main Worksheet'!$A$229:$AY$229
Name Net_sales: '[1]Main Worksheet'!$A$8:$AY$8
Name Operating_cash_flow: #REF!
Name Operating_CF: '[4]Main Worksheet'!$A$178:$BH$178
Name Operating_income: #REF!
Name Operating_Income___GAAP: '[3]Main Worksheet'!$A$26:$AY$26
Name Operating_Margin___GAAP: '[3]Main Worksheet'!$A$27:$AY$27
Name Period_End: [5]Main!$A$4:$AQ$5
Name Period_Ended: '[1]Main Worksheet'!$A$3:$AY$3
Name Reported_Sales: '[2]Main Worksheet'!$A$11:$AQ$11
Name Rev_ex_billable: '[1]Main Worksheet'!$A$50:$AY$50
Name Sales: #REF!
Name Segment_EBIT: [5]Main!$A$29:$AB$40
Name Segment_Sales: [5]Main!$A$7:$AB$13
Name Sharecount: '[2]Main Worksheet'!$C$86:$AQ$86
Name Technologies: #REF!
Name Total_Adjusted_Operating_Income: '[2]Main Worksheet'!$A$112:$AQ$112

Sheet Cover
B33: Woodward Model
B35: 44962 | D35: TICKER: | G35: WWD

Sheet Model
A1: Woodward, Inc. (WWD)
A2: =TSM!C6 -> 103.84
A6: Woodward, Inc. | B6: Fiscal Year Ended September 30,
C7: FQ1 '19 | D7: FQ2 '19 | E7: FQ3 '19 | F7: FQ4 '19 | G7: FY '19 | H7: FQ1 '20 | I7: FQ2 '20 | J7: FQ3 ' 20 | K7: FQ4 '20 | L7: FY '20 | M7: FQ1 '21 | N7: FQ2 '21 | O7: FQ3 '21 | P7: FQ4 '21 | Q7: FY '21 | R7: FQ1 '22 | S7: FQ2 '22 | T7: FQ3 '22 | U7: FQ4 '22 | V7: FY '22 | W7: FQ1 '23 | X7: FQ2 '23 | Y7: FQ3 '23 | Z7: FQ4 '23 | AA7: FY '23 | AB7: FQ1 '24 | AC7: FQ2 '24 | AD7: FQ3 '24 | AE7: FQ4 '24 | AF7: FY '24 | AG7: FQ1 '25 | AH7: FQ2 '25 | AI7: FQ3 '25 | AJ7: FQ4 '25 | AK7: FY '25 | AL7: FY '26 | AM7: FY '27 | AN7: FY '28
C8: 43465 | D8: 43555 | E8: 43646 | F8: 43738 | H8: 43830 | I8: 43921 | J8: 44012 | K8: 44104 | M8: 44196 | N8: 44286 | O8: 44377 | P8: 44469 | R8: 44561 | S8: 44651 | T8: 44742 | U8: 44834 | W8: 44926 | X8: 45016 | Y8: 45107 | Z8: 45199 | AB8: 45291 | AC8: 45382 | AD8: 45473 | AE8: 45565 | AG8: 45657 | AH8: 45747 | AI8: 45838 | AJ8: 45930
X9: EST | Y9: EST | Z9: EST | AA9: EST | AB9: EST | AC9: EST | AD9: EST | AE9: EST | AF9: EST | AG9: EST | AH9: EST | AI9: EST | AJ9: EST | AK9: EST | AL9: EST | AM9: EST | AN9: EST
A11: OEM Revenue Build
A12: Commercial Aerospace - Deliveries
A13: Boeing
A14: 737NG | C14: ='Boeing Historical Deliveries'!R54 -> 101 | D14: ='Boeing Historical Deliveries'!V54 -> 28 | E14: ='Boeing Historical Deliveries'!Y54 -> 1 | F14: ='Boeing Historical Deliveries'!AB54 -> 17 | G14: =SUM(C14:F14) -> 147 | H14: ='Boeing Historical Deliveries'!AE54 -> 23 | I14: ='Boeing Historical Deliveries'!AI54 -> 11 | J14: ='Boeing Historical Deliveries'!AL54 -> 3 | K14: ='Boeing Historical Deliveries'!AO54 -> 2 | L14: =SUM(H14:K14) -> 39 | M14: ='Boeing Historical Deliveries'!AR54 -> 0 | N14: ='Boeing Historical Deliveries'!AV54 -> 16 | O14: ='Boeing Historical Deliveries'!AY54 -> 0 | P14: ='Boeing Historical Deliveries'!BB54 -> 0 | Q14: =SUM(M14:P14) -> 16 | R14: ='Boeing Historical Deliveries'!BE54 -> 0 | S14: ='Boeing Historical Deliveries'!BI54 -> 12 | T14: ='Boeing Historical Deliveries'!BL54 -> 0 | U14: ='Boeing Historical Deliveries'!BO54 -> 0 | V14: =SUM(R14:U14) -> 12 | W14: ='Boeing Historical Deliveries'!BR54 -> 0 | X14: 3 | Y14: 3 | Z14: 3 | AA14: =SUM(W14:Z14) -> 9 | AB14: =Z14 -> 3 | AC14: 3 | AD14: 3 | AE14: 1.5 | AF14: =SUM(AB14:AE14) -> 10.5 | AG14: =AE14 -> 1.5 | AH14: =AG14 -> 1.5 | AI14: =AH14 -> 1.5 | AJ14: =AI14 -> 1.5 | AK14: =SUM(AG14:AJ14) -> 6
A15: 737MAX | C15: ='Boeing Historical Deliveries'!R55 -> 98 | D15: ='Boeing Historical Deliveries'!V55 -> 11 | E15: ='Boeing Historical Deliveries'!Y55 -> 10 | F15: ='Boeing Historical Deliveries'!AB55 -> 15 | G15: =SUM(C15:F15) -> 134 | H15: ='Boeing Historical Deliveries'!AE55 -> 21 | I15: ='Boeing Historical Deliveries'!AI55 -> 10 | J15: ='Boeing Historical Deliveries'!AL55 -> 5 | K15: ='Boeing Historical Deliveries'!AO55 -> 5 | L15: =SUM(H15:K15) -> 41 | M15: ='Boeing Historical Deliveries'!AR55 -> 7 | N15: ='Boeing Historical Deliveries'!AV55 -> 54 | O15: ='Boeing Historical Deliveries'!AY55 -> 46 | P15: ='Boeing Historical Deliveries'!BB55 -> 41 | Q15: =SUM(M15:P15) -> 148 | R15: ='Boeing Historical Deliveries'!BE55 -> 104 | S15: ='Boeing Historical Deliveries'!BI55 -> 99 | T15: ='Boeing Historical Deliveries'!BL55 -> 88 | U15: ='Boeing Historical Deliveries'!BO55 -> 79 | V15: =SUM(R15:U15) -> 370 | W15: ='Boeing Historical Deliveries'!BR55 -> 108 | X15: 69 | Y15: 69 | Z15: 81 | AA15: =SUM(W15:Z15) -> 327 | AB15: =Z15 -> 81 | AC15: 90 | AD15: 102 | AE15: 112.5 | AF15: =SUM(AB15:AE15) -> 385.5 | AG15: =AE15 -> 112.5 | AH15: 112.5 | AI15: 124.5 | AJ15: 139.5 | AK15: =SUM(AG15:AJ15) -> 489 | AL15: 594 | AM15: =AL15 -> 594 | AN15: =AM15 -> 594
A16: 767 | C16: ='Boeing Historical Deliveries'!R56 -> 4 | D16: ='Boeing Historical Deliveries'!V56 -> 11 | E16: ='Boeing Historical Deliveries'!Y56 -> 5 | F16: ='Boeing Historical Deliveries'!AB56 -> 27 | G16: =SUM(C16:F16) -> 47 | H16: ='Boeing Historical Deliveries'!AE56 -> 0 | I16: ='Boeing Historical Deliveries'!AI56 -> 5 | J16: ='Boeing Historical Deliveries'!AL56 -> 8 | K16: ='Boeing Historical Deliveries'!AO56 -> 17 | L16: =SUM(H16:K16) -> 30 | M16: ='Boeing Historical Deliveries'!AR56 -> 0 | N16: ='Boeing Historical Deliveries'!AV56 -> 3 | O16: ='Boeing Historical Deliveries'!AY56 -> 7 | P16: ='Boeing Historical Deliveries'!BB56 -> 20 | Q16: =SUM(M16:P16) -> 30 | R16: ='Boeing Historical Deliveries'!BE56 -> 2 | S16: ='Boeing Historical Deliveries'!BI56 -> 9 | T16: ='Boeing Historical Deliveries'!BL56 -> 8 | U16: ='Boeing Historical Deliveries'!BO56 -> 16 | V16: =SUM(R16:U16) -> 35 | W16: ='Boeing Historical Deliveries'!BR56 -> 0 | X16: =S16 -> 9 | Y16: =X16 -> 9 | Z16: =Y16 -> 9 | AA16: =SUM(W16:Z16) -> 27 | AB16: =Z16 -> 9 | AC16: =AB16 -> 9 | AD16: =AC16 -> 9 | AE16: =AD16 -> 9 | AF16: =SUM(AB16:AE16) -> 36 | AG16: =AE16 -> 9 | AH16: =AG16 -> 9 | AI16: =AH16 -> 9 | AJ16: =AI16 -> 9 | AK16: =SUM(AG16:AJ16) -> 36 | AL16: =AK16 -> 36 | AM16: =AL16 -> 36 | AN16: =AM16 -> 36
A17: 747-8 | C17: ='Boeing Historical Deliveries'!R57 -> 6 | D17: ='Boeing Historical Deliveries'!V57 -> 1 | E17: ='Boeing Historical Deliveries'!Y57 -> 0 | F17: ='Boeing Historical Deliveries'!AB57 -> 0 | G17: =SUM(C17:F17) -> 7 | H17: ='Boeing Historical Deliveries'!AE57 -> 6 | I17: ='Boeing Historical Deliveries'!AI57 -> 4 | J17: ='Boeing Historical Deliveries'!AL57 -> 1 | K17: ='Boeing Historical Deliveries'!AO57 -> 0 | L17: =SUM(H17:K17) -> 11 | M17: ='Boeing Historical Deliveries'!AR57 -> 0 | N17: ='Boeing Historical Deliveries'!AV57 -> 7 | O17: ='Boeing Historical Deliveries'!AY57 -> 0 | P17: ='Boeing Historical Deliveries'!BB57 -> 0 | Q17: =SUM(M17:P17) -> 7 | R17: ='Boeing Historical Deliveries'!BE57 -> 0 | S17: ='Boeing Historical Deliveries'!BI57 -> 5 | T17: ='Boeing Historical Deliveries'!BL57 -> 0 | U17: ='Boeing Historical Deliveries'!BO57 -> 0 | V17: =SUM(R17:U17) -> 5 | W17: ='Boeing Historical Deliveries'!BR57 -> 0 | X17: 0 | Y17: 0 | Z17: 0 | AA17: =SUM(W17:Z17) -> 0 | AB17: =Z17 -> 0 | AC17: =AB17 -> 0 | AD17: =AC17 -> 0 | AE17: =AD17 -> 0 | AF17: =SUM(AB17:AE17) -> 0 | AG17: =AE17 -> 0 | AH17: =AG17 -> 0 | AI17: =AH17 -> 0 | AJ17: =AI17 -> 0 | AK17: =SUM(AG17:AJ17) -> 0 | AL17: =AK17 -> 0 | AM17: =AL17 -> 0 | AN17: =AM17 -> 0
A18: 777 | C18: ='Boeing Historical Deliveries'!R58 -> 22 | D18: ='Boeing Historical Deliveries'!V58 -> 0 | E18: ='Boeing Historical Deliveries'!Y58 -> 2 | F18: ='Boeing Historical Deliveries'!AB58 -> 8 | G18: =SUM(C18:F18) -> 32 | H18: ='Boeing Historical Deliveries'!AE58 -> 10 | I18: ='Boeing Historical Deliveries'!AI58 -> 0 | J18: ='Boeing Historical Deliveries'!AL58 -> 0 | K18: ='Boeing Historical Deliveries'!AO58 -> 0 | L18: =SUM(H18:K18) -> 10 | M18: ='Boeing Historical Deliveries'!AR58 -> 4 | N18: ='Boeing Historical Deliveries'!AV58 -> 0 | O18: ='Boeing Historical Deliveries'!AY58 -> 0 | P18: ='Boeing Historical Deliveries'!BB58 -> 6 | Q18: =SUM(M18:P18) -> 10 | R18: ='Boeing Historical Deliveries'!BE58 -> 2 | S18: ='Boeing Historical Deliveries'!BI58 -> 0 | T18: ='Boeing Historical Deliveries'!BL58 -> 0 | U18: ='Boeing Historical Deliveries'!BO58 -> 0 | V18: =SUM(R18:U18) -> 2 | W18: ='Boeing Historical Deliveries'!BR58 -> 3 | X18: 9 | Y18: 9 | Z18: 9 | AA18: =SUM(W18:Z18) -> 30 | AB18: =Z18 -> 9 | AC18: =AB18 -> 9 | AD18: =AC18 -> 9 | AE18: =AD18 -> 9 | AF18: =SUM(AB18:AE18) -> 36 | AG18: =AE18 -> 9 | AH18: =AG18 -> 9 | AI18: =AH18 -> 9 | AJ18: =AI18 -> 9 | AK18: =SUM(AG18:AJ18) -> 36 | AL18: =AK18 -> 36 | AM18: =AL18 -> 36 | AN18: =AM18 -> 36
A19: 777X | C19: ='Boeing Historical Deliveries'!R59 -> 7 | D19: ='Boeing Historical Deliveries'!V59 -> 7 | E19: ='Boeing Historical Deliveries'!Y59 -> 7 | F19: ='Boeing Historical Deliveries'!AB59 -> 7 | G19: =SUM(C19:F19) -> 28 | H19: ='Boeing Historical Deliveries'!AE59 -> 4 | I19: ='Boeing Historical Deliveries'!AI59 -> 0 | J19: ='Boeing Historical Deliveries'!AL59 -> 10 | K19: ='Boeing Historical Deliveries'!AO59 -> 5 | L19: =SUM(H19:K19) -> 19 | M19: ='Boeing Historical Deliveries'!AR59 -> 7 | N19: ='Boeing Historical Deliveries'!AV59 -> 2 | O19: ='Boeing Historical Deliveries'!AY59 -> 8 | P19: ='Boeing Historical Deliveries'!BB59 -> 6 | Q19: =SUM(M19:P19) -> 23 | R19: ='Boeing Historical Deliveries'!BE59 -> 0 | S19: ='Boeing Historical Deliveries'!BI59 -> 0 | T19: ='Boeing Historical Deliveries'!BL59 -> 8 | U19: ='Boeing Historical Deliveries'!BO59 -> 8 | V19: =SUM(R19:U19) -> 16 | W19: ='Boeing Historical Deliveries'!BR59 -> 5 | X19: 0 | Y19: 0 | Z19: 0 | AA19: =SUM(W19:Z19) -> 5 | AB19: =Z19 -> 0 | AC19: 1.5 | AD19: 1.5 | AE19: 1.5 | AF19: =SUM(AB19:AE19) -> 4.5 | AG19: =AE19 -> 1.5 | AH19: 3 | AI19: 6 | AJ19: 6 | AK19: =SUM(AG19:AJ19) -> 16.5 | AL19: 30 | AM19: =AL19 -> 30 | AN19: =AM19 -> 30
A20: 787 | C20: ='Boeing Historical Deliveries'!R60 -> 45 | D20: ='Boeing Historical Deliveries'!V60 -> 38 | E20: ='Boeing Historical Deliveries'!Y60 -> 51 | F20: ='Boeing Historical Deliveries'!AB60 -> 22 | G20: =SUM(C20:F20) -> 156 | H20: ='Boeing Historical Deliveries'!AE60 -> 47 | I20: ='Boeing Historical Deliveries'!AI60 -> 12 | J20: ='Boeing Historical Deliveries'!AL60 -> 15 | K20: ='Boeing Historical Deliveries'!AO60 -> 12 | L20: =SUM(H20:K20) -> 86 | M20: ='Boeing Historical Deliveries'!AR60 -> 14 | N20: ='Boeing Historical Deliveries'!AV60 -> 1 | O20: ='Boeing Historical Deliveries'!AY60 -> 1 | P20: ='Boeing Historical Deliveries'!BB60 -> 10 | Q20: =SUM(M20:P20) -> 26 | R20: ='Boeing Historical Deliveries'!BE60 -> 2 | S20: ='Boeing Historical Deliveries'!BI60 -> 8 | T20: ='Boeing Historical Deliveries'!BL60 -> 13 | U20: ='Boeing Historical Deliveries'!BO60 -> 2 | V20: =SUM(R20:U20) -> 25 | W20: ='Boeing Historical Deliveries'!BR60 -> 8 | X20: 9 | Y20: 9 | Z20: 12 | AA20: =SUM(W20:Z20) -> 38 | AB20: =Z20 -> 12 | AC20: 12 | AD20: 15 | AE20: 15 | AF20: =SUM(AB20:AE20) -> 54 | AG20: 18 | AH20: 21 | AI20: 21 | AJ20: 21 | AK20: =SUM(AG20:AJ20) -> 81 | AL20: =AK20 -> 81 | AM20: =AL20 -> 81 | AN20: =AM20 -> 81
A21: Total Boeing | C21: =SUM(C14:C20) -> 283 | D21: =SUM(D14:D20) -> 96 | E21: =SUM(E14:E20) -> 76 | F21: =SUM(F14:F20) -> 96 | G21: =SUM(G14:G20) -> 551 | H21: =SUM(H14:H20) -> 111 | I21: =SUM(I14:I20) -> 42 | J21: =SUM(J14:J20) -> 42 | ... AN21: =SUM(AN14:AN20) -> 777
A23: Airbus
A24: A320neo | C24: ='Historical deliveries - Airbus'!C12/4 -> 156.5 | D24: =E24 -> 160.5 | E24: =F24 -> 160.5 | F24: =H24 -> 160.5 | G24: =SUM(C24:F24) -> 638 | H24: ='Historical deliveries - Airbus'!C9/4 -> 160.5 | I24: ='Historical deliveries - Airbus'!C6/4 -> 111.5 | J24: =I24 -> 111.5 | K24: =J24 -> 111.5 | L24: =SUM(H24:K24) -> 495 | M24: =K24 -> 111.5 | N24: ='Historical deliveries - Airbus'!C3/4 -> 120.75 | O24: =N24 -> 120.75 | P24: =O24 -> 120.75 | Q24: =SUM(M24:P24) -> 473.75 | R24: =P24 -> 120.75 | S24: ='Airbus Deliveries 2022'!E25 -> 109 | T24: ='Airbus Deliveries 2022'!H25 -> 121 | U24: ='Airbus Deliveries 2022'!K25 -> 110 | V24: =SUM(R24:U24) -> 460.75 | W24: ='Airbus Deliveries 2022'!N25 -> 176 | X24: 150 | Y24: 157.5 | Z24: 137.5 | AA24: =SUM(W24:Z24) -> 621 | AB24: 165 | AC24: 180 | AD24: 180 | AE24: =AD24 -> 180 | AF24: =SUM(AB24:AE24) -> 705 | AG24: =AE24 -> 180 | AH24: =AG24 -> 180 | AI24: =AH24 -> 180 | AJ24: =AI24 -> 180 | AK24: =SUM(AG24:AJ24) -> 720 | AL24: =AK24 -> 720 | AM24: =AL24 -> 720 | AN24: =AM24 -> 720
A25: A220 | C25: ='Historical deliveries - Airbus'!B12/4 -> 5 | D25: =E25 -> 12 | E25: =F25 -> 12 | F25: =H25 -> 12 | G25: =SUM(C25:F25) -> 41 | H25: ='Historical deliveries - Airbus'!B9/4 -> 12 | I25: ='Historical deliveries - Airbus'!B6/4 -> 9.5 | J25: =I25 -> 9.5 | K25: =J25 -> 9.5 | L25: =SUM(H25:K25) -> 40.5 | M25: =K25 -> 9.5 | N25: ='Historical deliveries - Airbus'!B3/4 -> 12.5 | O25: =N25 -> 12.5 | P25: =O25 -> 12.5 | Q25: =SUM(M25:P25) -> 47 | R25: =P25 -> 12.5 | S25: ='Airbus Deliveries 2022'!E26 -> 11 | T25: ='Airbus Deliveries 2022'!H26 -> 14 | U25: ='Airbus Deliveries 2022'!K26 -> 9 | V25: =SUM(R25:U25) -> 46.5 | W25: ='Airbus Deliveries 2022'!N26 -> 19 | X25: 12 | Y25: 15 | Z25: 15 | AA25: =SUM(W25:Z25) -> 61 | AB25: 21 | AC25: 21 | AD25: 27 | AE25: =AD25 -> 27 | AF25: =SUM(AB25:AE25) -> 96 | AG25: 33 | AH25: 33 | AI25: 36 | AJ25: =AI25 -> 36 | AK25: =SUM(AG25:AJ25) -> 138 | AL25: =AK25 -> 138 | AM25: =AL25 -> 138 | AN25: =AM25 -> 138
A26: A350 | C26: ='Historical deliveries - Airbus'!F12/4 -> 23.25 | D26: =E26 -> 28 | E26: =F26 -> 28 | F26: =H26 -> 28 | G26: =SUM(C26:F26) -> 107.25 | H26: ='Historical deliveries - Airbus'!F9/4 -> 28 | I26: ='Historical deliveries - Airbus'!F6/4 -> 14.75 | J26: =I26 -> 14.75 | K26: =J26 -> 14.75 | L26: =SUM(H26:K26) -> 72.25 | M26: =K26 -> 14.75 | N26: ='Historical deliveries - Airbus'!F3/4 -> 13.25 | O26: =N26 -> 13.25 | P26: =O26 -> 13.25 | Q26: =SUM(M26:P26) -> 54.5 | R26: =P26 -> 13.25 | S26: ='Airbus Deliveries 2022'!E27 -> 16 | T26: ='Airbus Deliveries 2022'!H27 -> 13 | U26: ='Airbus Deliveries 2022'!K27 -> 13 | V26: =SUM(R26:U26) -> 55.25 | W26: ='Airbus Deliveries 2022'!N27 -> 20 | X26: 15 | Y26: 15 | Z26: 15 | AA26: =SUM(W26:Z26) -> 65 | AB26: =Z26 -> 15 | AC26: 18 | AD26: 21 | AE26: =AD26 -> 21 | AF26: =SUM(AB26:AE26) -> 75 | AG26: =AE26 -> 21 | AH26: =AG26 -> 21 | AI26: =AH26 -> 21 | AJ26: =AI26 -> 21 | AK26: =SUM(AG26:AJ26) -> 84 | AL26: =AK26 -> 84 | AM26: =AL26 -> 84 | AN26: =AM26 -> 84
A27: A330neo | C27: ='Historical deliveries - Airbus'!D12/4 -> 12.25 | D27: =E27 -> 13.25 | E27: =F27 -> 13.25 | F27: =H27 -> 13.25 | G27: =SUM(C27:F27) -> 52 | H27: ='Historical deliveries - Airbus'!D9/4 -> 13.25 | I27: ='Historical deliveries - Airbus'!D6/4 -> 4.75 | J27: =I27 -> 4.75 | K27: =J27 -> 4.75 | L27: =SUM(H27:K27) -> 27.5 | M27: =K27 -> 4.75 | N27: ='Historical deliveries - Airbus'!D3/4 -> 4.5 | O27: =N27 -> 4.5 | P27: =O27 -> 4.5 | Q27: =SUM(M27:P27) -> 18.25 | R27: =P27 -> 4.5 | S27: ='Airbus Deliveries 2022'!E28 -> 6 | T27: ='Airbus Deliveries 2022'!H28 -> 7 | U27: ='Airbus Deliveries 2022'!K28 -> 8 | V27: =SUM(R27:U27) -> 25.5 | W27: ='Airbus Deliveries 2022'!N28 -> 11 | X27: =W27 -> 11 | Y27: =X27 -> 11 | Z27: =Y27 -> 11 | AA27: =SUM(W27:Z27) -> 44 | AB27: 6 | AC27: 6 | AD27: 7.5 | AE27: =AD27 -> 7.5 | AF27: =SUM(AB27:AE27) -> 27 | AG27: 9 | AH27: =AG27 -> 9 | AI27: =AH27 -> 9 | AJ27: =AI27 -> 9 | AK27: =SUM(AG27:AJ27) -> 36 | AL27: =AK27 -> 36 | AM27: =AL27 -> 36 | AN27: =AM27 -> 36
A28: Total Airbus | C28: =SUM(C24:C27) -> 197 | D28: =SUM(D24:D27) -> 213.75 | E28: =SUM(E24:E27) -> 213.75 | F28: =SUM(F24:F27) -> 213.75 | G28: =SUM(G24:G27) -> 838.25 | H28: =SUM(H24:H27) -> 213.75 | I28: =SUM(I24:I27) -> 140.5 | J28: =SUM(J24:J27) -> 140.5 | ... AN28: =SUM(AN24:AN27) -> 978
A30: Embraer
A31: Ejet | G31: =SUM(C31:F31) -> 0 | L31: =SUM(H31:K31) -> 0 | Q31: =SUM(M31:P31) -> 0 | R31: 8 | S31: 8 | T31: 7 | U31: 13 | V31: =SUM(R31:U31) -> 36 | W31: 9 | X31: =W31 -> 9 | Y31: =X31 -> 9 | Z31: =Y31 -> 9 | AA31: =SUM(W31:Z31) -> 36 | AB31: =Z31 -> 9 | AC31: =AB31 -> 9 | AD31: =AC31 -> 9 | AE31: =AD31 -> 9 | AF31: =SUM(AB31:AE31) -> 36 | AG31: =AE31 -> 9 | AH31: =AG31 -> 9 | AI31: =AH31 -> 9 | AJ31: =AI31 -> 9 | AK31: =SUM(AG31:AJ31) -> 36 | AL31: =AK31 -> 36 | AM31: =AL31 -> 36 | AN31: =AM31 -> 36
A32: Ejets E2 | G32: =SUM(C32:F32) -> 0 | L32: =SUM(H32:K32) -> 0 | Q32: =SUM(M32:P32) -> 0 | R32: 12 | S32: 12 | T32: 11 | U32: 19 | V32: =SUM(R32:U32) -> 54 | W32: 13 | X32: =W32 -> 13 | Y32: =X32 -> 13 | Z32: =Y32 -> 13 | AA32: =SUM(W32:Z32) -> 52 | AB32: =Z32 -> 13 | AC32: =AB32 -> 13 | AD32: =AC32 -> 13 | AE32: =AD32 -> 13 | AF32: =SUM(AB32:AE32) -> 52 | AG32: =AE32 -> 13 | AH32: =AG32 -> 13 | AI32: =AH32 -> 13 | AJ32: =AI32 -> 13 | AK32: =SUM(AG32:AJ32) -> 52 | AL32: =AK32 -> 52 | AM32: =AL32 -> 52 | AN32: =AM32 -> 52
A33: Total Embraer | G33: =SUM(G31:G32) -> 0 | H33: =SUM(H31:H32) -> 0 | I33: =SUM(I31:I32) -> 0 | J33: =SUM(J31:J32) -> 0 | K33: =SUM(K31:K32) -> 0 | L33: =SUM(L31:L32) -> 0 | M33: =SUM(M31:M32) -> 0 | N33: =SUM(N31:N32) -> 0 | ... AN33: =SUM(AN31:AN32) -> 88
A35: Business Jets
A36: Global Express | G36: =SUM(C36:F36) -> 0 | L36: =SUM(H36:K36) -> 0 | Q36: =SUM(M36:P36) -> 0 | R36: 6 | S36: 6 | T36: 7 | U36: 11 | V36: =SUM(R36:U36) -> 30 | W36: 8 | X36: =W36 -> 8 | Y36: =X36 -> 8 | Z36: =Y36 -> 8 | AA36: =SUM(W36:Z36) -> 32 | AB36: =Z36 -> 8 | AC36: =AB36 -> 8 | AD36: =AC36 -> 8 | AE36: =AD36 -> 8 | AF36: =SUM(AB36:AE36) -> 32 | AG36: =AE36 -> 8 | AH36: =AG36 -> 8 | AI36: =AH36 -> 8 | AJ36: =AI36 -> 8 | AK36: =SUM(AG36:AJ36) -> 32 | AL36: =AK36 -> 32 | AM36: =AL36 -> 32 | AN36: =AM36 -> 32
A37: Global 7500 | G37: =SUM(C37:F37) -> 0 | L37: =SUM(H37:K37) -> 0 | Q37: =SUM(M37:P37) -> 0 | R37: 6 | S37: 6 | T37: 7 | U37: 11 | V37: =SUM(R37:U37) -> 30 | W37: 8 | X37: =W37 -> 8 | Y37: =X37 -> 8 | Z37: =Y37 -> 8 | AA37: =SUM(W37:Z37) -> 32 | AB37: =Z37 -> 8 | AC37: =AB37 -> 8 | AD37: =AC37 -> 8 | AE37: =AD37 -> 8 | AF37: =SUM(AB37:AE37) -> 32 | AG37: =AE37 -> 8 | AH37: =AG37 -> 8 | AI37: =AH37 -> 8 | AJ37: =AI37 -> 8 | AK37: =SUM(AG37:AJ37) -> 32 | AL37: =AK37 -> 32 | AM37: =AL37 -> 32 | AN37: =AM37 -> 32
A38: G650 | C38: =60/4 -> 15 | D38: 16 | E38: 15 | F38: 15 | G38: =SUM(C38:F38) -> 61 | H38: 18 | I38: 10 | J38: 6 | K38: 10 | L38: =SUM(H38:K38) -> 44 | M38: 12 | N38: 8 | O38: 7 | P38: 11 | Q38: =SUM(M38:P38) -> 38 | R38: 13 | S38: 9 | T38: 8 | U38: 8 | V38: =SUM(R38:U38) -> 38 | W38: 9 | X38: =W38 -> 9 | Y38: =X38 -> 9 | Z38: =Y38 -> 9 | AA38: =SUM(W38:Z38) -> 36 | AB38: =Z38 -> 9 | AC38: =AB38 -> 9 | AD38: =AC38 -> 9 | AE38: =AD38 -> 9 | AF38: =SUM(AB38:AE38) -> 36 | AG38: =AE38 -> 9 | AH38: =AG38 -> 9 | AI38: =AH38 -> 9 | AJ38: =AI38 -> 9 | AK38: =SUM(AG38:AJ38) -> 36 | AL38: =AK38 -> 36 | AM38: =AL38 -> 36 | AN38: =AM38 -> 36
A39: G500/G600 | C39: 7 | D39: 5 | E39: 5 | F39: =5+4 -> 9 | G39: =SUM(C39:F39) -> 26 | H39: 6 | I39: 6 | J39: 17 | K39: 13 | L39: =SUM(H39:K39) -> 42 | M39: 17 | N39: 12 | O39: 11 | P39: 13 | Q39: =SUM(M39:P39) -> 53 | R39: 20 | S39: 13 | T39: 9 | U39: 20 | V39: =SUM(R39:U39) -> 62 | W39: 20 | X39: =W39 -> 20 | Y39: =X39 -> 20 | Z39: =Y39 -> 20 | AA39: =SUM(W39:Z39) -> 80 | AB39: 25 | AC39: =AB39 -> 25 | AD39: =AC39 -> 25 | AE39: =AD39 -> 25 | AF39: =SUM(AB39:AE39) -> 100 | AG39: =AE39 -> 25 | AH39: =AG39 -> 25 | AI39: =AH39 -> 25 | AJ39: =AI39 -> 25 | AK39: =SUM(AG39:AJ39) -> 100 | AL39: =AK39 -> 100 | AM39: =AL39 -> 100 | AN39: =AM39 -> 100
A40: G700/G800 | G40: =SUM(C40:F40) -> 0 | H40: 0 | I40: 0 | J40: 0 | K40: 0 | L40: =SUM(H40:K40) -> 0 | M40: 0 | N40: 0 | O40: 0 | P40: 0 | Q40: =SUM(M40:P40) -> 0 | R40: 0 | S40: 0 | T40: 0 | U40: 0 | V40: =SUM(R40:U40) -> 0 | W40: 0 | X40: =W40 -> 0 | Y40: =X40 -> 0 | Z40: =Y40 -> 0 | AA40: =SUM(W40:Z40) -> 0 | AB40: =Z40 -> 0 | AC40: =AB40 -> 0 | AD40: =AC40 -> 0 | AE40: =AD40 -> 0 | AF40: =SUM(AB40:AE40) -> 0 | AG40: =AE40 -> 0 | AH40: =AG40 -> 0 | AI40: =AH40 -> 0 | AJ40: =AI40 -> 0 | AK40: =SUM(AG40:AJ40) -> 0 | AL40: =AK40 -> 0 | AM40: =AL40 -> 0 | AN40: =AM40 -> 0
A41: HondaJet
A42: Total Business Jets | C42: =SUM(C36:C41) -> 22 | D42: =SUM(D36:D41) -> 21 | E42: =SUM(E36:E41) -> 20 | F42: =SUM(F36:F41) -> 24 | G42: =SUM(G36:G41) -> 87 | H42: =SUM(H36:H41) -> 24 | I42: =SUM(I36:I41) -> 16 | J42: =SUM(J36:J41) -> 23 | ... AN42: =SUM(AN36:AN41) -> 200
A44: Defense Platforms - Deliveries
A45: F-15 | G45: =SUM(C45:F45) -> 0 | H45: 4 | I45: 0 | J45: 3 | K45: 0 | L45: =SUM(H45:K45) -> 7 | M45: 1 | N45: 3 | O45: 5 | P45: 3 | Q45: =SUM(M45:P45) -> 12 | R45: 5 | S45: 1 | T45: 4 | U45: 4 | V45: =SUM(R45:U45) -> 14 | W45: 3 | X45: =W45 -> 3 | Y45: =X45 -> 3 | Z45: =Y45 -> 3 | AA45: =SUM(W45:Z45) -> 12 | AB45: =Z45 -> 3 | AC45: =AB45 -> 3 | AD45: =AC45 -> 3 | AE45: =AD45 -> 3 | AF45: =SUM(AB45:AE45) -> 12 | AG45: =AE45 -> 3 | AH45: =AG45 -> 3 | AI45: =AH45 -> 3 | AJ45: =AI45 -> 3 | AK45: =SUM(AG45:AJ45) -> 12 | AL45: =AK45 -> 12 | AM45: =AL45 -> 12 | AN45: =AM45 -> 12
A46: F-16
A47: F/A-18 | G47: =SUM(C47:F47) -> 0 | H47: =4 -> 4 | I47: 5 | J47: 3 | K47: 5 | L47: =SUM(H47:K47) -> 17 | M47: 6 | N47: 4 | O47: 7 | P47: 4 | Q47: =SUM(M47:P47) -> 21 | R47: 6 | S47: 4 | T47: 4 | U47: 3 | V47: =SUM(R47:U47) -> 17 | W47: 3 | X47: =W47 -> 3 | Y47: =X47 -> 3 | Z47: =Y47 -> 3 | AA47: =SUM(W47:Z47) -> 12 | AB47: =Z47 -> 3 | AC47: =AB47 -> 3 | AD47: =AC47 -> 3 | AE47: =AD47 -> 3 | AF47: =SUM(AB47:AE47) -> 12 | AG47: =AE47 -> 3 | AH47: =AG47 -> 3 | AI47: =AH47 -> 3 | AJ47: =AI47 -> 3 | AK47: =SUM(AG47:AJ47) -> 12 | AL47: =AK47 -> 12 | AM47: =AL47 -> 12 | AN47: =AM47 -> 12
A48: Black Hawk
...

Sheet Valuation
B2: Assumptions
B4: Value Date | C4: 44926
B5: Stub period | C5: =YEARFRAC(C4,C6,0) -> 0.75
B6: End | C6: 45199
B7: Tax Rate | C7: 0.21
B8: WACC | C8: 0.09
B9: PGR | C9: 0.035
B12: Discounted Cash Flow Analysis
C14: 2022 | D14: =C14+1 -> 2023 | E14: =D14+1 -> 2024 | F14: =E14+1 -> 2025 | G14: =F14+1 -> 2026 | H14: =G14+1 -> 2027 | I14: Terminal Year
B16: Revenue | C16: =Model!V120 -> 2382.79 | D16: =Model!AA120 -> 2654.9204 | E16: =Model!AF120 -> 2893.1535 | F16: =Model!AK120 -> 3090.4688 | G16: =Model!AL120 -> 3180.5296 | H16: =Model!AM120 -> 3279.5966 | I16: =H16 -> 3279.5966
B17: % Growth | D17: =D16/C16-1 -> 0.11420664 | E17: =E16/D16-1 -> 0.089732661 | F17: =F16/E16-1 -> 0.068200751 | G17: =G16/F16-1 -> 0.02914149 | H17: =H16/G16-1 -> 0.031147941
B19: EBIT | C19: =Model!V141 -> 232.629 | D19: =Model!AA141 -> 242.89665 | E19: =Model!AF141 -> 356.0548 | F19: =Model!AK141 -> 390.13447 | G19: =Model!AL141 -> 403.49027 | H19: =Model!AM141 -> 418.18165 | I19: =H19 -> 418.18165
B20: % Margin | C20: =C19/C$16 -> 0.09762883 | D20: =D19/D$16 -> 0.091489238 | E20: =E19/E$16 -> 0.12306806 | F20: =F19/F$16 -> 0.12623796 | G20: =G19/G$16 -> 0.1268626 | H20: =H19/H$16 -> 0.12751009 | I20: =I19/I$16 -> 0.12751009
B22: Plus: D&A | C22: =Model!V233 -> 120.628 | D22: =Model!AA233 -> 124.60014 | E22: =Model!AF233 -> 135.39958 | F22: =Model!AK233 -> 144.63394 | G22: =Model!AL233 -> 148.84879 | H22: =Model!AM233 -> 153.48512 | I22: =H22 -> 153.48512
B23: Less: Cash Taxes | C23: =C22*-$C$7 -> -25.33188 | D23: =D22*-$C$7 -> -26.166029 | E23: =E22*-$C$7 -> -28.433913 | F23: =F22*-$C$7 -> -30.373127 | G23: =G22*-$C$7 -> -31.258245 | H23: =H22*-$C$7 -> -32.231875 | I23: =H23 -> -32.231875
B24: Less: CapEx | C24: =Model!V254 -> -52.868 | D24: =Model!AA254 -> -103.80345 | E24: =Model!AF254 -> -112.83299 | F24: =Model!AK254 -> -120.52828 | G24: =Model!AL254 -> -124.04066 | H24: =Model!AM254 -> -127.90427 | I24: =H24 -> -127.90427
B25: Less: Change in NWC | C25: =(Model!Q177-Model!V177)+(Model!Q178-Model!V178)+(Model!Q180-Model!V180)+(Model!V193-Model!Q193)+(Model!V195-Model!Q195) -> -112.002 | D25: =(Model!V177-Model!AA177)+(Model!V178-Model!AA178)+(Model!V180-Model!AA180)+(Model!AA193-Model!V193)+(Model!AA195-Model!V195) -> -163.99062 | E25: =(Model!AA177-Model!AF177)+(Model!AA178-Model!AF178)+(Model!AA180-Model!AF180)+(Model!AF193-Model!AA193)+(Model!AF195-Model!AA195) -> -58.399251 | F25: =(Model!AF177-Model!AK177)+(Model!AF178-Model!AK178)+(Model!AF180-Model!AK180)+(Model!AK193-Model!AF193)+(Model!AK195-Model!AF195) -> -60.23636 | G25: =(Model!AK177-Model!AL177)+(Model!AK178-Model!AL178)+(Model!AK180-Model!AL180)+(Model!AL193-Model!AK193)+(Model!AL195-Model!AK195) -> -30.446161 | H25: =(Model!AL177-Model!AM177)+(Model!AL178-Model!AM178)+(Model!AL180-Model!AM180)+(Model!AM193-Model!AL193)+(Model!AM195-Model!AL195) -> -33.490777 | I25: =H25 -> -33.490777
B26: Unlevered Free Cash Flow | C26: =C19+SUM(C22:C25) -> 163.05512 | D26: =D19+SUM(D22:D25) -> 73.536692 | E26: =E19+SUM(E22:E25) -> 291.78823 | F26: =F19+SUM(F22:F25) -> 323.63064 | G26: =G19+SUM(G22:G25) -> 366.594 | H26: =H19+SUM(H22:H25) -> 378.03985 | I26: =I19+SUM(I22:I25) -> 378.03985
B27: Stubbed UFCF | C27: =C26 -> 163.05512 | D27: =D26*C5 -> 55.152519 | E27: =E26 -> 291.78823 | F27: =F26 -> 323.63064 | G27: =G26 -> 366.594 | H27: =H26 -> 378.03985 | I27: =I26 -> 378.03985
B29: Discount Period | D29: =C5/2 -> 0.375 | E29: =D29+1 -> 1.375 | F29: =E29+1 -> 2.375 | G29: =F29+1 -> 3.375 | H29: =G29+1 -> 4.375 | I29: =H29 -> 4.375
B30: Discount Factor | D30: =1/(1+$D$35)^D29 -> 0.96819997 | E30: =1/(1+$D$35)^E29 -> 0.88825685 | F30: =1/(1+$D$35)^F29 -> 0.81491454 | G30: =1/(1+$D$35)^G29 -> 0.74762802 | H30: =1/(1+$D$35)^H29 -> 0.68589727 | I30: =1/(1+$D$35)^I29 -> 0.68589727
B31: PV of Free Cash Flows | D31: =D30*D27 -> 53.398667 | E31: =E30*E27 -> 259.1829 | F31: =F30*F27 -> 263.73132 | G31: =G30*G27 -> 274.07594 | H31: =H30*H27 -> 259.2965
B34: Perpetuity Growth Methodology
B35: Discount Rate | D35: =C8 -> 0.09
B36: Perpetuity Growth Rate | D36: =C9 -> 0.035
B38: Discount Factor for TV | D38: =I30 -> 0.68589727
B39: Free Cash Flow in Terminal Year | D39: =I26 -> 378.03985
B40: Terminal Value | D40: =(D39*(1+D36)/(D35-D36)) -> 7114.0226
B42: Present Value of Projection Period | D42: =SUM(D31:H31) -> 1109.6853
B43: Present Value of Terminal Value | D43: =D40*D38 -> 4879.4887
B44: Implied Enterprise Value | D44: =SUM(D42:D43) -> 5989.174
B46: Less: Net Debt | D46: =TSM!L17+TSM!L19 -> 625.785
B47: Implied Equity Value | D47: =D44-D46 -> 5363.389
B49: FDSO | D49: =TSM!G20 -> 61.390177
B50: Implied DCF Value Per Share | D50: =D47/D49 -> 87.365589
B52: Current Price | D52: =TSM!C6 -> 103.84
B53: Implied Premium / (Discount) to Current | D53: =D50/D52-1 -> -0.15865187
B55: Implied Terminal EBITDA Multiple Calculation
B56: Adjusted Terminal Valuation | D56: =+D40*(1+D35)^(0.5) -> 7427.2577
B57: Terminal Year EBITDA | D57: =I19+I22 -> 571.66677
...

Sheet TSM
B3: Treasury Stock Method Enterprise Value Build
B5: Ticker | C5: WWD
B6: Price | C6: 103.84
B7: As Of | C7: 44960
B8: Basic Shares | C8: 59.72849
D11: Options | E11: WAEP | F11: In / Out | G11: Proceeds | I11: Market Capitalization
B12: Options | D12: 5.836 | E12: 75.27 | F12: =IF(E12>$C$6,0,1) -> 1 | G12: =F12*E12*D12 -> 439.27572 | I12: ="Current Price (as of "&TEXT(C7,"m/d/yy")&")" -> Current Price (as of 2/3/23) | L12: =C6 -> 103.84
B13: RSUs | D13: 0.056 | F13: =IF(E13>$C$6,0,1) -> 1 | G13: =F13*E13*D13 -> 0 | I13: Target Price Premium | L13: 0
I14: Target Price | L14: =L12*(1+L13) -> 103.84
B15: Total | D15: =SUM(D12:D14) -> 5.892 | G15: =SUM(G12:G14) -> 439.27572 | I15: Fully-Diluted Shares | L15: =G20 -> 61.390177
B16: Total ITM | D16: =SUMPRODUCT(D12:D14,F12:F14) -> 5.892 | I16: Implied Equity Value | L16: =L14*L15 -> 6374.756
I17: Plus: Debt | L17: =649.093+76.027 -> 725.12
B18: Shares Repurchased | G18: =G15/C6 -> 4.2303132
B19: Shares Issues (Dilution) | G19: =D16-G18 -> 1.6616868 | I19: Less: Cash & Cash Equivalents | L19: =-Model!W176 -> -99.335
B20: Fully Diluted Shares Outstanding | G20: =C8+G19 -> 61.390177 | I20: Implied Total Enterprise Value | L20: =SUM(L16:L19) -> 7000.541
I23: Valuation | K23: Metric | L23: Multiple
I24: 2023 FY EBIT | K24: =Model!AA168 -> 242.89665 | L24: =$L$20/K24 -> 28.821069
I25: 2023 FY EBITDA | K25: =Model!AA170 -> 367.49679 | L25: =$L$20/K25 -> 19.049258
I27: 2024 FY EBIT | K27: =Model!AF168 -> 356.0548 | L27: =$L$20/K27 -> 19.661415
I28: 2024 FY EBITDA | K28: =Model!AF170 -> 491.45438 | L28: =$L$20/K28 -> 14.244539

Sheet vs. Consensus
B3: Consensus | F3: Model
B5: FY | C5: Sep'23E | D5: Sep'24E | F5: FY | G5: Sep'23E | H5: Sep'24E
B7: Revenue | C7: 2658.72 | D7: 2866.31 | F7: Revenue | G7: =Model!AA120 -> 2654.9204 | H7: =Model!AF120 -> 2893.1535
B9: EBIT | C9: 278.73 | D9: 343.74 | F9: EBIT | G9: =Model!AA168 -> 242.89665 | H9: =Model!AF168 -> 356.0548
B10: Margin | C10: =C9/C7 -> 0.10483616 | D10: =D9/D7 -> 0.11992422 | F10: Margin | G10: =G9/G7 -> 0.091489238 | H10: =H9/H7 -> 0.12306806
B12: Net Income | C12: 198.08 | D12: 251.72 | F12: Net Income | G12: =Model!AA158 -> 165.72135 | H12: =Model!AF158 -> 253.49015
B13: Margin | C13: =C12/C7 -> 0.074502016 | D13: =D12/D7 -> 0.087820229 | F13: Margin | G13: =G12/G7 -> 0.06242046 | H13: =H12/H7 -> 0.087617247

Sheet WACC Analysis>>

Sheet WACC
B2: WACC Calculation
G5: Prospective Cost of Equity and WACC
G6: Low | H6: High
B7: Prospective US Equity Risk Premium | G7: 0.055 | H7: 0.065
B9: Multiply by: Prospective Levered Equity Beta | G9: ='Beta Determination'!N48 -> 0.99416393 | H9: ='Beta Determination'!O48 -> 1.2054502
B10: Corresponding Prospective Unlevered Equity Beta | G10: ='Beta Determination'!N46 -> 0.8370093 | H10: ='Beta Determination'!O46 -> 1.0148961
B11: Adjusted Prospective US Equity Risk Premium | G11: =G7*G9 -> 0.054679016 | H11: =H7*H9 -> 0.078354265
B12: Add: Risk-Free Rate of Return (Rf) | G12: 0.0377 | H12: =G12 -> 0.0377
B13: Illustrative Prospective Cost of Equity | G13: =SUM(G11:G12) -> 0.092379016 | H13: =SUM(H11:H12) -> 0.11605426
B14: Multiply by: Prospective E/(D+E) | G14: =1-G30 -> 0.80797145 | H14: =1-H30 -> 0.80797145
B15: Cost of Equity Portion | G15: =G13*G14 -> 0.074639607 | H15: =H13*H14 -> 0.093768532 | N15: 22FY
B17: Assumed Cost of Debt (Kd) | G17: =N19 -> 0.046115588 | H17: =G17 -> 0.046115588 | L17: Interest Exp | N17: =Model!V142 -> -32.731
B18: Assumed Tax Rate | G18: ='Beta Determination'!F3 -> 0.21 | H18: =G18 -> 0.21 | L18: Tot. Debt | N18: =Model!V198 -> 709.76
B19: After-Tax Cost of Debt | G19: =G17*(1-G18) -> 0.036431315 | H19: =H17*(1-H18) -> 0.036431315 | L19: Implied Rate | N19: =-N17/N18 -> 0.046115588
B20: Multiply by: Prospective D/(D+E) | G20: =1-G14 -> 0.19202855 | H20: =1-H14 -> 0.19202855
B21: Cost of Debt Portion | G21: =G19*G20 -> 0.0069958526 | H21: =H19*H20 -> 0.0069958526
B23: Prospective WACC Range | G23: =G21+G15 -> 0.08163546 | H23: =H21+H15 -> 0.10076438
B25: Midpoint WACC | G25: =AVERAGE(G23:H23) -> 0.091199922
B26: For DCF | G26: =ROUND(G25,1) -> 0.1
B28: Memo:
B29: D/E | G29: ='Beta Determination'!N47 -> 0.2376675 | H29: ='Beta Determination'!O47 -> 0.2376675
B30: D/(D+E) | G30: =G29/(1+G29) -> 0.19202855 | H30: =H29/(1+H29) -> 0.19202855

Sheet Beta Determination
C3: Woodward Marginal Tax Rate | F3: 0.21
F6: Levered Equity Beta | M6: Unlevered Equity Beta(4)
F7: Bloomberg Historical Adjusted Levered Equity Beta | I7: Market Value of Common Equity | J7: Total Debt + Pref Stock | K7: Leverage Ratios | M7: Bloomberg Historical Adjusted Unlevered Equity Beta
C8: Company | F8: 1 Year | G8: 2 Years | H8: 5 Years | K8: D / E | L8: D / (D + E) | M8: 1 Year | N8: 2 Years | O8: 5 Years | Q8: Marginal Tax Rate
C10: Woodward | F10: 1.061 | G10: 1.012 | H10: 1.343 | I10: =TSM!L16 -> 6374.756 | J10: =TSM!L17 -> 725.12 | K10: =J10/I10 -> 0.11374867 | L10: =J10/(J10+I10) -> 0.10213136 | N10: =G10/(1+($K10*(1-($Q10)))) -> 0.9285584 | O10: =H10/(1+($K10*(1-($Q10)))) -> 1.2322667 | Q10: 0.21
C12: Aerospace Peers
C13: Curtiss-Wright | F13: 0.842 | G13: 0.842 | H13: 1.177 | I13: 6555.13 | J13: =1343.71 -> 1343.71 | K13: =J13/I13 -> 0.20498602 | L13: =J13/(J13+I13) -> 0.17011485 | M13: =F13/(1+($K13*(1-($Q13)))) -> 0.72465081 | N13: =G13/(1+($K13*(1-($Q13)))) -> 0.72465081 | O13: =H13/(1+($K13*(1-($Q13)))) -> 1.012962 | Q13: 0.21
C14: Hexcel | F14: 1.104 | G14: 1.101 | H14: 1.284 | I14: 5966.17 | J14: 797 | K14: =J14/I14 -> 0.13358654 | L14: =J14/(J14+I14) -> 0.11784415 | M14: =F14/(1+($K14*(1-($Q14)))) -> 0.99861301 | N14: =G14/(1+($K14*(1-($Q14)))) -> 0.99589939 | O14: =H14/(1+($K14*(1-($Q14)))) -> 1.1614303 | Q14: 0.21
C15: Moog | F15: 1.004 | G15: 1.028 | H15: 1.286 | I15: 2993.27 | J15: 916.88 | K15: =J15/I15 -> 0.30631383 | L15: =J15/(J15+I15) -> 0.23448717 | M15: =F15/(1+($K15*(1-($Q15)))) -> 0.80838145 | N15: =G15/(1+($K15*(1-($Q15)))) -> 0.82770531 | O15: =H15/(1+($K15*(1-($Q15)))) -> 1.0354368 | Q15: 0.21
C16: Parker-Hannafin | F16: 1.103 | G16: 1.077 | H16: 1.281 | I16: 45916.01 | J16: 14020.19 | K16: =J16/I16 -> 0.30534426 | L16: =J16/(J16+I16) -> 0.23391857 | M16: =F16/(1+($K16*(1-($Q16)))) -> 0.88864041 | N16: =G16/(1+($K16*(1-($Q16)))) -> 0.86769331 | O16: =H16/(1+($K16*(1-($Q16)))) -> 1.0320475 | Q16: 0.21
C17: Transdigm | F17: 1.157 | G17: 1.098 | H17: 1.286 | I17: 40603.22 | J17: 19649 | K17: =J17/I17 -> 0.48392714 | L17: =J17/(J17+I17) -> 0.32611247 | M17: =F17/(1+($K17*(1-($Q17)))) -> 0.8370093 | N17: =G17/(1+($K17*(1-($Q17)))) -> 0.79432689 | O17: =H17/(1+($K17*(1-($Q17)))) -> 0.93033186 | Q17: 0.21
C18: Mean | F18: =AVERAGE(F13:F17) -> 1.042 | G18: =AVERAGE(G13:G17) -> 1.0292 | H18: =AVERAGE(H13:H17) -> 1.2628 | I18: =AVERAGE(I13:I17) -> 20406.76 | J18: =AVERAGE(J13:J17) -> 7345.356 | K18: =AVERAGE(K13:K17) -> 0.28683156 | L18: =AVERAGE(L13:L17) -> 0.21649544 | M18: =AVERAGE(M13:M17) -> 0.851459 | ... O18: =AVERAGE(O13:O17) -> 1.0344417
C19: Median | F19: =MEDIAN(F13:F17) -> 1.103 | G19: =MEDIAN(G13:G17) -> 1.077 | H19: =MEDIAN(H13:H17) -> 1.284 | I19: =MEDIAN(I13:I17) -> 6555.13 | J19: =MEDIAN(J13:J17) -> 1343.71 | K19: =MEDIAN(K13:K17) -> 0.30534426 | L19: =MEDIAN(L13:L17) -> 0.23391857 | M19: =MEDIAN(M13:M17) -> 0.8370093 | ... O19: =MEDIAN(O13:O17) -> 1.0320475
N21: Low | O21: High
C22: Reference Range - Prospective Unlevered Equity Beta | N22: =MIN(M19:O19) -> 0.82770531 | O22: =MAX(M19:O19) -> 1.0320475
C23: Target Debt / Equity Ratio | N23: =K19 -> 0.30534426 | O23: =N23 -> 0.30534426
C24: Refernce Range - Prospective Levered Equity Beta | N24: =N22*(1+(N23*(1-$F$3))) -> 1.027366 | O24: =O22*(1+(O23*(1-$F$3))) -> 1.281
C26: Industrial Peers
C27: Caterpillar | F27: 0.973 | G27: 0.924 | H27: 1.003 | I27: 130610 | J27: 29750 | K27: =J27/I27 -> 0.22777735 | L27: =J27/(J27+I27) -> 0.18552008 | M27: =F27/(1+($K27*(1-($Q27)))) -> 0.82461533 | N27: =G27/(1+($K27*(1-($Q27)))) -> 0.78308794 | O27: =H27/(1+($K27*(1-($Q27)))) -> 0.85004026 | Q27: 0.21
C28: Eaton | F28: 0.916 | G28: 0.946 | H28: 1.097 | I28: 65447 | J28: 9008 | K28: =J28/I28 -> 0.13763809 | L28: =J28/(J28+I28) -> 0.12098583 | M28: =F28/(1+($K28*(1-($Q28)))) -> 0.82616744 | N28: =G28/(1+($K28*(1-($Q28)))) -> 0.85322532 | O28: =H28/(1+($K28*(1-($Q28)))) -> 0.98941668 | Q28: 0.21
C29: Flowserve | F29: 1.125 | G29: 1.088 | H29: 1.235 | I29: 4633.58 | J29: 1258.45 | K29: =J29/I29 -> 0.27159345 | L29: =J29/(J29+I29) -> 0.21358513 | M29: =F29/(1+($K29*(1-($Q29)))) -> 0.92626225 | N29: =G29/(1+($K29*(1-($Q29)))) -> 0.89579852 | O29: =H29/(1+($K29*(1-($Q29)))) -> 1.0168301 | Q29: 0.21
C30: Pentair | F30: 1.124 | G30: 1.076 | H30: 1.204 | I30: 9889.01 | J30: 2448.1 | K30: =J30/I30 -> 0.24755764 | L30: =J30/(J30+I30) -> 0.19843383 | M30: =F30/(1+($K30*(1-($Q30)))) -> 0.94013692 | N30: =G30/(1+($K30*(1-($Q30)))) -> 0.89998872 | O30: =H30/(1+($K30*(1-($Q30)))) -> 1.0070506 | Q30: 0.21
C31: Mean | F31: =AVERAGE(F27:F30) -> 1.0345 | G31: =AVERAGE(G27:G30) -> 1.0085 | H31: =AVERAGE(H27:H30) -> 1.13475 | I31: =AVERAGE(I27:I30) -> 52644.897 | J31: =AVERAGE(J27:J30) -> 10616.137 | K31: =AVERAGE(K27:K30) -> 0.22114163 | L31: =AVERAGE(L27:L30) -> 0.17963122 | M31: =AVERAGE(M27:M30) -> 0.87929548 | ... O31: =AVERAGE(O27:O30) -> 0.96583441
C32: Median | F32: =MEDIAN(F27:F30) -> 1.0485 | G32: =MEDIAN(G27:G30) -> 1.011 | H32: =MEDIAN(H27:H30) -> 1.1505 | I32: =MEDIAN(I27:I30) -> 37668.005 | J32: =MEDIAN(J27:J30) -> 5728.05 | K32: =MEDIAN(K27:K30) -> 0.2376675 | L32: =MEDIAN(L27:L30) -> 0.19197696 | M32: =MEDIAN(M27:M30) -> 0.87621485 | ... O32: =MEDIAN(O27:O30) -> 0.99823363
N34: Low | O34: High
C35: Reference Range - Prospective Unlevered Equity Beta | N35: =MIN(M32:O32) -> 0.87451192 | O35: =MAX(M32:O32) -> 0.99823363
C36: Target Debt / Equity Ratio | N36: =K32 -> 0.2376675 | O36: =N36 -> 0.2376675
C37: Refernce Range - Prospective Levered Equity Beta | N37: =N35*(1+(N36*(1-$F$3))) -> 1.0387079 | O37: =O35*(1+(O36*(1-$F$3))) -> 1.1856593
C40: Total Comp Set
C42: Mean | F42: =AVERAGE(F10,F13,F14,F15,F16,F17,F27,F28,F29,F30) -> 1.0409 | G42: =AVERAGE(G10,G13,G14,G15,G16,G17,G27,G28,G29,G30) -> 1.0192 | H42: =AVERAGE(H10,H13,H14,H15,H16,H17,H27,H28,H29,H30) -> 1.2196 | I42: =AVERAGE(I10,I13,I14,I15,I16,I17,I27,I28,I29,I30) -> 31898.815 | J42: =AVERAGE(J10,J13,J14,J15,J16,J17,J27,J28,J29,J30) -> 7991.645 | K42: =AVERAGE(K10,K13,K14,K15,K16,K17,K27,K28,K29,K30) -> 0.2432473 | L42: =AVERAGE(L10,L13,L14,L15,L16,L17,L27,L28,L29,L30) -> 0.19031334 | M42: =AVERAGE(M10,M13,M14,M15,M16,M17,M27,M28,M29,M30) -> 0.86383077 | ... O42: =AVERAGE(O10,O13,O14,O15,O16,O17,O27,O28,O29,O30) -> 1.0267813
C43: Median | F43: =MEDIAN(F10,F13,F14,F15,F16,F17,F27,F28,F29,F30) -> 1.082 | G43: =MEDIAN(G10,G13,G14,G15,G16,G17,G27,G28,G29,G30) -> 1.052 | H43: =MEDIAN(H10,H13,H14,H15,H16,H17,H27,H28,H29,H30) -> 1.258 | I43: =MEDIAN(I10,I13,I14,I15,I16,I17,I27,I28,I29,I30) -> 8222.07 | J43: =MEDIAN(J10,J13,J14,J15,J16,J17,J27,J28,J29,J30) -> 1895.905 | K43: =MEDIAN(K10,K13,K14,K15,K16,K17,K27,K28,K29,K30) -> 0.2376675 | L43: =MEDIAN(L10,L13,L14,L15,L16,L17,L27,L28,L29,L30) -> 0.19197696 | M43: =MEDIAN(M10,M13,M14,M15,M16,M17,M27,M28,M29,M30) -> 0.8370093 | ... O43: =MEDIAN(O10,O13,O14,O15,O16,O17,O27,O28,O29,O30) -> 1.0148961
N45: Low | O45: High
C46: Reference Range - Prospective Unlevered Equity Beta | N46: =MIN(M43:O43) -> 0.8370093 | O46: =MAX(M43:O43) -> 1.0148961
C47: Target Debt / Equity Ratio | N47: =K43 -> 0.2376675 | O47: =N47 -> 0.2376675
C48: Refernce Range - Prospective Levered Equity Beta | N48: =N46*(1+(N47*(1-$F$3))) -> 0.99416393 | O48: =O46*(1+(O47*(1-$F$3))) -> 1.2054502

Sheet Catalyst Calendar
B3: Month | C3: Day | D3: Event | E3: Potential Catalyst
B4: February | C4: ~6-28 | D4: Potential Air India announcement for 500 unit order from Boeing & Airbus (rumored for Jan 27th) | E4: Potential upside catalyst to stock
B5: February | C5: 6 | D5: Cummins Q4 2022 Earnings Call (10am ET) | E5: Power systems guidance / trend information - potential margin expansion may signal near-term guidance for WWD on industrial segment
B6: February | C6: 16 | D6: Cowen Aerospace / Defense & Industrials Conference | E6: Potential investor news from attendees (Tier 1s and OEMs)
B7: February | C7: 22 | D7: Barclays Industrials Conference | E7: Potential investor news from attendees (Tier 1s and OEMs ie. Hexcel, Boeing in attendance)
B8: February | C8: 22 | D8: Curtiss-Wright Fourth Quarter and Full Year 2022 Earnings Presentation (9am) | E8: Competitive information (supply chain progression and other guidance)
B9: February | C9: 23 | D9: Rolls-Royce 2022 Full Year Results Print | E9: Key customer - guidance and general trend information impacting WWD
B10: February | C10: 23 | D10: Citi 2023 Global Industrial Tech and Mobility Conference | E10: Potential investor news from attendees (Tier 1s and OEMs ie. Curtiss-Wright to participate)
B11: February | C11: 23 | D11: Wartsila London Roadshow | E11: Key customer - guidance and general trend information impacting WWD
B12: February | C12: 27 | D12: Wartsila CEO Call | E12: Key customer - guidance and general trend information impacting WWD
B13: February | C13: 28-3/5 | D13: Avalon 2023 Australian International Airshow & A&D Exposition | E13: Potential announcements from customers on order or other competitive information
B14: March | C14: 1 | D14: Alembic Global Advisors Conference | E14: Potential investor news from attendees (Tier 1s and OEMs ie. Hexcel, Boeing in attendance)
... B23: June | C23: 19 | D23: Paris Air Show | E23: Premier aviation event and typically can expect order announcements and other key information dissemination

Sheet Other Information>>

Sheet Air India Scenario
B2: Air India Rumored order | E2: United Order
B4: Aircraft | C4: Units | E4: Aircraft | F4: Units
B5: A320neo | C5: 235 | E5: A320neo
B6: A350 | C6: 40 | E6: A350
B7: 737 MAX | C7: 190 | E7: 737 MAX
B8: 787 | C8: 20 | E8: 787 | F8: 100
B9: 777X | C9: 10 | E9: 777X
B11: $/SS - WWD ($millions) | E11: $/SS - WWD ($millions)
B12: A320neo | C12: =Model!B68 -> 0.23 | E12: A320neo | F12: =C12 -> 0.23
B13: A350 | C13: =Model!B70 -> 0.046 | E13: A350 | F13: =C13 -> 0.046
B14: 737 MAX | C14: =Model!B59 -> 0.275 | E14: 737 MAX | F14: =C14 -> 0.275
B15: 787 | C15: =Model!B64 -> 0.21 | E15: 787 | F15: =C15 -> 0.21
B16: 777X | C16: =Model!B63 -> 0.43 | E16: 777X | F16: =C16 -> 0.43
B18: Value | E18: Value
B19: A320neo | C19: =C12*C5 -> 54.05 | E19: A320neo | F19: =F12*F5 -> 0
B20: A350 | C20: =C13*C6 -> 1.84 | E20: A350 | F20: =F13*F6 -> 0
B21: 737 MAX | C21: =C14*C7 -> 52.25 | E21: 737 MAX | F21: =F14*F7 -> 0
B22: 787 | C22: =C15*C8 -> 4.2 | E22: 787 | F22: =F15*F8 -> 21
B23: 777X | C23: =C16*C9 -> 4.3 | E23: 777X | F23: =F16*F9 -> 0
B24: Total | C24: =SUM(C19:C23) -> 116.64 | E24: Total | F24: =SUM(F19:F23) -> 21 | H24: =C24/F24 -> 5.5542857
L30: Stock Price - United Boeing 787 Order
M31: December 9th, 2022 (Unaffected) | N31: December 13th, 2022 | O31: % Change (Reaction)
L32: Boeing | M32: 179.54 | N32: 187.13 | O32: =N32/M32-1 -> 0.042274702
L33: Woodward | M33: 92.92 | N33: 95.92 | O33: =N33/M33-1 -> 0.032285837
L34: Average | O34: =AVERAGE(O32:O33) -> 0.03728027
L36: Implied WWD Ship Set Value - Un-discounted @ Current $ / SS
L37: United 787 Order | O37: =F24 -> 21
L38: Air India Rumored Order | O38: =C24 -> 116.64
L39: Implied Value Multiple | O39: =O38/O37 -> 5.5542857
L41: Conservative Discount to Implied Reaction Multiple | O41: -0.5
L43: Implied Potential Stock Reaction @ Discounted Implied Reaction Multiple | O43: =O39*(1+O41)*O33 -> 0.089662382

Sheet Historical deliveries - Airbus
A2: 2021 Annual Deliveries Summary | B2: A220 | C2: A320Family | D2: A330 | E2: A340 | F2: A350 | G2: A380 | H2: Total
B3: 50 | C3: 483 | D3: 18 | F3: 53 | G3: 5 | H3: =SUM(B3:G3) -> 609
A5: 2020 Annual Deliveries Summary | B5: A220 | C5: A320Family | D5: A330 | E5: A340 | F5: A350 | G5: A380 | H5: Total
B6: 38 | C6: 446 | D6: 19 | F6: 59 | G6: 4 | H6: =SUM(B6:G6) -> 566
A8: 2019 Annual Deliveries Summary | B8: A220 | C8: A320Family | D8: A330 | E8: A340 | F8: A350 | G8: A380 | H8: Total
B9: 48 | C9: 642 | D9: 53 | F9: 112 | G9: 8 | H9: =SUM(B9:G9) -> 863
A11: 2018 Annual Deliveries Summary | B11: A220 | C11: A320Family | D11: A330 | E11: A340 | F11: A350 | G11: A380 | H11: Total
B12: 20 | C12: 626 | D12: 49 | F12: 93 | G12: 12 | H12: =SUM(B12:G12) -> 800
A14: 2017 Annual Deliveries Summary | C14: A320Family | D14: A330 | E14: A340 | F14: A350 | G14: A380 | H14: Total
C15: 558 | D15: 67 | F15: 78 | G15: 15 | H15: =SUM(B15:G15) -> 718
A17: 2016 Annual Deliveries Summary | C17: A320Family | D17: A330 | E17: A340 | F17: A350 | G17: A380 | H17: Total
C18: 545 | D18: 66 | F18: 49 | G18: 28 | H18: =SUM(B18:G18) -> 688
A20: 2015 Annual Deliveries Summary | C20: A320Family | D20: A330 | E20: A340 | F20: A350 | G20: A380 | H20: Total
C21: 491 | D21: 103 | F21: 14 | G21: 27 | H21: =SUM(B21:G21) -> 635
A23: 2014 Annual Deliveries Summary | C23: A320Family | D23: A330 | E23: A340 | F23: A350 | G23: A380 | H23: Total
C24: 490 | D24: 108 | F24: 1 | G24: 30 | H24: =SUM(B24:G24) -> 629
A26: 2013 Annual Deliveries Summary | C26: A320Family | D26: A330 | E26: A340 | F26: A350 | G26: A380 | H26: Total
C27: 493 | D27: 108 | G27: 25 | H27: =SUM(B27:G27) -> 626
A29: 2012 Annual Deliveries Summary | C29: A320Family | D29: A330 | E29: A340 | F29: A350 | G29: A380 | H29: Total
C30: 455 | D30: 101 | E30: 2 | G30: 30 | H30: =SUM(B30:G30) -> 588
A32: 2011 Annual Deliveries Summary | C32: A320Family | D32: A330 | E32: A340 | F32: A350 | G32: A380 | H32: Total
C33: 421 | D33: 85 | E33: 2 | G33: 26 | H33: =SUM(B33:G33) -> 534
A35: 2010 Annual Deliveries Summary | C35: A320Family | D35: A330 | E35: A340 | F35: A350 | G35: A380 | H35: Total
C36: 401 | D36: 87 | E36: 4 | G36: 18 | H36: =SUM(B36:G36) -> 510
A38: 2009 Annual Deliveries Summary | C38: A320Family | D38: A330 | E38: A340 | F38: A350 | G38: A380 | H38: Total
C39: 402 | D39: 78 | E39: 8 | G39: 10 | H39: =SUM(B39:G39) -> 498
A41: 2008 Annual Deliveries Summary | C41: A320Family | D41: A330 | E41: A340 | F41: A350 | G41: A380 | H41: Total
C42: 386 | D42: 72 | E42: 13 | G42: 12 | H42: =SUM(B42:G42) -> 483
A44: 2007 Annual Deliveries Summary | B44: A310/A300-600 | C44: A320Family | D44: A330 | E44: A340 | F44: A350 | G44: A380 | H44: Total
B45: 6 | C45: 367 | D45: 68 | E45: 11 | G45: 1 | H45: =SUM(B45:G45) -> 453
A47: 2006 Annual Deliveries Summary | B47: A310/A300-600 | C47: A320Family | D47: A330 | E47: A340 | F47: A350 | G47: A380 | H47: Total
B48: 9 | C48: 339 | D48: 62 | E48: 24 | H48: =SUM(B48:G48) -> 434

Sheet Airbus Deliveries 2022
C2: January | D2: February | E2: March | F2: April | G2: May | H2: June | I2: July | J2: August | K2: September | L2: October | M2: November | N2: December
B3: A220-100 | C3: 2 | D3: 1 | E3: 2 | L3: 1
B4: A220-300 | D4: 3 | E4: 3 | F4: 4 | G4: 4 | H4: 6 | I4: 5 | K4: 4 | L4: 4 | M4: 6 | N4: 8
B5: A319neo | D5: 2 | H5: 1 | I5: 1 | J5: 1 | K5: 1
B6: A320neo | C6: 13 | D6: 14 | E6: 22 | F6: 20 | G6: 19 | H6: 21 | I6: 14 | J6: 19 | K6: 23 | L6: 21 | M6: 28 | N6: 32
B7: A321neo | C7: 11 | D7: 20 | E7: 27 | F7: 17 | G7: 18 | H7: 25 | I7: 20 | J7: 13 | K7: 18 | L7: 26 | M7: 25 | N7: 44
B8: A330-200 | D8: 1 | E8: 1 | H8: 1 | M8: 1 | N8: 1
B9: A330-300 | F9: 1 | H9: 1 | I9: 1 | L9: 1
B10: A330-800 | K10: 2 | M10: 1
B11: A330-900 | D11: 2 | E11: 2 | F11: 1 | G11: 3 | J11: 2 | K11: 3 | L11: 2 | M11: 2 | N11: 3
B12: A350-900 | C12: 4 | D12: 5 | E12: 4 | F12: 3 | G12: 3 | H12: 5 | I12: 5 | J12: 3 | K12: 3 | L12: 4 | M12: 5 | N12: 8
B13: A350-1000 | D13: 1 | E13: 2 | F13: 2 | J13: 1 | K13: 1 | L13: 1 | N13: 2
B14: Total | C14: =SUM(C3:C13) -> 30 | D14: =SUM(D3:D13) -> 49 | E14: =SUM(E3:E13) -> 63 | F14: =SUM(F3:F13) -> 48 | G14: =SUM(G3:G13) -> 47 | H14: =SUM(H3:H13) -> 60 | I14: =SUM(I3:I13) -> 46 | J14: =SUM(J3:J13) -> 39 | ... N14: =SUM(N3:N13) -> 98
B17: A320neo | C17: =SUM(C5:C7) -> 24 | D17: =SUM(D5:D7) -> 36 | E17: =SUM(E5:E7) -> 49 | F17: =SUM(F5:F7) -> 37 | G17: =SUM(G5:G7) -> 37 | H17: =SUM(H5:H7) -> 47 | I17: =SUM(I5:I7) -> 35 | J17: =SUM(J5:J7) -> 33 | ... N17: =SUM(N5:N7) -> 76
B18: A220 | C18: =SUM(C3:C4) -> 2 | D18: =SUM(D3:D4) -> 4 | E18: =SUM(E3:E4) -> 5 | F18: =SUM(F3:F4) -> 4 | G18: =SUM(G3:G4) -> 4 | H18: =SUM(H3:H4) -> 6 | I18: =SUM(I3:I4) -> 5 | J18: =SUM(J3:J4) -> 0 | ... N18: =SUM(N3:N4) -> 8
B19: A350 | C19: =SUM(C12:C13) -> 4 | D19: =SUM(D12:D13) -> 6 | E19: =SUM(E12:E13) -> 6 | F19: =SUM(F12:F13) -> 5 | G19: =SUM(G12:G13) -> 3 | H19: =SUM(H12:H13) -> 5 | I19: =SUM(I12:I13) -> 5 | J19: =SUM(J12:J13) -> 4 | ... N19: =SUM(N12:N13) -> 10
B20: A330neo | C20: =SUM(C8:C11) -> 0 | D20: =SUM(D8:D11) -> 3 | E20: =SUM(E8:E11) -> 3 | F20: =SUM(F8:F11) -> 2 | G20: =SUM(G8:G11) -> 3 | H20: =SUM(H8:H11) -> 2 | I20: =SUM(I8:I11) -> 1 | J20: =SUM(J8:J11) -> 2 | ... N20: =SUM(N8:N11) -> 4
B21: Total | C21: =SUM(C17:C20) -> 30 | D21: =SUM(D17:D20) -> 49 | E21: =SUM(E17:E20) -> 63 | F21: =SUM(F17:F20) -> 48 | G21: =SUM(G17:G20) -> 47 | H21: =SUM(H17:H20) -> 60 | I21: =SUM(I17:I20) -> 46 | J21: =SUM(J17:J20) -> 39 | ... N21: =SUM(N17:N20) -> 98
B23: Quarterly
B25: A320neo | E25: =SUM(C17:E17) -> 109 | H25: =SUM(F17:H17) -> 121 | K25: =SUM(I17:K17) -> 110 | N25: =SUM(L17:N17) -> 176
B26: A220 | E26: =SUM(C18:E18) -> 11 | H26: =SUM(F18:H18) -> 14 | K26: =SUM(I18:K18) -> 9 | N26: =SUM(L18:N18) -> 19
B27: A350 | E27: =SUM(C19:E19) -> 16 | H27: =SUM(F19:H19) -> 13 | K27: =SUM(I19:K19) -> 13 | N27: =SUM(L19:N19) -> 20
B28: A330neo | E28: =SUM(C20:E20) -> 6 | H28: =SUM(F20:H20) -> 7 | K28: =SUM(I20:K20) -> 8 | N28: =SUM(L20:N20) -> 11
B29: Total | E29: =SUM(E25:E28) -> 142 | H29: =SUM(H25:H28) -> 155 | K29: =SUM(K25:K28) -> 140 | N29: =SUM(N25:N28) -> 226

Sheet Boeing Historical Deliveries
A1: Sum of Delivery Total | B1: Column Labels
B2: 2013 | C2: 2014 | D2: 2015 | E2: 2016 | F2: 2017 | G2: 2018 | S2: 2018 Total | T2: 2019 | AF2: 2019 Total | AG2: 2020 | AS2: 2020 Total | AT2: 2021 | BF2: 2021 Total | BG2: 2022 | BS2: 2022 Total | BT2: Grand Total
A3: Row Labels | G3: Jan | H3: Feb | I3: Mar | J3: Apr | K3: May | L3: Jun | M3: Jul | N3: Aug | O3: Sep | P3: Oct | Q3: Nov | R3: Dec | T3: Jan | U3: Feb | V3: Mar | W3: Apr | X3: May | Y3: Jun | Z3: Jul | AA3: Aug | AB3: Sep | AC3: Oct | AD3: Nov | AE3: Dec | AG3: Jan | AH3: Feb | AI3: Mar | AJ3: Apr | AK3: May | AL3: Jun | AM3: Jul | AN3: Aug | AO3: Sep | AP3: Oct | AQ3: Nov | AR3: Dec | AT3: Jan | AU3: Feb | AV3: Mar | AW3: Apr | AX3: May | AY3: Jun | AZ3: Jul | BA3: Aug | BB3: Sep | BC3: Oct | BD3: Nov | BE3: Dec | BG3: Jan | BH3: Feb | BI3: Mar | BJ3: Apr | BK3: May | BL3: Jun | BM3: Jul | BN3: Aug | BO3: Sep | BP3: Oct | BQ3: Nov | BR3: Dec
A4: 737 MAX | F4: 74 | G4: 9 | H4: 25 | I4: 26 | J4: 5 | K4: 18 | L4: 14 | M4: 34 | N4: 1 | O4: 26 | P4: 7 | Q4: 16 | R4: 75 | S4: 256 | U4: 4 | V4: 7 | W4: 2 | X4: 6 | Y4: 2 | Z4: 10 | AB4: 5 | AC4: 1 | AD4: 2 | AE4: 18 | AF4: 57 | AH4: 10 | AK4: 1 | AL4: 4 | AM4: 5 | AP4: 1 | AQ4: 3 | AR4: 3 | AS4: 27 | AU4: 22 | AV4: 32 | AW4: 7 | AX4: 26 | AY4: 13 | AZ4: 35 | BA4: 3 | BB4: 3 | BC4: 6 | BD4: 47 | BE4: 51 | BF4: 245 | BG4: 5 | BH4: 24 | BI4: 70 | BJ4: 38 | BK4: 31 | BL4: 19 | BM4: 35 | BN4: 25 | BO4: 19 | BP4: 18 | BQ4: 44 | BR4: 46 | BS4: 374 | BT4: 1033
A5: 737-700 | B5: 12 | C5: 11 | D5: 7 | E5: 6 | F5: 4 | Q5: 2 | S5: 2 | BT5: 42
A6: 737-700C | C6: 2 | E6: 3 | AB6: 2 | AF6: 2 | BT6: 7
A7: 737-800 | B7: 347 | C7: 386 | D7: 396 | E7: 411 | F7: 397 | G7: 3 | H7: 20 | I7: 18 | J7: 6 | K7: 20 | L7: 63 | M7: 33 | N7: 4 | O7: 18 | P7: 13 | Q7: 12 | R7: 59 | S7: 269 | U7: 6 | X7: 1 | Z7: 11 | AD7: 3 | AE7: 7 | AF7: 28 | AM7: 2 | AS7: 2 | BT7: 2236
A8: 737-800A | B8: 8 | C8: 13 | D8: 15 | E8: 18 | F8: 17 | G8: 11 | I8: 7 | S8: 18 | T8: 4 | V8: 13 | AF8: 17 | AG8: 10 | AI8: 1 | AK8: 3 | AS8: 14 | AT8: 14 | AV8: 2 | BF8: 16 | BG8: 1 | BI8: 11 | BS8: 12 | BT8: 148
A9: 737-900ER | B9: 67 | C9: 70 | D9: 73 | E9: 52 | F9: 37 | H9: 2 | I9: 5 | N9: 12 | P9: 3 | R9: 12 | S9: 34 | V9: 5 | AA9: 4 | AE9: 13 | AF9: 22 | BT9: 355
A10: 747-8 | B10: 5 | C10: 10 | D10: 11 | E10: 3 | F10: 6 | AU10: 1 | BF10: 1 | BT10: 36
A11: 747-8F | B11: 19 | C11: 9 | D11: 7 | E11: 6 | F11: 8 | P11: 6 | S11: 6 | U11: 1 | AC11: 5 | AD11: 1 | AF11: 7 | AH11: 4 | AK11: 1 | AS11: 5 | AU11: 6 | BF11: 6 | BG11: 3 | BH11: 2 | BS11: 5 | BT11: 78
A12: 767-2C | G12: 7 | N12: 3 | S12: 10 | T12: 7 | AA12: 5 | AB12: 11 | AF12: 23 | AG12: 1 | AN12: 4 | AO12: 6 | AS12: 11 | BA12: 2 | BB12: 9 | BD12: 1 | BE12: 1 | BF12: 13 | BH12: 7 | BN12: 1 | BO12: 7 | BS12: 15 | BT12: 72
A13: 767-300ER | B13: 9 | C13: 1 | BT13: 10
A14: 767-300F | B14: 12 | C14: 5 | D14: 16 | E14: 13 | F14: 10 | I14: 1 | L14: 2 | M14: 7 | N14: 1 | O14: 2 | R14: 4 | S14: 17 | U14: 3 | V14: 1 | Y14: 5 | Z14: 11 | AF14: 20 | AH14: 2 | AI14: 2 | AL14: 8 | AM14: 7 | AS14: 19 | AU14: 3 | AY14: 7 | AZ14: 9 | BF14: 19 | BH14: 1 | BI14: 1 | BK14: 5 | BL14: 3 | BM14: 7 | BO14: 1 | BS14: 18 | BT14: 149
A15: 777-200ER | B15: 4 | BT15: 4
A16: 777-200LR | B16: 1 | C16: 3 | AC16: 1 | AF16: 1 | BA16: 1 | BF16: 1 | BT16: 6
A17: 777-300ER | B17: 79 | C17: 83 | D17: 79 | E17: 88 | F17: 65 | J17: 1 | L17: 4 | M17: 4 | O17: 1 | P17: 13 | Q17: 6 | R17: 3 | S17: 32 | X17: 2 | Z17: 6 | AB17: 2 | AC17: 5 | AD17: 2 | AE17: 2 | AF17: 19 | AQ17: 2 | AR17: 2 | AS17: 4 | AZ17: 2 | BB17: 3 | BD17: 1 | BE17: 1 | BF17: 7 | BR17: 3 | BS17: 3 | BT17: 459
A18: 777F | B18: 14 | C18: 13 | D18: 19 | E18: 11 | F18: 9 | G18: 1 | I18: 1 | J18: 1 | L18: 2 | M18: 3 | O18: 1 | P18: 2 | Q18: 2 | R18: 3 | S18: 16 | U18: 6 | V18: 1 | X18: 2 | Y18: 5 | Z18: 6 | AA18: 1 | AD18: 3 | AE18: 1 | AF18: 25 | AK18: 2 | AL18: 8 | AM18: 5 | AP18: 4 | AQ18: 2 | AR18: 1 | AS18: 22 | AV18: 2 | AX18: 1 | AY18: 7 | AZ18: 3 | BA18: 3 | BF18: 16 | BK18: 6 | BL18: 2 | BM18: 3 | BN18: 5 | BR18: 5 | BS18: 21 | BT18: 166
A19: 787-10 | H19: 3 | L19: 8 | Q19: 4 | S19: 15 | U19: 5 | V19: 2 | Y19: 10 | AB19: 4 | AD19: 6 | AE19: 7 | AF19: 34 | AH19: 1 | AL19: 1 | AO19: 2 | AQ19: 3 | AR19: 5 | AS19: 12 | BH19: 6 | BI19: 1 | BR19: 5 | BS19: 12 | BT19: 73
A20: 787-8 | B20: 65 | C20: 104 | D20: 71 | E20: 35 | F20: 26 | J20: 3 | K20: 1 | M20: 1 | R20: 5 | S20: 10 | V20: 3 | W20: 2 | X20: 1 | Y20: 2 | AE20: 2 | AF20: 10 | AI20: 1 | AJ20: 3 | AK20: 1 | AS20: 5 | AW20: 1 | BE20: 1 | BF20: 2 | BJ20: 9 | BS20: 9 | BT20: 337
A21: 787-9 | C21: 10 | D21: 64 | E21: 102 | F21: 110 | G21: 7 | H21: 12 | I21: 23 | J21: 11 | K21: 7 | L21: 15 | M21: 7 | N21: 1 | O21: 1 | P21: 17 | R21: 19 | S21: 120 | T21: 4 | U21: 4 | V21: 20 | W21: 10 | X21: 8 | Y21: 18 | Z21: 7 | AA21: 2 | AB21: 9 | AC21: 17 | AD21: 4 | AE21: 11 | AF21: 114 | AG21: 2 | AI21: 8 | AK21: 7 | AL21: 3 | AM21: 2 | AO21: 8 | AP21: 2 | AQ21: 1 | AR21: 3 | AS21: 36 | AV21: 1 | AZ21: 1 | BA21: 1 | BB21: 8 | BE21: 1 | BF21: 12 | BI21: 1 | BK21: 3 | BL21: 1 | BN21: 1 | BO21: 1 | BP21: 3 | BS21: 10 | BT21: 578
A22: BBJ | B22: 5 | C22: 1 | D22: 3 | H22: 1 | S22: 1 | W22: 1 | AF22: 1 | BI22: 1 | BS22: 1 | BT22: 12
A23: BBJ2 | B23: 1 | C23: 2 | AV23: 2 | BF23: 2 | BT23: 5
A24: BBJ3 | D24: 1 | BT24: 1
A25: Grand Total | B25: 648 | C25: 723 | D25: 762 | E25: 748 | F25: 763 | G25: 38 | H25: 63 | I25: 81 | J25: 27 | K25: 46 | L25: 108 | M25: 89 | N25: 22 | O25: 49 | P25: 61 | Q25: 42 | R25: 180 | S25: 806 | T25: 15 | U25: 29 | V25: 52 | W25: 15 | X25: 20 | Y25: 42 | Z25: 51 | AA25: 12 | AB25: 33 | AC25: 29 | AD25: 21 | AE25: 61 | AF25: 380 | AG25: 13 | AH25: 17 | AI25: 12 | AJ25: 3 | AK25: 15 | AL25: 24 | AM25: 21 | AN25: 4 | AO25: 16 | AP25: 7 | AQ25: 11 | AR25: 14 | AS25: 157 | AT25: 14 | AU25: 32 | AV25: 39 | AW25: 8 | AX25: 27 | AY25: 27 | AZ25: 50 | BA25: 10 | BB25: 23 | BC25: 6 | BD25: 49 | BE25: 55 | BF25: 340 | BG25: 9 | BH25: 40 | BI25: 85 | BJ25: 47 | BK25: 45 | BL25: 25 | BM25: 45 | BN25: 32 | BO25: 28 | BP25: 21 | BQ25: 44 | BR25: 59 | BS25: 480 | BT25: 5807
A29: 737NG | B29: =SUM(B5:B9) -> 434 | C29: =SUM(C5:C9) -> 482 | D29: =SUM(D5:D9) -> 491 | E29: =SUM(E5:E9) -> 490 | F29: =SUM(F5:F9) -> 455 | G29: =SUM(G5:G9) -> 14 | H29: =SUM(H5:H9) -> 22 | I29: =SUM(I5:I9) -> 30 | ... BS29: =SUM(BS5:BS9) -> 12
A31: 737MAX | B31: =B4 -> 0 | C31: =C4 -> 0 | D31: =D4 -> 0 | E31: =E4 -> 0 | F31: =F4 -> 74 | G31: =G4 -> 9 | H31: =H4 -> 25 | I31: =I4 -> 26 | ... BS31: =BS4 -> 374
A33: 767 | B33: =SUM(B12:B14) -> 21 | C33: =SUM(C12:C14) -> 6 | D33: =SUM(D12:D14) -> 16 | E33: =SUM(E12:E14) -> 13 | F33: =SUM(F12:F14) -> 10 | G33: =SUM(G12:G14) -> 7 | H33: =SUM(H12:H14) -> 0 | I33: =SUM(I12:I14) -> 1 | ... BS33: =SUM(BS12:BS14) -> 33
A35: 747-8 | B35: =SUM(B10:B11) -> 24 | C35: =SUM(C10:C11) -> 19 | D35: =SUM(D10:D11) -> 18 | E35: =SUM(E10:E11) -> 9 | F35: =SUM(F10:F11) -> 14 | G35: =SUM(G10:G11) -> 0 | H35: =SUM(H10:H11) -> 0 | I35: =SUM(I10:I11) -> 0 | ... BS35: =SUM(BS10:BS11) -> 5
A37: 777 | B37: =SUM(B15:B17) -> 84 | C37: =SUM(C15:C17) -> 86 | D37: =SUM(D15:D17) -> 79 | E37: =SUM(E15:E17) -> 88 | F37: =SUM(F15:F17) -> 65 | G37: =SUM(G15:G17) -> 0 | H37: =SUM(H15:H17) -> 0 | I37: =SUM(I15:I17) -> 0 | ... BS37: =SUM(BS15:BS17) -> 3
A39: 777X | B39: =B18 -> 14 | C39: =C18 -> 13 | D39: =D18 -> 19 | E39: =E18 -> 11 | F39: =F18 -> 9 | G39: =G18 -> 1 | H39: =H18 -> 0 | I39: =I18 -> 1 | ... BS39: =BS18 -> 21
A41: 787 | B41: =SUM(B19:B21) -> 65 | C41: =SUM(C19:C21) -> 114 | D41: =SUM(D19:D21) -> 135 | E41: =SUM(E19:E21) -> 137 | F41: =SUM(F19:F21) -> 136 | G41: =SUM(G19:G21) -> 7 | H41: =SUM(H19:H21) -> 15 | I41: =SUM(I19:I21) -> 23 | ... BS41: =SUM(BS19:BS21) -> 31
A43: Total WWD | B43: =SUM(B29:B41) -> 642 | C43: =SUM(C29:C41) -> 720 | D43: =SUM(D29:D41) -> 758 | E43: =SUM(E29:E41) -> 748 | F43: =SUM(F29:F41) -> 763 | G43: =SUM(G29:G41) -> 38 | H43: =SUM(H29:H41) -> 62 | I43: =SUM(I29:I41) -> 81 | ... BS43: =SUM(BS29:BS41) -> 479
A45: BBJ | B45: =SUM(B22:B24) -> 6 | C45: =SUM(C22:C24) -> 3 | D45: =SUM(D22:D24) -> 4 | E45: =SUM(E22:E24) -> 0 | F45: =SUM(F22:F24) -> 0 | G45: =SUM(G22:G24) -> 0 | H45: =SUM(H22:H24) -> 1 | I45: =SUM(I22:I24) -> 0 | ... BS45: =SUM(BS22:BS24) -> 1
A47: Recon | B47: =B43+B45 -> 648 | C47: =C43+C45 -> 723 | D47: =D43+D45 -> 762 | E47: =E43+E45 -> 748 | F47: =F43+F45 -> 763 | G47: =G43+G45 -> 38 | H47: =H43+H45 -> 63 | I47: =I43+I45 -> 81 | ... BS47: =BS43+BS45 -> 480
A49: Check | B49: =B47-B25 -> 0 | C49: =C47-C25 -> 0 | D49: =D47-D25 -> 0 | E49: =E47-E25 -> 0 | F49: =F47-F25 -> 0 | G49: =G47-G25 -> 0 | H49: =H47-H25 -> 0 | I49: =I47-I25 -> 0 | ... BS49: =BS47-BS25 -> 0
A52: Quarterly
A54: 737NG | I54: =SUM(G29:I29) -> 66 | L54: =SUM(J29:L29) -> 89 | O54: =SUM(M29:O29) -> 67 | R54: =SUM(P29:R29) -> 101 | V54: =SUM(T29:V29) -> 28 | Y54: =SUM(W29:Y29) -> 1 | AB54: =SUM(Z29:AB29) -> 17 | AE54: =SUM(AC29:AE29) -> 23 | AI54: =SUM(AG29:AI29) -> 11 | AL54: =SUM(AJ29:AL29) -> 3 | AO54: =SUM(AM29:AO29) -> 2 | AR54: =SUM(AP29:AR29) -> 0 | AV54: =SUM(AT29:AV29) -> 16 | AY54: =SUM(AW29:AY29) -> 0 | BB54: =SUM(AZ29:BB29) -> 0 | BE54: =SUM(BC29:BE29) -> 0 | BI54: =SUM(BG29:BI29) -> 12 | BL54: =SUM(BJ29:BL29) -> 0 | BO54: =SUM(BM29:BO29) -> 0 | BR54: =SUM(BP29:BR29) -> 0
A55: 737MAX | I55: =SUM(G31:I31) -> 60 | L55: =SUM(J31:L31) -> 37 | O55: =SUM(M31:O31) -> 61 | R55: =SUM(P31:R31) -> 98 | V55: =SUM(T31:V31) -> 11 | Y55: =SUM(W31:Y31) -> 10 | AB55: =SUM(Z31:AB31) -> 15 | AE55: =SUM(AC31:AE31) -> 21 | AI55: =SUM(AG31:AI31) -> 10 | AL55: =SUM(AJ31:AL31) -> 5 | AO55: =SUM(AM31:AO31) -> 5 | AR55: =SUM(AP31:AR31) -> 7 | AV55: =SUM(AT31:AV31) -> 54 | AY55: =SUM(AW31:AY31) -> 46 | BB55: =SUM(AZ31:BB31) -> 41 | BE55: =SUM(BC31:BE31) -> 104 | BI55: =SUM(BG31:BI31) -> 99 | BL55: =SUM(BJ31:BL31) -> 88 | BO55: =SUM(BM31:BO31) -> 79 | BR55: =SUM(BP31:BR31) -> 108
