Workbook
Name Adj_EPS: '[1]Main Worksheet'!$A$98:$AY$98
Name Adjusted_Earnings_Per_Share__attributable_to_Leidos: '[2]Main Worksheet'!$A$138:$AQ$138
Name Adjusted_EBITDA: '[3]Main Worksheet'!$A$60:$AY$60
Name Adjusted_EBITDA_Margin: '[3]Main Worksheet'!$A$61:$AY$61
Name Adjusted_EPS: '[4]Main Worksheet'!$A$124:$BP$124
Name AEBIT: '[1]Main Worksheet'!$A$60:$AY$60
Name AEBIT_margin: '[1]Main Worksheet'!$A$61:$AY$61
Name AEBITDA: '[1]Main Worksheet'!$A$77:$AY$77
Name AEBITDA_margin: '[1]Main Worksheet'!$A$80:$AY$80
Name Aerospace: #REF!
Name Capex: #REF!
Name Cash: '[4]Main Worksheet'!$A$284:$FJ$284
Name Cash_EPS__excl._intangible_amortization: '[3]Main Worksheet'!$A$91:$AY$91
Name Cash_Net_Income__excl._intangible_amortization: '[3]Main Worksheet'!$A$88:$AY$88
Name Cash_used__provided__by_MARPA: '[3]Main Worksheet'!$A$137:$AY$137
Name CFO: '[1]Main Worksheet'!$A$124:$AY$124
Name Combat_Systems: #REF!
Name Core_EPS: [5]Main!$A$88:$AH$88
Name Core_Operating_Income: [5]Main!$A$54:$AD$55
Name date: #REF!
Name Diluted_EPS: #REF!
Name diluted_shares: '[1]Main Worksheet'!$A$46:$AY$46
Name Diluted_Shares_Outstanding: #REF!
Name Div_Per_Share: [5]Main!$A$90:$AJ$90
Name Dividends_per_Share: #REF!
Name EBIT_Margin: #REF!
Name EBITDA_as_Defined: '[4]Main Worksheet'!$A$145:$BO$145
Name EPS___Diluted: '[2]Main Worksheet'!$A$80:$AQ$80
Name FCF: '[1]Main Worksheet'!$A$152:$AY$152
Name FCF_Net_Income: #REF!
Name Free_Cash_Flow: #REF!
Name Free_Cash_Flow__ex._MARPA: '[3]Main Worksheet'!$A$138:$AY$138
Name Free_Cash_Flow_per_Share: #REF!
Name FY: '[1]Main Worksheet'!$A$2:$AY$2
Name GAAP_EPS: '[1]Main Worksheet'!$A$42:$AY$42
Name gross_debt: '[1]Main Worksheet'!$A$222:$AY$222
Name Gross_Profit: '[1]Main Worksheet'!$A$19:$AY$19
Name Gulfstream_Deliveries: #REF!
Name Leverage__Net_Debt_EBITDA: #REF!
Name Leverage_Data: [5]Main!$A$244:$AQ$250
Name Marine: #REF!
Name Net_Debt: #REF!
Name Net_Income: #REF!
Name net_leverage: '[1]Main Worksheet'!$A$229:$AY$229
Name Net_sales: '[1]Main Worksheet'!$A$8:$AY$8
Name Operating_cash_flow: #REF!
Name Operating_CF: '[4]Main Worksheet'!$A$178:$BH$178
Name Operating_income: #REF!
Name Operating_Income___GAAP: '[3]Main Worksheet'!$A$26:$AY$26
Name Operating_Margin___GAAP: '[3]Main Worksheet'!$A$27:$AY$27
Name Period_End: [5]Main!$A$4:$AQ$5
Name Period_Ended: '[1]Main Worksheet'!$A$3:$AY$3
Name Reported_Sales: '[2]Main Worksheet'!$A$11:$AQ$11
Name Rev_ex_billable: '[1]Main Worksheet'!$A$50:$AY$50
Name Sales: #REF!
Name Segment_EBIT: [5]Main!$A$29:$AB$40
Name Segment_Sales: [5]Main!$A$7:$AB$13
Name Sharecount: '[2]Main Worksheet'!$C$86:$AQ$86
Name Technologies: #REF!
Name Total_Adjusted_Operating_Income: '[2]Main Worksheet'!$A$112:$AQ$112

Sheet Model
A1: HWM
A2: ='HWM- TSM'!C5 -> 110.83
A3: 45646 | C3: Q1 '21 | D3: Q2 '21 | E3: Q3 '21 | F3: Q4 '21 | G3: Q1 '22 | H3: Q2 '22 | I3: Q3 '22 | J3: Q4 '22 | K3: Q1 '23 | L3: Q2 '23 | M3: Q3 '23 | N3: Q4 '23 | O3: Q1 '24 | P3: Q2 '24 | Q3: Q3 '24 | R3: Q4 '24 | S3: Q1 '25 | T3: Q2 '25 | U3: Q3 '25 | V3: Q4 '25 | X3: 2021 | Y3: =X3+1 -> 2022 | Z3: =Y3+1 -> 2023 | AA3: =Z3+1 -> 2024 | AB3: =AA3+1 -> 2025 | AC3: =AB3+1 -> 2026 | AD3: =AC3+1 -> 2027 | AE3: =AD3+1 -> 2028 | AF3: =AE3+1 -> 2029 | AG3: =AF3+1 -> 2030 | AI3: CAGR
C4: Actual | D4: Actual | E4: Actual | F4: Actual | G4: Actual | H4: Actual | I4: Actual | J4: Actual | K4: Actual | L4: Actual | M4: Actual | N4: Actual | O4: Actual | P4: Actual | Q4: Actual | R4: Est | S4: Est | T4: Est | U4: Est | V4: Est | X4: Actual | Y4: Actual | Z4: Actual | AA4: Est | AB4: Est | AC4: Est | AD4: Est | AE4: Est | AF4: Est | AG4: Est | AI4: '24E - '30E
B6: Revenue Build
B8: Aerospace Deliveries (Units)
B10: Boeing
B11: 737 | C11: 63 | D11: 50 | E11: 66 | F11: 84 | G11: 86 | H11: 103 | I11: 88 | J11: 110 | K11: 113 | L11: 103 | M11: 70 | N11: 110 | O11: 67 | P11: 70 | Q11: 92 | R11: =20*3 -> 60 | S11: =20*3 -> 60 | T11: =20*3 -> 60 | U11: =20*3 -> 60 | V11: =20*3 -> 60 | X11: =SUM(C11:F11) -> 263 | Y11: =SUM(G11:J11) -> 387 | Z11: =SUM(K11:N11) -> 396 | AA11: =SUM(O11:R11) -> 289 | AB11: =SUM(S11:V11) -> 240
B12: 747 | C12: 1 | D12: 1 | E12: 2 | F12: 3 | G12: 1 | H12: 2 | I12: 0 | J12: 2 | K12: 1 | L12: 0 | M12: 0 | N12: 0 | O12: 0 | P12: 0 | Q12: 0 | R12: =ROUND(N12*(1+R$17),0) -> 0 | S12: =ROUND(O12*(1+S$17),0) -> 0 | T12: =ROUND(P12*(1+T$17),0) -> 0 | U12: =ROUND(Q12*(1+U$17),0) -> 0 | V12: =ROUND(R12*(1+V$17),0) -> 0 | X12: =SUM(C12:F12) -> 7 | Y12: =SUM(G12:J12) -> 5 | Z12: =SUM(K12:N12) -> 1 | AA12: =SUM(O12:R12) -> 0 | AB12: =SUM(S12:V12) -> 0
B13: 767 | C13: 5 | D13: 8 | E13: 11 | F13: 8 | G13: 5 | H13: 7 | I13: 9 | J13: 12 | K13: 1 | L13: 8 | M13: 8 | N13: 15 | O13: 3 | P13: 6 | Q13: 6 | R13: =ROUND(N13*(1+R$17),0) -> 11 | S13: =ROUND(O13*(1+S$17),0) -> 4 | T13: =ROUND(P13*(1+T$17),0) -> 7 | U13: =ROUND(Q13*(1+U$17),0) -> 7 | V13: =ROUND(R13*(1+V$17),0) -> 15 | X13: =SUM(C13:F13) -> 32 | Y13: =SUM(G13:J13) -> 33 | Z13: =SUM(K13:N13) -> 32 | AA13: =SUM(O13:R13) -> 26 | AB13: =SUM(S13:V13) -> 33
B14: 777 | C14: 6 | D14: 8 | E14: 6 | F14: 4 | G14: 3 | H14: 9 | I14: 6 | J14: 6 | K14: 4 | L14: 5 | M14: 8 | N14: 9 | O14: 0 | P14: 7 | Q14: 4 | R14: =ROUND(N14*(1+R$17),0) -> 7 | S14: =ROUND(O14*(1+S$17),0) -> 0 | T14: =ROUND(P14*(1+T$17),0) -> 9 | U14: =ROUND(Q14*(1+U$17),0) -> 5 | V14: =ROUND(R14*(1+V$17),0) -> 10 | X14: =SUM(C14:F14) -> 24 | Y14: =SUM(G14:J14) -> 24 | Z14: =SUM(K14:N14) -> 26 | AA14: =SUM(O14:R14) -> 18 | AB14: =SUM(S14:V14) -> 24
B15: 787 | C15: 2 | D15: 12 | E15: 0 | F15: 0 | G15: 0 | H15: 0 | I15: 9 | J15: 22 | K15: 11 | L15: 20 | M15: 19 | N15: 23 | O15: 13 | P15: 9 | Q15: 14 | R15: =ROUND(N15*(1+R$17),0) -> 17 | S15: =ROUND(O15*(1+S$17),0) -> 15 | T15: =ROUND(P15*(1+T$17),0) -> 11 | U15: =ROUND(Q15*(1+U$17),0) -> 17 | V15: =ROUND(R15*(1+V$17),0) -> 24 | X15: =SUM(C15:F15) -> 14 | Y15: =SUM(G15:J15) -> 31 | Z15: =SUM(K15:N15) -> 73 | AA15: =SUM(O15:R15) -> 53 | AB15: =SUM(S15:V15) -> 67
B16: Total Boeing | C16: =SUM(C11:C15) -> 77 | D16: =SUM(D11:D15) -> 79 | E16: =SUM(E11:E15) -> 85 | F16: =SUM(F11:F15) -> 99 | G16: =SUM(G11:G15) -> 95 | H16: =SUM(H11:H15) -> 121 | I16: =SUM(I11:I15) -> 112 | J16: =SUM(J11:J15) -> 152 | ... V16: =SUM(V11:V15) -> 109 | X16: =SUM(X11:X15) -> 340 | Y16: =SUM(Y11:Y15) -> 480 | Z16: =SUM(Z11:Z15) -> 528 | AA16: =SUM(AA11:AA15) -> 386 | AB16: =AA16*(1+AB17) -> 486.36 | AC16: =AB16*(1+AC17) -> 515.5416 | AD16: =AC16*(1+AD17) -> 546.4741 | AE16: =AD16*(1+AE17) -> 579.26254 | AF16: =AE16*(1+AF17) -> 614.01829 | AG16: =AF16*(1+AG17) -> 650.85939 | AI16: =RATE(7,,-Z16,AG16) -> 0.030336384
B17: Growth YoY | G17: =G16/C16-1 -> 0.23376623 | H17: =H16/D16-1 -> 0.53164557 | I17: =I16/E16-1 -> 0.31764706 | J17: =J16/F16-1 -> 0.53535354 | K17: =K16/G16-1 -> 0.36842105 | L17: =L16/H16-1 -> 0.12396694 | M17: =M16/I16-1 -> -0.0625 | N17: =N16/J16-1 -> 0.032894737 | ... Q17: =Q16/M16-1 -> 0.1047619 | R17: -0.24 | S17: 0.18 | T17: 0.23 | U17: 0.23 | V17: 0.4 | Y17: =Y16/X16-1 -> 0.41176471 | Z17: =Z16/Y16-1 -> 0.1 | AA17: =AA16/Z16-1 -> -0.26893939 | AB17: 0.26 | AC17: 0.06 | AD17: =AC17 -> 0.06 | AE17: =AD17 -> 0.06 | AF17: =AE17 -> 0.06 | AG17: =AF17 -> 0.06
B19: Airbus
B20: A320neo | X20: =SUM(C20:F20) -> 0 | Y20: =SUM(G20:J20) -> 0 | Z20: =SUM(K20:N20) -> 0 | AA20: =SUM(O20:R20) -> 0 | AB20: =SUM(S20:V20) -> 0
B21: A220 | X21: =SUM(C21:F21) -> 0 | Y21: =SUM(G21:J21) -> 0 | Z21: =SUM(K21:N21) -> 0 | AA21: =SUM(O21:R21) -> 0 | AB21: =SUM(S21:V21) -> 0
B22: A350 | X22: =SUM(C22:F22) -> 0 | Y22: =SUM(G22:J22) -> 0 | Z22: =SUM(K22:N22) -> 0 | AA22: =SUM(O22:R22) -> 0 | AB22: =SUM(S22:V22) -> 0
B23: A330neo | X23: =SUM(C23:F23) -> 0 | Y23: =SUM(G23:J23) -> 0 | Z23: =SUM(K23:N23) -> 0 | AA23: =SUM(O23:R23) -> 0 | AB23: =SUM(S23:V23) -> 0
B24: Total Airbus | C24: 125 | D24: =297-C24 -> 172 | E24: =424-SUM(C24:D24) -> 127 | F24: =611-SUM(C24:E24) -> 187 | G24: 142 | H24: =297-G24 -> 155 | I24: =437-SUM(G24:H24) -> 140 | J24: =661-SUM(G24:I24) -> 224 | K24: 127 | L24: =316-K24 -> 189 | M24: =488-SUM(K24:L24) -> 172 | N24: =735-SUM(K24:M24) -> 247 | O24: 142 | P24: =323-O24 -> 181 | Q24: =497-SUM(O24:P24) -> 174 | R24: =770-SUM(O24:Q24) -> 273 | S24: =820/4 -> 205 | T24: =S24 -> 205 | U24: =T24 -> 205 | V24: =U24 -> 205 | X24: =SUM(C24:F24) -> 611 | Y24: =SUM(G24:J24) -> 661 | Z24: =SUM(K24:N24) -> 735 | AA24: =SUM(O24:R24) -> 770 | AB24: =SUM(S24:V24) -> 820 | AC24: =AB24*(1+AC25) -> 869.2 | AD24: =AC24*(1+AD25) -> 921.352 | AE24: =AD24*(1+AE25) -> 976.63312 | AF24: =AE24*(1+AF25) -> 1035.2311 | AG24: =AF24*(1+AG25) -> 1097.345 | AI24: =RATE(7,,-Z24,AG24) -> 0.058924801
AC25: 0.06 | AD25: =AC25 -> 0.06 | AE25: =AD25 -> 0.06 | AF25: =AE25 -> 0.06 | AG25: =AF25 -> 0.06
B26: Embraer
B27: Total Embraer | C27: =48/4 -> 12 | D27: =48/4 -> 12 | E27: =48/4 -> 12 | F27: =48/4 -> 12 | G27: =ROUND(57/4,0) -> 14 | H27: =ROUND(57/4,0) -> 14 | I27: =ROUND(57/4,0) -> 14 | J27: =ROUND(57/4,0) -> 14 | K27: =64/4 -> 16 | L27: =64/4 -> 16 | M27: =64/4 -> 16 | N27: =64/4 -> 16 | O27: 18 | P27: 18 | Q27: 18 | R27: 18 | S27: 20 | T27: 20 | U27: 20 | V27: 20 | X27: =SUM(C27:F27) -> 48 | Y27: =SUM(G27:J27) -> 56 | Z27: =SUM(K27:N27) -> 64 | AA27: =SUM(O27:R27) -> 72 | AB27: =SUM(S27:V27) -> 80 | AC27: =AB27*(1+AC28) -> 84.8 | AD27: =AC27*(1+AD28) -> 89.888 | AE27: =AD27*(1+AE28) -> 95.28128 | AF27: =AE27*(1+AF28) -> 100.99816 | AG27: =AF27*(1+AG28) -> 107.05805 | AI27: =RATE(7,,-Z27,AG27) -> 0.076266706
Y28: =Y27/X27-1 -> 0.16666667 | Z28: =Z27/Y27-1 -> 0.14285714 | AA28: =AA27/Z27-1 -> 0.125 | AB28: =AB27/AA27-1 -> 0.11111111 | AC28: 0.06 | AD28: =AC28 -> 0.06 | AE28: =AD28 -> 0.06 | AF28: =AE28 -> 0.06 | AG28: =AF28 -> 0.06
B29: Bombardier
B30: Light | C30: 1 | D30: 3 | E30: 4 | F30: 2 | G30: 3 | H30: 0 | I30: 0 | J30: 0 | K30: 0 | L30: 0 | M30: 0 | N30: 0 | X30: =SUM(C30:F30) -> 10 | Y30: =SUM(G30:J30) -> 3 | Z30: =SUM(K30:N30) -> 0 | AA30: =SUM(O30:R30) -> 0 | AB30: =SUM(S30:V30) -> 0
B31: Medium | C31: 9 | D31: 9 | E31: 8 | F31: 18 | G31: 6 | H31: 12 | I31: 12 | J31: 20 | K31: 8 | L31: 15 | M31: 16 | N31: 24 | O31: 12 | P31: 20 | Q31: 13 | X31: =SUM(C31:F31) -> 44 | Y31: =SUM(G31:J31) -> 50 | Z31: =SUM(K31:N31) -> 63 | AA31: =SUM(O31:R31) -> 45 | AB31: =SUM(S31:V31) -> 0
B32: Large | C32: 16 | D32: 17 | E32: 15 | F32: 18 | G32: 12 | H32: 16 | I32: 13 | J32: 29 | K32: 14 | L32: 14 | M32: 15 | N32: 52 | O32: 8 | P32: 19 | Q32: 17 | X32: =SUM(C32:F32) -> 66 | Y32: =SUM(G32:J32) -> 70 | Z32: =SUM(K32:N32) -> 95 | AA32: =SUM(O32:R32) -> 44 | AB32: =SUM(S32:V32) -> 0
B33: Total Bombardier | C33: =SUM(C30:C32) -> 26 | D33: =SUM(D30:D32) -> 29 | E33: =SUM(E30:E32) -> 27 | F33: =SUM(F30:F32) -> 38 | G33: =SUM(G30:G32) -> 21 | H33: =SUM(H30:H32) -> 28 | I33: =SUM(I30:I32) -> 25 | J33: =SUM(J30:J32) -> 49 | ... Q33: =SUM(Q30:Q32) -> 30 | R33: =150-SUM(O33:Q33) -> 61 | S33: =O33 -> 20 | T33: =P33 -> 39 | U33: =Q33 -> 30 | V33: =R33 -> 61 | X33: =SUM(X30:X32) -> 120 | Y33: =SUM(Y30:Y32) -> 123 | Z33: =SUM(Z30:Z32) -> 158 | AA33: =SUM(O33:R33) -> 150 | AB33: =SUM(R33:U33) -> 150 | AC33: =AB33*(1+AC34) -> 159 | AD33: =AC33*(1+AD34) -> 168.54 | AE33: =AD33*(1+AE34) -> 178.6524 | AF33: =AE33*(1+AF34) -> 189.37154 | AG33: =AF33*(1+AG34) -> 200.73384 | AI33: =RATE(7,,-Z33,AG33) -> 0.034789298
AC34: 0.06 | AD34: =AC34 -> 0.06 | AE34: =AD34 -> 0.06 | AF34: =AE34 -> 0.06 | AG34: =AF34 -> 0.06
B36: Total Commercial Aero Units | C36: =SUM(C16,C24,C27,C33) -> 240 | D36: =SUM(D16,D24,D27,D33) -> 292 | E36: =SUM(E16,E24,E27,E33) -> 251 | F36: =SUM(F16,F24,F27,F33) -> 336 | G36: =SUM(G16,G24,G27,G33) -> 272 | H36: =SUM(H16,H24,H27,H33) -> 318 | I36: =SUM(I16,I24,I27,I33) -> 291 | J36: =SUM(J16,J24,J27,J33) -> 439 | ... V36: =SUM(V16,V24,V27,V33) -> 395 | X36: =SUM(X16,X24,X27,X33) -> 1119 | Y36: =SUM(Y16,Y24,Y27,Y33) -> 1320 | Z36: =SUM(Z16,Z24,Z27,Z33) -> 1485 | AA36: =SUM(AA16,AA24,AA27,AA33) -> 1378 | AB36: =SUM(AB16,AB24,AB27,AB33) -> 1536.36 | AC36: =SUM(AC16,AC24,AC27,AC33) -> 1628.5416 | AD36: =SUM(AD16,AD24,AD27,AD33) -> 1726.2541 | AE36: =SUM(AE16,AE24,AE27,AE33) -> 1829.8293 | ... AG36: =SUM(AG16,AG24,AG27,AG33) -> 2055.9962 | AI36: =RATE(7,,-Z36,AG36) -> 0.047574995
B38: Defense Platforms - Deliveries
B39: Boeing
B40: AH-64 Apache (New) | C40: 9 | D40: 6 | E40: 4 | F40: 8 | G40: 7 | H40: 6 | I40: 7 | J40: 5 | K40: 7 | L40: 5 | M40: 5 | N40: 3 | O40: 0 | P40: 3 | Q40: 7 | R40: =Q40*(1+R$17) -> 5.32 | S40: =R40*(1+S$17) -> 6.2776 | T40: =S40*(1+T$17) -> 7.721448 | U40: =T40*(1+U$17) -> 9.497381 | V40: =U40*(1+V$17) -> 13.296333 | X40: =SUM(C40:F40) -> 27 | Y40: =SUM(G40:J40) -> 25 | Z40: =SUM(K40:N40) -> 20 | AA40: =SUM(O40:R40) -> 15.32 | AB40: =SUM(S40:V40) -> 36.792762 | AC40: =ROUND(AB40*(1+AC$17),0) -> 39 | AD40: =ROUND(AC40*(1+AD$17),0) -> 41 | AE40: =ROUND(AD40*(1+AE$17),0) -> 43 | AF40: =ROUND(AE40*(1+AF$17),0) -> 46 | AG40: =ROUND(AF40*(1+AG$17),0) -> 49
B41: AH-64 Apache (Remanufactured) | C41: 15 | D41: 16 | E41: 11 | F41: 14 | G41: 15 | H41: 13 | I41: 8 | J41: 14 | K41: 13 | L41: 16 | M41: 9 | N41: 19 | O41: 6 | P41: 7 | Q41: 11 | R41: =Q41*(1+R$17) -> 8.36 | S41: =R41*(1+S$17) -> 9.8648 | T41: =S41*(1+T$17) -> 12.133704 | U41: =T41*(1+U$17) -> 14.924456 | V41: =U41*(1+V$17) -> 20.894238 | X41: =SUM(C41:F41) -> 56 | Y41: =SUM(G41:J41) -> 50 | Z41: =SUM(K41:N41) -> 57 | AA41: =SUM(O41:R41) -> 32.36 | AB41: =SUM(S41:V41) -> 57.817198 | AC41: =ROUND(AB41*(1+AC$17),0) -> 61 | AD41: =ROUND(AC41*(1+AD$17),0) -> 65 | AE41: =ROUND(AD41*(1+AE$17),0) -> 69 | AF41: =ROUND(AE41*(1+AF$17),0) -> 73 | AG41: =ROUND(AF41*(1+AG$17),0) -> 77
B42: CH-47 Chinook (New) | C42: 3 | D42: 3 | E42: 6 | F42: 3 | G42: 4 | H42: 5 | I42: 1 | J42: 9 | K42: 5 | L42: 2 | M42: 1 | N42: 3 | O42: 1 | P42: 1 | Q42: 0 | R42: =Q42*(1+R$17) -> 0 | S42: =R42*(1+S$17) -> 0 | T42: =S42*(1+T$17) -> 0 | U42: =T42*(1+U$17) -> 0 | V42: =U42*(1+V$17) -> 0 | AB42: =SUM(S42:V42) -> 0 | AC42: =ROUND(AB42*(1+AC$17),0) -> 0 | AD42: =ROUND(AC42*(1+AD$17),0) -> 0 | AE42: =ROUND(AD42*(1+AE$17),0) -> 0 | AF42: =ROUND(AE42*(1+AF$17),0) -> 0 | AG42: =ROUND(AF42*(1+AG$17),0) -> 0
B43: CH-47 Chinook (Renewed) | C43: 3 | D43: 1 | E43: 1 | F43: 0 | G43: 3 | H43: 1 | I43: 2 | J43: 3 | K43: 1 | L43: 3 | M43: 3 | N43: 2 | O43: 1 | P43: 4 | Q43: 2 | R43: =Q43*(1+R$17) -> 1.52 | S43: =R43*(1+S$17) -> 1.7936 | T43: =S43*(1+T$17) -> 2.206128 | U43: =T43*(1+U$17) -> 2.7135374 | V43: =U43*(1+V$17) -> 3.7989524 | AB43: =SUM(S43:V43) -> 10.512218 | AC43: =ROUND(AB43*(1+AC$17),0) -> 11 | AD43: =ROUND(AC43*(1+AD$17),0) -> 12 | AE43: =ROUND(AD43*(1+AE$17),0) -> 13 | AF43: =ROUND(AE43*(1+AF$17),0) -> 14 | AG43: =ROUND(AF43*(1+AG$17),0) -> 15
B44: F-15 Models | C44: 3 | D44: 5 | E44: 3 | F44: 5 | G44: 1 | H44: 4 | I44: 4 | J44: 3 | K44: 2 | L44: 4 | M44: 0 | N44: 3 | O44: 1 | P44: 6 | Q44: 3 | R44: =Q44*(1+R$17) -> 2.28 | S44: =R44*(1+S$17) -> 2.6904 | T44: =S44*(1+T$17) -> 3.309192 | U44: =T44*(1+U$17) -> 4.0703062 | V44: =U44*(1+V$17) -> 5.6984286 | AB44: =SUM(S44:V44) -> 15.768327 | AC44: =ROUND(AB44*(1+AC$17),0) -> 17 | AD44: =ROUND(AC44*(1+AD$17),0) -> 18 | AE44: =ROUND(AD44*(1+AE$17),0) -> 19 | AF44: =ROUND(AE44*(1+AF$17),0) -> 20 | AG44: =ROUND(AF44*(1+AG$17),0) -> 21
B45: F/A-18 Models | C45: 4 | D45: 7 | E45: 4 | F45: 6 | G45: 4 | H45: 4 | I45: 3 | J45: 3 | K45: 7 | L45: 6 | M45: 3 | N45: 6 | O45: 1 | P45: 3 | Q45: 1 | R45: =Q45*(1+R$17) -> 0.76 | S45: =R45*(1+S$17) -> 0.8968 | T45: =S45*(1+T$17) -> 1.103064 | U45: =T45*(1+U$17) -> 1.3567687 | V45: =U45*(1+V$17) -> 1.8994762 | X45: =SUM(C45:F45) -> 21 | Y45: =SUM(G45:J45) -> 14 | Z45: =SUM(K45:N45) -> 22 | AA45: =SUM(O45:R45) -> 5.76 | AB45: =SUM(S45:V45) -> 5.2561089 | AC45: =ROUND(AB45*(1+AC$17),0) -> 6 | AD45: =ROUND(AC45*(1+AD$17),0) -> 6 | AE45: =ROUND(AD45*(1+AE$17),0) -> 6 | AF45: =ROUND(AE45*(1+AF$17),0) -> 6 | AG45: =ROUND(AF45*(1+AG$17),0) -> 6
B46: KC-46 Tanker | C46: 2 | D46: 2 | E46: 3 | F46: 6 | G46: 4 | H46: 4 | I46: 1 | J46: 6 | K46: 1 | L46: 0 | M46: 3 | N46: 9 | O46: 3 | P46: 2 | Q46: 5 | R46: =Q46*(1+R$17) -> 3.8 | S46: =R46*(1+S$17) -> 4.484 | T46: =S46*(1+T$17) -> 5.51532 | U46: =T46*(1+U$17) -> 6.7838436 | V46: =U46*(1+V$17) -> 9.497381 | X46: =SUM(C46:F46) -> 13 | Y46: =SUM(G46:J46) -> 15 | Z46: =SUM(K46:N46) -> 13 | AA46: =SUM(O46:R46) -> 13.8 | AB46: =SUM(S46:V46) -> 26.280545 | AC46: =ROUND(AB46*(1+AC$17),0) -> 28 | AD46: =ROUND(AC46*(1+AD$17),0) -> 30 | AE46: =ROUND(AD46*(1+AE$17),0) -> 32 | AF46: =ROUND(AE46*(1+AF$17),0) -> 34 | AG46: =ROUND(AF46*(1+AG$17),0) -> 36
...

Sheet Charts
C3: Model | F3: Consensus Est. | I3: ∆
C4: '26E | D4: '27E | F4: '26E | G4: '27E | I4: '26E | J4: '27E
B6: Aero-Commercial | C6: =Model!AC127 -> 4721.3527 | D6: =Model!AD127 -> 5038.1893 | F6: 4721.3527 | G6: 5038.1893 | I6: =C6-F6 -> 0 | J6: =D6-G6 -> 0
B7: Aero- Defense | C7: =Model!AC128 -> 1421.9038 | D7: =Model!AD128 -> 1516.0334 | F7: 1421.9038 | G7: 1516.0334 | I7: =C7-F7 -> 0 | J7: =D7-G7 -> 0
B8: Commercial Transport | C8: =Model!AC129 -> 1444.8722 | D8: =Model!AD129 -> 1461.531 | F8: 1444.8722 | G8: 1461.531 | I8: =C8-F8 -> 0 | J8: =D8-G8 -> 0
B9: Industrial and Other | C9: =Model!AC130 -> 1868.0861 | D9: =Model!AD130 -> 2530.3513 | F9: 1345.8713 | G9: 1434.6663 | I9: =C9-F9 -> 522.21478 | J9: =D9-G9 -> 1095.6849
B10: Total Revenue by End Market | C10: =SUM(C6:C9) -> 9456.2148 | D10: =SUM(D6:D9) -> 10546.105 | F10: =SUM(F6:F9) -> 8934 | G10: =SUM(G6:G9) -> 9450.42 | I10: =C10-F10 -> 522.21478 | J10: =D10-G10 -> 1095.6849
B12: Engine Products | C12: =Model!AC151 -> 5176.3548 | D12: =Model!AD151 -> 6050.9349 | F12: 4654.14 | G12: 4955.25 | I12: =C12-F12 -> 522.21478 | J12: =D12-G12 -> 1095.6849
B13: Fastening Systems | C13: =Model!AC152 -> 1886.86 | D13: =Model!AD152 -> 2025.5 | F13: 1886.86 | G13: 2025.5 | I13: =C13-F13 -> 0 | J13: =D13-G13 -> 0
B14: Engineered Structures | C14: =Model!AC153 -> 1261 | D14: =Model!AD153 -> 1344 | F14: 1261 | G14: 1344 | I14: =C14-F14 -> 0 | J14: =D14-G14 -> 0
B15: Forged Wheels | C15: =Model!AC154 -> 1132 | D15: =Model!AD154 -> 1125.67 | F15: 1132 | G15: 1125.67 | I15: =C15-F15 -> 0 | J15: =D15-G15 -> 0
B16: Total Revenue by End Market | C16: =SUM(C12:C15) -> 9456.2148 | D16: =SUM(D12:D15) -> 10546.105 | F16: =SUM(F12:F15) -> 8934 | G16: =SUM(G12:G15) -> 9450.42 | I16: =C16-F16 -> 522.21478 | J16: =D16-G16 -> 1095.6849
B18: Engine Products | C18: =Model!AC158 -> 1817.3419 | D18: =Model!AD158 -> 2245.4128 | F18: 1634 | G18: 1610 | I18: =C18-F18 -> 183.34192 | J18: =D18-G18 -> 635.41282
B19: Fastening Systems | C19: =Model!AC160 -> 528 | D19: =Model!AD160 -> 587 | F19: 528 | G19: 587 | I19: =C19-F19 -> 0 | J19: =D19-G19 -> 0
B20: Engineered Structures | C20: =Model!AC162 -> 209.333 | D20: =Model!AD162 -> 233 | F20: 209.333 | G20: 233 | I20: =C20-F20 -> 0 | J20: =D20-G20 -> 0
B21: Forged Wheels | C21: =Model!AC164 -> 328 | D21: =Model!AD164 -> 331.79422 | F21: 328 | G21: 331.79422 | I21: =C21-F21 -> 0 | J21: =D21-G21 -> 0
B22: Total EBITDA by End Market | C22: =SUM(C18:C21) -> 2882.6749 | D22: =SUM(D18:D21) -> 3397.207 | F22: =SUM(F18:F21) -> 2699.333 | G22: =SUM(G18:G21) -> 2761.7942 | I22: =C22-F22 -> 183.34192 | J22: =D22-G22 -> 635.41282
B24: Engine Products | C24: =C18/C12 -> 0.35108527 | D24: =D18/D12 -> 0.37108527 | F24: =F18/F12 -> 0.35108527 | G24: =G18/G12 -> 0.32490793 | I24: =(C24-F24)*10000 -> 0 | J24: =(D24-G24)*10000 -> 461.77344
B25: Fastening Systems | C25: =C19/C13 -> 0.27982998 | D25: =D19/D13 -> 0.28980499 | F25: =F19/F13 -> 0.27982998 | G25: =G19/G13 -> 0.28980499 | I25: =(C25-F25)*10000 -> 0 | J25: =(D25-G25)*10000 -> 0
B26: Engineered Structures | C26: =C20/C14 -> 0.16600555 | D26: =D20/D14 -> 0.1733631 | F26: =F20/F14 -> 0.16600555 | G26: =G20/G14 -> 0.1733631 | I26: =(C26-F26)*10000 -> 0 | J26: =(D26-G26)*10000 -> 0
B27: Forged Wheels | C27: =C21/C15 -> 0.28975265 | D27: =D21/D15 -> 0.29475265 | F27: =F21/F15 -> 0.28975265 | G27: =G21/G15 -> 0.29475265 | I27: =(C27-F27)*10000 -> 0 | J27: =(D27-G27)*10000 -> 0
B28: Total Segment EBITDA Margin | C28: =C22/C16 -> 0.30484448 | D28: =D22/D16 -> 0.32212908 | F28: =F22/F16 -> 0.30214159 | G28: =G22/G16 -> 0.29224037 | I28: =(C28-F28)*10000 -> 27.028903 | J28: =(D28-G28)*10000 -> 298.88709

Sheet Historical EIA Data
B3: Natural Gas Combined Cycle and Combustion Turbine | L3: EIA Data
AG4: Planned | AH4: Planned | AI4: Planned | AJ4: Planned
B5: Year | C5: 1995 | D5: 1996 | E5: 1997 | F5: 1998 | G5: 1999 | H5: =G5+1 -> 2000 | I5: =H5+1 -> 2001 | J5: =I5+1 -> 2002 | K5: =J5+1 -> 2003 | L5: =K5+1 -> 2004 | M5: =L5+1 -> 2005 | N5: =M5+1 -> 2006 | O5: =N5+1 -> 2007 | ... AJ5: =AI5+1 -> 2028
B6: Nameplate Power (kW) | C6: 6829.3 | D6: 4272.6 | E6: 3844.7 | F6: 2065.7 | G6: 8855 | H6: 29639 | I6: 42377.2 | J6: 61157.6 | K6: 53636.7 | L6: 24797.8 | M6: 16809.6 | N6: 10070.6 | O6: 7701.5 | P6: 8613.4 | Q6: 10304.1 | R6: 6626.7 | S6: 10671.8 | T6: 10136 | U6: 7505.1 | V6: 8827.3 | W6: 6852.9 | X6: 8875.3 | Y6: 10311.4 | Z6: 21244 | AA6: 7676.1 | AB6: 6747.3 | AC6: 7135.7 | AD6: 6851.6 | AE6: 9529 | AF6: 61313.8 | AG6: 32677.4 | AH6: 26829 | AI6: 15125.4 | AJ6: 4821.7
D7: =IF(D6-C6<0,0,D6-C6) -> 0 | E7: =IF(E6-D6<0,0,E6-D6) -> 0 | F7: =IF(F6-E6<0,0,F6-E6) -> 0 | G7: =IF(G6-F6<0,0,G6-F6) -> 6789.3 | H7: =IF(H6-G6<0,0,H6-G6) -> 20784 | I7: =IF(I6-H6<0,0,I6-H6) -> 12738.2 | J7: =IF(J6-I6<0,0,J6-I6) -> 18780.4 | K7: =IF(K6-J6<0,0,K6-J6) -> 0 | ... AJ7: =IF(AJ6-AI6<0,0,AJ6-AI6) -> 0
AF8: =AF6/AE6-1 -> 5.4344422
B26: GE Power System Sales
M27: '98-'22 CAGR
B28: GE power system sales | C28: 6.962 | D28: 7.704 | E28: 7.986 | F28: 8.5 | G28: 10.099 | H28: 14.861 | I28: 20.211 | J28: 22.926 | K28: 18.462 | M28: =RATE(4,,-F28,J28) -> 0.28152576
B29: Growth | D29: =D28/C28-1 -> 0.10657857 | E29: =E28/D28-1 -> 0.036604361 | F29: =F28/E28-1 -> 0.064362635 | G29: =G28/F28-1 -> 0.18811765 | H29: =H28/G28-1 -> 0.47153183 | I29: =I28/H28-1 -> 0.36000269 | J29: =J28/I28-1 -> 0.13433279 | K29: =K28/J28-1 -> -0.19471343
B30: Unit sales | I30: 264 | J30: 323 | K30: 175 | L30: 122
B32: Sales / unit | I32: =I28/I30 -> 0.076556818 | J32: =J28/J30 -> 0.070978328 | K32: =K28/K30 -> 0.10549714
B34: Operating Profit | G34: 1.537 | H34: 2.523 | I34: 4.86 | J34: 6.255 | K34: 4.076
B36: COS | G36: =G28-G34 -> 8.562 | H36: =H28-H34 -> 12.338 | I36: =I28-I34 -> 15.351 | J36: =J28-J34 -> 16.671 | K36: =K28-K34 -> 14.386
B37: Growth | H37: =H36/G36-1 -> 0.44101845 | I37: =I36/H36-1 -> 0.2442049 | J37: =J36/I36-1 -> 0.085987884 | K37: =K36/J36-1 -> -0.13706436

Sheet vs. Consensus
B2: Consensus
B3: HWM-US
B4: Product Segments (M) | C4: Actual | D4: Actual | E4: Actual | F4: Actual | G4: Estimate | H4: Estimate | I4: Estimate | J4: Estimate | K4: Estimate | R4: Estimate | S4: Estimate | T4: Estimate | U4: Estimate | V4: Estimate
C5: Dec '23 | D5: Mar '24 | E5: Jun '24 | F5: Sep '24 | G5: Dec '24E | H5: Mar '25E | I5: Jun '25E | J5: Sep '25E | K5: Dec '25E | M5: Dec '19 | N5: Dec '20 | O5: Dec '21 | P5: Dec '22 | Q5: Dec '23 | R5: Dec '24E | S5: Dec '25E | T5: Dec '26E | U5: Dec '27E | V5: Dec '28E
C6: Q4 | D6: Q1 | E6: Q2 | F6: Q3 | G6: Q4 | H6: Q1 | I6: Q2 | J6: Q3 | K6: Q4
B8: Engine Products | D8: 885 | E8: 933 | F8: 945 | G8: 962.49 | H8: 964.75 | I8: 1009.25 | J8: 1022.25 | K8: 1056.25 | N8: 2406 | O8: 2282 | P8: 2698 | Q8: 3266 | R8: =SUM(D8:G8) -> 3725.49 | S8: =SUM(H8:K8) -> 4052.5 | T8: 4654.14 | U8: 4955.25 | V8: 5736
B9: Fastening Systems | D9: 389 | E9: 394 | F9: 392 | G9: 391.44 | H9: 409.25 | I9: 417.25 | J9: 417.5 | K9: 430 | N9: 1245 | O9: 1044 | P9: 1117 | Q9: 1349 | R9: =SUM(D9:G9) -> 1566.44 | S9: =SUM(H9:K9) -> 1674 | T9: 1886.86 | U9: 2025.5 | V9: 2221
B10: Engineered Structures | D10: 262 | E10: 275 | F10: 253 | G10: 265.16 | H10: 270 | I10: 281.5 | J10: 277.5 | K10: 293.25 | N10: 927 | O10: 725 | P10: 790 | Q10: 878 | R10: =SUM(D10:G10) -> 1055.16 | S10: =SUM(H10:K10) -> 1122.25 | T10: 1261 | U10: 1344 | V10: 1476
B11: Forged Wheels | D11: 288 | E11: 278 | F11: 245 | G11: 246.744 | H11: 251 | I11: 252.333 | J11: 250 | K11: 272.667 | N11: 679 | O11: 921 | P11: 1058 | Q11: 1147 | R11: =SUM(D11:G11) -> 1057.744 | S11: =SUM(H11:K11) -> 1026 | T11: 1132 | U11: 1125.67 | V11: 1178
B12: Total Sales | D12: 1824 | E12: 1880 | F12: 1835 | G12: =SUM(G8:G11) -> 1865.834 | H12: =SUM(H8:H11) -> 1895 | I12: =SUM(I8:I11) -> 1960.333 | J12: =SUM(J8:J11) -> 1967.25 | K12: =SUM(K8:K11) -> 2052.167 | M12: 14192 | N12: 5259 | O12: 4972 | P12: 5663 | Q12: 6640 | R12: 7410.92 | S12: =SUM(S8:S11) -> 7874.75 | T12: =SUM(T8:T11) -> 8934 | U12: =SUM(U8:U11) -> 9450.42 | V12: =SUM(V8:V11) -> 10611
B14: Engine Products | D14: 216 | E14: 259 | F14: 272 | G14: 270.833 | H14: 267.333 | I14: 287.667 | J14: 294.333 | K14: 315 | N14: 417 | O14: 440 | P14: 604 | Q14: 758 | R14: 1010 | S14: 1184.67 | T14: 1435 | U14: 1527 | V14: 2092
B15: Fastening Systems | D15: 81 | E15: 88 | F15: 89 | G15: 85.8333 | H15: 87.6667 | I15: 97.6667 | J15: 95.6667 | K15: 100.333 | N15: 247 | O15: 190 | P15: 189 | Q15: 231.5 | R15: 341 | S15: 394.333 | T15: 465 | U15: 506.333 | V15: 638
B16: Engineered Structures | D16: 26 | E16: 29 | F16: 27 | G16: 28.3333 | H16: 26.6667 | I16: 29.6667 | J16: 30.3333 | K16: 36.3333 | N16: 73 | O16: 54 | P16: 63 | Q16: 55.5 | R16: 105.333 | S16: 127.167 | T16: 155.833 | U16: 175.667 | V16: 196
B17: Forged Wheels | D17: 72 | E17: 65 | F17: 53 | G17: 54.6 | H17: 54.5 | I17: 55.5 | J17: 55 | K17: 67.5 | N17: 153 | O17: 255 | P17: 238 | Q17: 270 | R17: 246.4 | S17: 208.8 | T17: 240.4 | U17: 253.5 | V17: 268
B18: Total Segment Operating Income | D18: 369 | E18: 414 | F18: 421 | G18: 423.917 | H18: 415.288 | I18: 450.52 | J18: 468.068 | K18: 492.469 | M18: 1666.5 | N18: 809 | O18: 866 | P18: 1011 | Q18: 1211 | R18: 1619.62 | S18: 1831.41 | T18: 2126.32 | U18: 2377.67 | V18: 3094
B20: Engine Products | D20: 249 | E20: 292 | F20: 307 | G20: 310.333 | H20: 308 | I20: 328 | J20: 340.333 | K20: 364 | P20: 729 | Q20: 887 | R20: =SUM(D20:G20) -> 1158.333 | S20: =SUM(H20:K20) -> 1340.333 | T20: 1634 | U20: 1610
B21: Fastening Systems | D21: 92 | E21: 101 | F21: 102 | G21: 100.75 | H21: 101 | I21: 110 | J21: 117.333 | K21: 124.333 | P21: 234 | Q21: 278 | R21: =SUM(D21:G21) -> 395.75 | S21: =SUM(H21:K21) -> 452.666 | T21: 528 | U21: 587
B22: Engineered Structures | D22: 37 | E22: 40 | F22: 38 | G22: 40.7667 | H22: 40.3333 | I22: 43.3333 | J22: 44.6667 | K22: 51.6667 | P22: 111 | Q22: 113 | R22: =SUM(D22:G22) -> 155.7667 | S22: =SUM(H22:K22) -> 180 | T22: 209.333 | U22: 233
B23: Forged Wheels | D23: 82 | E23: 75 | F23: 64 | G23: 62.26 | H23: 60.5 | I23: 60.5 | J23: 64 | K23: 79 | P23: 278 | Q23: 309 | R23: =SUM(D23:G23) -> 283.26 | S23: =SUM(H23:K23) -> 264 | T23: 328
B24: Segment Adj. EBITDA | D24: =SUM(D20:D23) -> 460 | E24: =SUM(E20:E23) -> 508 | F24: =SUM(F20:F23) -> 511 | G24: =SUM(G20:G23) -> 514.1097 | H24: =SUM(H20:H23) -> 509.8333 | I24: =SUM(I20:I23) -> 541.8333 | J24: =SUM(J20:J23) -> 566.3327 | K24: =SUM(K20:K23) -> 618.9997 | M24: =SUM(M20:M23) -> 0 | N24: =SUM(N20:N23) -> 0 | O24: =SUM(O20:O23) -> 0 | P24: =SUM(P20:P23) -> 1352 | Q24: =SUM(Q20:Q23) -> 1587 | R24: =SUM(R20:R23) -> 1993.1097 | S24: =SUM(S20:S23) -> 2236.999 | T24: =SUM(T20:T23) -> 2699.333 | ... V24: =SUM(V20:V23) -> 0
B25: Imputed Corp Expense | D25: =D26-SUM(D20:D23) -> -23 | E25: =E26-SUM(E20:E23) -> -25 | F25: =F26-SUM(F20:F23) -> -23 | G25: =G26-SUM(G20:G23) -> -21.2547 | H25: =H26-SUM(H20:H23) -> -23.3873 | I25: =I26-SUM(I20:I23) -> -21.5593 | J25: =J26-SUM(J20:J23) -> -28.8877 | K25: =K26-SUM(K20:K23) -> -52.8297 | P25: =P26-SUM(P20:P23) -> 0 | Q25: =Q26-SUM(Q20:Q23) -> -79 | R25: =SUM(D25:G25) -> -92.2547 | S25: =SUM(H25:K25) -> -126.664 | T25: =T26-SUM(T20:T23) -> -261.263 | U25: =U26-SUM(U20:U23) -> 385
B26: Adj. EBITDA | D26: 437 | E26: 483 | F26: 488 | G26: 492.855 | H26: 486.446 | I26: 520.274 | J26: 537.445 | K26: 566.17 | M26: 2251 | N26: 1088 | O26: 1135 | P26: 1352 | Q26: 1508 | R26: 1906.46 | S26: 2127.16 | T26: 2438.07 | U26: 2815 | V26: 3521
B28: Margin
B29: Engine Products | D29: =D20/D8 -> 0.28135593 | E29: =E20/E8 -> 0.31296892 | F29: =F20/F8 -> 0.32486772 | G29: =G20/G8 -> 0.32242725 | H29: =H20/H8 -> 0.31925369 | I29: =I20/I8 -> 0.32499381 | J29: =J20/J8 -> 0.33292541 | K29: =K20/K8 -> 0.34461538 | M29: =M20/M8 -> #DIV/0! | N29: =N20/N8 -> 0 | O29: =O20/O8 -> 0 | P29: =P20/P8 -> 0.27020015 | Q29: =Q20/Q8 -> 0.27158604 | R29: =R20/R8 -> 0.31092098 | S29: =S20/S8 -> 0.33074226 | T29: =T20/T8 -> 0.35108527 | ... V29: =V20/V8 -> 0
B30: Fastening Systems | D30: =D21/D9 -> 0.23650386 | E30: =E21/E9 -> 0.25634518 | F30: =F21/F9 -> 0.26020408 | G30: =G21/G9 -> 0.257383 | H30: =H21/H9 -> 0.24679291 | I30: =I21/I9 -> 0.26363092 | J30: =J21/J9 -> 0.28103713 | K30: =K21/K9 -> 0.28914651 | M30: =M21/M9 -> #DIV/0! | N30: =N21/N9 -> 0 | O30: =O21/O9 -> 0 | P30: =P21/P9 -> 0.2094897 | Q30: =Q21/Q9 -> 0.20607858 | R30: =R21/R9 -> 0.25264294 | S30: =S21/S9 -> 0.2704098 | T30: =T21/T9 -> 0.27982998 | ... V30: =V21/V9 -> 0
B31: Engineered Structures | D31: =D22/D10 -> 0.14122137 | E31: =E22/E10 -> 0.14545455 | F31: =F22/F10 -> 0.15019763 | G31: =G22/G10 -> 0.15374378 | H31: =H22/H10 -> 0.14938259 | I31: =I22/I10 -> 0.15393712 | J31: =J22/J10 -> 0.16096108 | K31: =K22/K10 -> 0.17618653 | M31: =M22/M10 -> #DIV/0! | N31: =N22/N10 -> 0 | O31: =O22/O10 -> 0 | P31: =P22/P10 -> 0.14050633 | Q31: =Q22/Q10 -> 0.12870159 | R31: =R22/R10 -> 0.14762377 | S31: =S22/S10 -> 0.16039207 | T31: =T22/T10 -> 0.16600555 | ... V31: =V22/V10 -> 0
B32: Forged Wheels | D32: =D23/D11 -> 0.28472222 | E32: =E23/E11 -> 0.26978417 | F32: =F23/F11 -> 0.26122449 | G32: =G23/G11 -> 0.2523263 | H32: =H23/H11 -> 0.24103586 | I32: =I23/I11 -> 0.23976254 | J32: =J23/J11 -> 0.256 | K32: =K23/K11 -> 0.2897307 | M32: =M23/M11 -> #DIV/0! | N32: =N23/N11 -> 0 | O32: =O23/O11 -> 0 | P32: =P23/P11 -> 0.26275992 | Q32: =Q23/Q11 -> 0.26939843 | R32: =R23/R11 -> 0.26779637 | S32: =S23/S11 -> 0.25730994 | T32: =T23/T11 -> 0.28975265 | ... V32: =V23/V11 -> 0
B33: Adj. EBITDA | D33: =D26/D12 -> 0.23958333 | E33: =E26/E12 -> 0.25691489 | F33: =F26/F12 -> 0.26594005 | G33: =G26/G12 -> 0.26414729 | H33: =H26/H12 -> 0.25669974 | I33: =I26/I12 -> 0.26540083 | J33: =J26/J12 -> 0.27319609 | K33: =K26/K12 -> 0.27588885 | M33: =M26/M12 -> 0.15861048 | N33: =N26/N12 -> 0.20688344 | O33: =O26/O12 -> 0.22827836 | P33: =P26/P12 -> 0.23874272 | Q33: =Q26/Q12 -> 0.22710843 | R33: =R26/R12 -> 0.25725011 | S33: =S26/S12 -> 0.27012413 | T33: =T26/T12 -> 0.27289792 | ... V33: =V26/V12 -> 0.33182546
B35: Model
B38: Engine Products | D38: =Model!O151 -> 885 | E38: =Model!P151 -> 933 | F38: =Model!Q151 -> 945 | G38: =Model!R151 -> 998.88124 | H38: =Model!S151 -> 998.11032 | I38: =Model!T151 -> 1038.4063 | J38: =Model!U151 -> 1059.6024 | K38: =Model!V151 -> 1136.2401 | O38: =Model!X151 -> 2282 | P38: =Model!Y151 -> 2698 | Q38: =Model!Z151 -> 3266 | R38: =Model!AA151 -> 3761.8812 | S38: =Model!AB151 -> 4232.3591 | T38: =Model!AC151 -> 5176.3548 | U38: =Model!AD151 -> 6050.9349 | V38: =Model!AE151 -> 7252.6806
B39: Fastening Systems | D39: =Model!O152 -> 389 | E39: =Model!P152 -> 394 | F39: =Model!Q152 -> 392 | G39: =Model!R152 -> 391.44 | H39: =Model!S152 -> 409.25 | I39: =Model!T152 -> 417.25 | J39: =Model!U152 -> 417.5 | K39: =Model!V152 -> 430 | O39: =Model!X152 -> 1044 | P39: =Model!Y152 -> 1117 | Q39: =Model!Z152 -> 1349 | R39: =Model!AA152 -> 1566.44 | S39: =Model!AB152 -> 1674 | T39: =Model!AC152 -> 1886.86 | U39: =Model!AD152 -> 2025.5 | V39: =Model!AE152 -> 2221
B40: Engineered Structures | D40: =Model!O153 -> 262 | E40: =Model!P153 -> 275 | F40: =Model!Q153 -> 253 | G40: =Model!R153 -> 265.16 | H40: =Model!S153 -> 270 | I40: =Model!T153 -> 281.5 | J40: =Model!U153 -> 277.5 | K40: =Model!V153 -> 293.25 | O40: =Model!X153 -> 725 | P40: =Model!Y153 -> 790 | Q40: =Model!Z153 -> 878 | R40: =Model!AA153 -> 1055.16 | S40: =Model!AB153 -> 1122.25 | T40: =Model!AC153 -> 1261 | U40: =Model!AD153 -> 1344 | V40: =Model!AE153 -> 1476
B41: Forged Wheels | D41: =Model!O154 -> 288 | E41: =Model!P154 -> 278 | F41: =Model!Q154 -> 245 | G41: =Model!R154 -> 246.744 | H41: =Model!S154 -> 251 | I41: =Model!T154 -> 252.333 | J41: =Model!U154 -> 250 | K41: =Model!V154 -> 272.667 | O41: =Model!X154 -> 921 | P41: =Model!Y154 -> 1058 | Q41: =Model!Z154 -> 1147 | R41: =Model!AA154 -> 1057.744 | S41: =Model!AB154 -> 1026 | T41: =Model!AC154 -> 1132 | U41: =Model!AD154 -> 1125.67 | V41: =Model!AE154 -> 1178
B42: Total Sales | D42: =SUM(D38:D41) -> 1824 | E42: =SUM(E38:E41) -> 1880 | F42: =SUM(F38:F41) -> 1835 | G42: =SUM(G38:G41) -> 1902.2252 | H42: =SUM(H38:H41) -> 1928.3603 | I42: =SUM(I38:I41) -> 1989.4893 | J42: =SUM(J38:J41) -> 2004.6024 | K42: =SUM(K38:K41) -> 2132.1571 | O42: =SUM(O38:O41) -> 4972 | P42: =SUM(P38:P41) -> 5663 | Q42: =SUM(Q38:Q41) -> 6640 | R42: =SUM(R38:R41) -> 7441.2252 | S42: =SUM(S38:S41) -> 8054.6091 | T42: =SUM(T38:T41) -> 9456.2148 | U42: =SUM(U38:U41) -> 10546.105 | V42: =SUM(V38:V41) -> 12127.681
B44: Engine Products | D44: =Model!O158 -> 249 | E44: =Model!P158 -> 292 | F44: =Model!Q158 -> 307 | G44: =Model!R158 -> 322.06653 | H44: =Model!S158 -> 318.6504 | I44: =Model!T158 -> 337.47563 | J44: =Model!U158 -> 352.76856 | K44: =Model!V158 -> 391.56581 | O44: =Model!X158 -> 564 | P44: =Model!Y158 -> 729 | Q44: =Model!Z158 -> 887 | R44: =Model!AA158 -> 1170.0665 | S44: =Model!AB158 -> 1400.4604 | T44: =Model!AC158 -> 1817.3419 | U44: =Model!AD158 -> 2245.4128 | V44: =Model!AE158 -> 2836.4166
B45: Fastening Systems | D45: =Model!O160 -> 92 | E45: =Model!P160 -> 101 | F45: =Model!Q160 -> 102 | G45: =Model!R160 -> 100.75 | H45: =Model!S160 -> 101 | I45: =Model!T160 -> 110 | J45: =Model!U160 -> 117.333 | K45: =Model!V160 -> 124.333 | O45: =Model!X160 -> 239 | P45: =Model!Y160 -> 234 | Q45: =Model!Z160 -> 278 | R45: =Model!AA160 -> 395.75 | S45: =Model!AB160 -> 452.666 | T45: =Model!AC160 -> 528 | U45: =Model!AD160 -> 587 | V45: =Model!AE160 -> 654.76187
B46: Engineered Structures | D46: =Model!O162 -> 37 | E46: =Model!P162 -> 40 | F46: =Model!Q162 -> 38 | G46: =Model!R162 -> 40.7667 | H46: =Model!S162 -> 40.3333 | I46: =Model!T162 -> 43.3333 | J46: =Model!U162 -> 44.6667 | K46: =Model!V162 -> 51.6667 | O46: =Model!X162 -> 103 | P46: =Model!Y162 -> 111 | Q46: =Model!Z162 -> 113 | R46: =Model!AA162 -> 155.7667 | S46: =Model!AB162 -> 180 | T46: =Model!AC162 -> 209.333 | U46: =Model!AD162 -> 233 | V46: =Model!AE162 -> 263.26393
B47: Forged Wheels | D47: =Model!O164 -> 82 | E47: =Model!P164 -> 75 | F47: =Model!Q164 -> 64 | G47: =Model!R164 -> 62.26 | H47: =Model!S164 -> 60.5 | I47: =Model!T164 -> 60.5 | J47: =Model!U164 -> 64 | K47: =Model!V164 -> 79 | O47: =Model!X164 -> 294 | P47: =Model!Y164 -> 278 | Q47: =Model!Z164 -> 309 | R47: =Model!AA164 -> 283.26 | S47: =Model!AB164 -> 264 | T47: =Model!AC164 -> 328 | U47: =Model!AD164 -> 331.79422 | V47: =Model!AE164 -> 353.10862
B48: Segment EBITDA | D48: =Model!O166 -> 460 | E48: =Model!P166 -> 508 | F48: =Model!Q166 -> 511 | G48: =Model!R166 -> 525.84323 | H48: =Model!S166 -> 520.4837 | I48: =Model!T166 -> 551.30893 | J48: =Model!U166 -> 578.76826 | K48: =Model!V166 -> 646.56551 | O48: =Model!X166 -> 1200 | P48: =Model!Y166 -> 1352 | Q48: =Model!Z166 -> 1587 | R48: =Model!AA166 -> 2004.8432 | S48: =Model!AB166 -> 2297.1264 | T48: =Model!AC166 -> 2882.6749 | U48: =Model!AD166 -> 3397.207 | V48: =Model!AE166 -> 4107.551
B49: Adj. EBITDA | D49: =Model!O171 -> 437 | E49: =Model!P171 -> 483 | F49: =Model!Q171 -> 487 | G49: =Model!R171 -> 500.96399 | H49: =Model!S171 -> 495.26264 | I49: =Model!T171 -> 525.28836 | J49: =Model!U171 -> 552.55002 | K49: =Model!V171 -> 618.67899 | O49: =Model!X171 -> 1135 | P49: =Model!Y171 -> 1271 | Q49: =Model!Z171 -> 1508 | R49: =Model!AA171 -> 1907.964 | S49: =Model!AB171 -> 2191.78 | T49: =Model!AC171 -> 2758.9969 | U49: =Model!AD171 -> 3259.2743 | V49: =Model!AE171 -> 3948.9328
...

Sheet Sheet1
D3: 2012 | G3: 2010 | H3: 2011 | I3: =H3+1 -> 2012 | J3: =I3+1 -> 2013 | K3: 2014 | L3: 2015 | M3: 2016 | N3: 2017 | O3: 2018 | P3: 2019 | Q3: 2020 | R3: 2021 | S3: =R3+1 -> 2022 | T3: =S3+1 -> 2023 | U3: =T3+1 -> 2024
C4: Sales | L4: 2991 | M4: 2967 | N4: 3271
C5: COGS | L5: 2437 | M5: 2375 | N5: 2656
C7: Gross Profit | L7: =L4-L5 -> 554 | M7: =M4-M5 -> 592 | N7: =N4-N5 -> 615 | R7: 1376 | S7: 1560 | T7: 1867 | U7: 2330.1115
L8: =L7/L4 -> 0.18522233 | M8: =M7/M4 -> 0.19952814 | N8: =N7/N4 -> 0.1880159 | P8: 0.22 | R8: 0.2767498 | S8: 0.27547236 | T8: 0.2811747 | U8: 0.30975977
E11: HXL | F11: Sales | P11: 2355.7 | U11: 456.5
F12: COGS | P12: 1715.3 | U12: 350
F13: GP | P13: =P11-P12 -> 640.4 | U13: =U11-U12 -> 106.5
P14: =P13/P11 -> 0.27185125 | U14: =U13/U11 -> 0.23329682
E16: TDG | F16: Sales | G16: 827654 | M16: 3171411 | P16: 5223203 | U16: 7940
F17: COGS | M17: 1443348 | P17: 2413932 | U17: 3268
F18: GP | G18: 473066 | M18: =M16-M17 -> 1728063 | P18: =P16-P17 -> 2809271 | U18: =U16-U17 -> 4672
G19: =G18/G16 -> 0.5715746 | M19: =M18/M16 -> 0.54488775 | P19: =P18/P16 -> 0.5378445 | U19: =U18/U16 -> 0.5884131
E21: HON | F21: Sales | P21: 14054 | R21: 11026 | U21: 11472
F22: COGS | P22: 9398 | R22: 7191 | U22: 7081
F23: GP | P23: =P21-P22 -> 4656 | R23: =R21-R22 -> 3835 | U23: =U21-U22 -> 4391
P24: =P23/P21 -> 0.33129358 | R24: =R23/R21 -> 0.34781426 | U24: =U23/U21 -> 0.38275802
E26: Henkel | F26: Sales | U26: 21514
F27: COS | U27: 11853
F28: GP | U28: =U26-U27 -> 9661
U29: =U28/U26 -> 0.44905643

Sheet Data Center Demand Build
C4: 2023 | D4: 2024 | E4: =D4+1 -> 2025 | F4: =E4+1 -> 2026 | G4: =F4+1 -> 2027 | H4: =G4+1 -> 2028 | I4: =H4+1 -> 2029 | J4: =I4+1 -> 2030 | L4: '23-'30 CAGR
B5: MW Capacity Installed | C5: 55000 | D5: =C5*(1+$L$5) -> 67002.13 | E5: =D5*(1+$L$5) -> 81623.371 | F5: =E5*(1+$L$5) -> 99435.267 | G5: =F5*(1+$L$5) -> 121134.08 | H5: =G5*(1+$L$5) -> 147568.03 | I5: =H5*(1+$L$5) -> 179770.41 | J5: 219000 | L5: =RATE(7,,-C5,J5) -> 0.21822054
B7: Utility Constrain % | D7: 0 | E7: 0.1 | F7: 0.2 | G7: 0.4 | H7: =G7 -> 0.4 | I7: =H7 -> 0.4 | J7: =I7 -> 0.4
B9: Utility Constrained MW | D9: =D7*D5 -> 0 | E9: =E7*E5 -> 8162.3371 | F9: =F7*F5 -> 19887.053 | G9: =G7*G5 -> 48453.634 | H9: =H7*H5 -> 59027.212 | I9: =I7*I5 -> 71908.162 | J9: =J7*J5 -> 87600
B11: Gas Turbine Capture | D11: 0.5 | E11: =D11 -> 0.5 | F11: =E11 -> 0.5 | G11: =F11 -> 0.5 | H11: =G11 -> 0.5 | I11: =H11 -> 0.5 | J11: =I11 -> 0.5
B13: Gas Turbine MW | D13: =D11*D9 -> 0 | E13: =E11*E9 -> 4081.1685 | F13: =F11*F9 -> 9943.5267 | G13: =G11*G9 -> 24226.817 | H13: =H11*H9 -> 29513.606 | I13: =I11*I9 -> 35954.081 | J13: =J11*J9 -> 43800
B15: Avg. MW / unit | D15: 20 | E15: =D15 -> 20 | F15: =E15 -> 20 | G15: =F15 -> 20 | H15: =G15 -> 20 | I15: =H15 -> 20 | J15: =I15 -> 20
B17: # of Units | D17: =D13/D15 -> 0 | E17: =E13/E15 -> 204.05843 | F17: =F13/F15 -> 497.17633 | G17: =G13/G15 -> 1211.3408 | H17: =H13/H15 -> 1475.6803 | I17: =I13/I15 -> 1797.7041 | J17: =J13/J15 -> 2190
B19: Memo: Engine Products Commercial Aero Ship Set | D19: =Model!AA74 -> 1.5224116 | E19: =Model!AB74 -> 1.4905257 | F19: =Model!AC74 -> 1.6149164 | G19: =Model!AD74 -> 1.6220726 | H19: =Model!AE74 -> 1.7713648 | I19: =Model!AF74 -> 1.7546538 | J19: =Model!AG74 -> 1.7381004
B21: Premium / (Discount) to Commercial Aero Ship Set | D21: -0.75 | E21: =D21 -> -0.75 | F21: =E21 -> -0.75 | G21: =F21 -> -0.75 | H21: =G21 -> -0.75 | I21: =H21 -> -0.75 | J21: =I21 -> -0.75
B23: $ / Gas Turbine Volume | D23: =D19*(1+D21) -> 0.38060291 | E23: =E19*(1+E21) -> 0.37263144 | F23: =F19*(1+F21) -> 0.40372909 | G23: =G19*(1+G21) -> 0.40551816 | H23: =H19*(1+H21) -> 0.44284119 | I23: =I19*(1+I21) -> 0.43866345 | J23: =J19*(1+J21) -> 0.43452511
B25: Revenue | D25: =D23*D17 -> 0 | E25: =E23*E17 -> 76.038584 | F25: =F23*F17 -> 200.72455 | G25: =G23*G17 -> 491.22071 | H25: =H23*H17 -> 653.49202 | I25: =I23*I17 -> 788.58705 | J25: =J23*J17 -> 951.61

Sheet DCF
B2: Assumptions
B4: Value Date | C4: 45657
B5: Stub period | C5: 1
B6: End | C6: 45657
B7: Tax Rate | C7: 0.15
B8: WACC | C8: 0.095
B9: PGR | C9: 0.04
B12: Discounted Cash Flow Analysis
C14: 2024 | D14: =C14+1 -> 2025 | E14: =D14+1 -> 2026 | F14: =E14+1 -> 2027 | G14: =F14+1 -> 2028 | H14: =G14+1 -> 2029 | I14: =H14+1 -> 2030 | J14: Terminal Year
B16: Revenue | C16: =Model!AA122 -> 7441.2252 | D16: =Model!AB122 -> 8054.6091 | E16: =Model!AC122 -> 9456.2148 | F16: =Model!AD122 -> 10546.105 | G16: =Model!AE122 -> 12127.681 | H16: =Model!AF122 -> 13278.624 | I16: =Model!AG122 -> 14618.822 | J16: =I16 -> 14618.822
B17: % Growth | D17: =D16/C16-1 -> 0.082430496 | E17: =E16/D16-1 -> 0.17401287 | F17: =F16/E16-1 -> 0.11525649 | G17: =G16/F16-1 -> 0.14996776 | H17: =H16/G16-1 -> 0.094902164 | I17: =I16/H16-1 -> 0.10092899
B19: EBIT | C19: =Model!AA186 -> 1678.7158 | D19: =Model!AB186 -> 1909.8687 | E19: =Model!AC186 -> 2286.1862 | F19: =Model!AD186 -> 2837.4301 | G19: =Model!AE186 -> 3524.464 | H19: =Model!AF186 -> 4142.6587 | I19: =Model!AG186 -> 4883.5123 | J19: =I19 -> 4883.5123
B20: % Margin | C20: =C19/C$16 -> 0.22559669 | D20: =D19/D$16 -> 0.23711501 | E20: =E19/E$16 -> 0.24176547 | F20: =F19/F$16 -> 0.26905006 | G20: =G19/G$16 -> 0.29061319 | H20: =H19/H$16 -> 0.31197952 | I20: =I19/I$16 -> 0.33405649 | J20: =J19/J$16 -> 0.33405649
B22: Plus: D&A | C22: =-Model!AA184 -> -270.57788 | D22: =-Model!AB184 -> -281.91132 | E22: =-Model!AC184 -> -472.81074 | F22: =-Model!AD184 -> -421.8442 | G22: =-Model!AE184 -> -424.46882 | H22: =-Model!AF184 -> -398.35871 | I22: =-Model!AG184 -> -365.47055 | J22: =I22 -> -365.47055
B23: Less: Cash Taxes | C23: =C19*-$C$7 -> -251.80737 | D23: =D19*-$C$7 -> -286.48031 | E23: =E19*-$C$7 -> -342.92792 | F23: =F19*-$C$7 -> -425.61452 | G23: =G19*-$C$7 -> -528.6696 | H23: =H19*-$C$7 -> -621.39881 | I23: =I19*-$C$7 -> -732.52685 | J23: =I23 -> -732.52685
B24: Less: CapEx | C24: =Model!AA292 -> -304.00407 | D24: =Model!AB292 -> -359.93349 | E24: =Model!AC292 -> -378.24859 | F24: =Model!AD292 -> -369.11367 | G24: =Model!AE292 -> -363.83042 | H24: =Model!AF292 -> -331.96559 | I24: =Model!AG292 -> -292.37644 | J24: =I24 -> -292.37644
B25: Less: Change in NWC | C25: =Model!AA317 -> -327.40833 | D25: =Model!AB317 -> -131.83396 | E25: =Model!AC317 -> -150.98777 | F25: =Model!AD317 -> -55.016599 | G25: =Model!AE317 -> -106.93356 | H25: =Model!AF317 -> -6.5355474 | I25: =Model!AG317 -> -3.3371126 | J25: =I25 -> -3.3371126
B26: Unlevered Free Cash Flow | C26: =C19+SUM(C22:C25) -> 524.91816 | D26: =D19+SUM(D22:D25) -> 849.70963 | E26: =E19+SUM(E22:E25) -> 941.21114 | F26: =F19+SUM(F22:F25) -> 1565.8411 | G26: =G19+SUM(G22:G25) -> 2100.5616 | H26: =H19+SUM(H22:H25) -> 2784.4001 | I26: =I19+SUM(I22:I25) -> 3489.8014 | J26: =J19+SUM(J22:J25) -> 3489.8014
B27: Stubbed UFCF | C27: =C26 -> 524.91816 | D27: =D26*C5 -> 849.70963 | E27: =E26 -> 941.21114 | F27: =F26 -> 1565.8411 | G27: =G26 -> 2100.5616 | H27: =H26 -> 2784.4001 | I27: =I26 -> 3489.8014 | J27: =J26 -> 3489.8014
B29: Discount Period | D29: =C5/2 -> 0.5 | E29: =D29+1 -> 1.5 | F29: =E29+1 -> 2.5 | G29: =F29+1 -> 3.5 | H29: =G29+1 -> 4.5 | I29: =H29+1 -> 5.5 | J29: =H29 -> 4.5
B30: Discount Factor | D30: =1/(1+$D$35)^D29 -> 0.95563697 | E30: =1/(1+$D$35)^E29 -> 0.87272782 | F30: =1/(1+$D$35)^F29 -> 0.79701171 | G30: =1/(1+$D$35)^G29 -> 0.72786458 | H30: =1/(1+$D$35)^H29 -> 0.66471651 | I30: =1/(1+$D$35)^I29 -> 0.60704704 | J30: =1/(1+$D$35)^J29 -> 0.66471651
B31: PV of Free Cash Flows | D31: =D30*D27 -> 812.01394 | E31: =E30*E27 -> 821.42114 | F31: =F30*F27 -> 1247.9937 | G31: =G30*G27 -> 1528.9244 | H31: =H30*H27 -> 1850.8367 | I31: =I30*I27 -> 2118.4736 | J31: =J30*J27 -> 2319.7286
B34: Perpetuity Growth Methodology
B35: Discount Rate | D35: =C8 -> 0.095
B36: Perpetuity Growth Rate | D36: =C9 -> 0.04
B38: Discount Factor for TV | D38: =J30 -> 0.66471651
B39: Free Cash Flow in Terminal Year | D39: =J26 -> 3489.8014
B40: Terminal Value | D40: =(D39*(1+D36)/(D35-D36)) -> 65988.972
B42: Present Value of Projection Period | D42: =SUM(D31:I31) -> 8379.6635
B43: Present Value of Terminal Value | D43: =D40*D38 -> 43863.959
B44: Implied Enterprise Value | D44: =SUM(D42:D43) -> 52243.622
B46: Less: Net Debt | D46: =SUM('HWM- TSM'!E15:E16) -> 2919
B47: Implied Equity Value | D47: =D44-D46 -> 49324.622
B49: FDSO | D49: ='HWM- TSM'!C3 -> 406.26065
B50: Implied DCF Value Per Share | D50: =D47/D49 -> 121.41127
B52: Current Price | D52: ='HWM- TSM'!C5 -> 110.83
B53: Implied Premium / (Discount) to Current | D53: =D50/D52-1 -> 0.095472999
B55: Implied Terminal EBITDA Multiple Calculation
B56: Adjusted Terminal Valuation | D56: =+D40*(1+D35)^(0.5) -> 69052.343
B57: Terminal Year EBITDA | D57: =J19+J22 -> 4518.0418
...

Sheet WACC
B2: WACC Calculation
B4: WACC Calculation
G5: Prospective Cost of Equity and WACC
G6: Low | H6: High
B7: Prospective US Equity Risk Premium | G7: 0.04 | H7: 0.05
B9: Multiply by: Prospective Levered Equity Beta | G9: ='Beta Determination'!K46 -> 1.1356286 | H9: =G9 -> 1.1356286
B10: Corresponding Prospective Unlevered Equity Beta | G10: ='Beta Determination'!K44 -> 1.0769402 | H10: =G10 -> 1.0769402
B11: Adjusted Prospective US Equity Risk Premium | G11: =G7*G9 -> 0.045425144 | H11: =H7*H9 -> 0.05678143
B12: Add: Risk-Free Rate of Return (Rf) | G12: 0.0489 | H12: =G12 -> 0.0489
B13: Illustrative Prospective Cost of Equity | G13: =SUM(G11:G12) -> 0.094325144 | H13: =SUM(H11:H12) -> 0.10568143
B14: Multiply by: Prospective E/(D+E) | G14: =1-G29 -> 0.93226131 | H14: =1-H29 -> 0.93226131
B15: Cost of Equity Portion | G15: =G13*G14 -> 0.087935682 | H15: =H13*H14 -> 0.098522708 | N15: 24FYQ3
B17: Assumed Cost of Debt (Kd) | G17: =N19 -> 0.051856217 | H17: =G17 -> 0.051856217 | L17: Interest Exp | N17: =Model!Q190*4 -> 176
B18: Assumed Tax Rate | G18: 0.15 | H18: =G18 -> 0.15 | L18: Tot. Debt | N18: ='[7]HWM- TSM'!$E$15 -> 3394
B19: After-Tax Cost of Debt | G19: =G17*(1-G18) -> 0.044077784 | H19: =H17*(1-H18) -> 0.044077784 | L19: Implied Rate | N19: =N17/N18 -> 0.051856217
B20: Multiply by: Prospective D/(D+E) | G20: =1-G14 -> 0.067738688 | H20: =1-H14 -> 0.067738688
B21: Cost of Debt Portion | G21: =G19*G20 -> 0.0029857713 | H21: =H19*H20 -> 0.0029857713
B23: Prospective WACC Range | G23: =G21+G15 -> 0.090921454 | H23: =H21+H15 -> 0.10150848
B25: Midpoint WACC | G25: =AVERAGE(G23:H23) -> 0.096214967
B27: Memo:
B28: D/E | G28: =H28 -> 0.072660624 | H28: ='Beta Determination'!K45 -> 0.072660624
B29: D/(D+E) | G29: =G28/(1+G28) -> 0.067738688 | H29: =H28/(1+H28) -> 0.067738688

Sheet Beta Determination
A3: Howmet Marginal Tax Rate | D3: 0.25
G7: Market Value of Common Equity | H7: Total Debt + Pref Stock | I7: Leverage Ratios
C8: Company | F8: 5 Years | I8: D / E | J8: D / (D + E) | K8: 5 Years | M8: Marginal Tax Rate
C10: Howmet | F10: 1.3 | G10: ='[7]HWM- TSM'!$E$14 -> 45069.948 | H10: ='[7]HWM- TSM'!$E$15 -> 3394 | I10: =H10/G10 -> 0.075305168 | J10: =H10/(H10+G10) -> 0.070031439 | K10: =F10/(1+($I10*(1-($M10)))) -> 1.2305026 | M10: 0.25
C12: Aerospace Peers
C13: Transdigm | F13: 1.39 | G13: =ROIC!F12 -> 75595.824 | H13: ='TDG - TSM'!E16 -> 24880 | I13: =H13/G13 -> 0.32911871 | J13: =H13/(H13+G13) -> 0.24762176 | K13: =F13/(1+($I13*(1-($M13)))) -> 1.1148191 | M13: 0.25
C14: Heico | F14: 1.26 | G14: =ROIC!F7 -> 33662.579 | H14: ='HEI- TSM'!E15 -> 2229.374 | I14: =H14/G14 -> 0.066227072 | J14: =H14/(H14+G14) -> 0.062113478 | K14: =F14/(1+($I14*(1-($M14)))) -> 1.2003769 | M14: =M13 -> 0.25
C15: Ametek | F15: 1.16 | G15: =ROIC!F5 -> 42663.614 | H15: ='AME - TSM'!E16 -> 2336.534 | I15: =H15/G15 -> 0.054766434 | J15: =H15/(H15+G15) -> 0.051922807 | K15: =F15/(1+($I15*(1-($M15)))) -> 1.1142331 | M15: =M14 -> 0.25
C16: Mean | F16: =AVERAGE(F13:F15) -> 1.27 | G16: =AVERAGE(G13:G15) -> 50640.672 | H16: =AVERAGE(H13:H15) -> 9815.3027 | I16: =AVERAGE(I13:I15) -> 0.1500374 | J16: =AVERAGE(J13:J15) -> 0.12055268 | K16: =AVERAGE(K13:K15) -> 1.143143
C17: Median | F17: =MEDIAN(F13:F15) -> 1.26 | G17: =MEDIAN(G13:G15) -> 42663.614 | H17: =MEDIAN(H13:H15) -> 2336.534 | I17: =MEDIAN(I13:I15) -> 0.066227072 | J17: =MEDIAN(J13:J15) -> 0.062113478 | K17: =MEDIAN(K13:K15) -> 1.1148191
C20: Reference Range - Prospective Unlevered Equity Beta | K20: =MAX(K17:K17) -> 1.1148191
C21: Target Debt / Equity Ratio | K21: =I17 -> 0.066227072
C22: Refernce Range - Prospective Levered Equity Beta | K22: =K20*(1+(K21*(1-$D$3))) -> 1.1701925
C24: Industrial Compounder Peers
C25: Amphenol | F25: 1.24 | G25: =ROIC!F6 -> 45057.954 | H25: ='APH - TSM'!E15 -> 2909.6 | I25: =H25/G25 -> 0.064574614 | J25: =H25/(H25+G25) -> 0.060657669 | K25: =F25/(1+($I25*(1-($M25)))) -> 1.1827197 | M25: =$M$15 -> 0.25
C26: IDEX | F26: 0.95 | G26: =ROIC!F8 -> 16159.728 | H26: ='IEX- TSM'!E16 -> 2075.1 | I26: =H26/G26 -> 0.12841181 | J26: =H26/(H26+G26) -> 0.11379871 | K26: =F26/(1+($I26*(1-($M26)))) -> 0.86654412 | M26: =$M$15 -> 0.25
C27: Eaton | F27: 1.03 | G27: =ROIC!F11 -> 134140.62 | H27: ='ETN - TSM'!E15 -> 9392 | I27: =H27/G27 -> 0.070016079 | J27: =H27/(H27+G27) -> 0.065434605 | K27: =F27/(1+($I27*(1-($M27)))) -> 0.97861111 | M27: =$M$15 -> 0.25
C28: Roper | F28: 1.03 | G28: =ROIC!F9 -> 56981.315 | H28: ='ROP- TSM'!E15 -> 8376.6 | I28: =H28/G28 -> 0.14700609 | J28: =H28/(H28+G28) -> 0.12816504 | K28: =F28/(1+($I28*(1-($M28)))) -> 0.92771517 | M28: =$M$15 -> 0.25
C29: Mean | F29: =AVERAGE(F25:F28) -> 1.0625 | G29: =AVERAGE(G25:G28) -> 63084.903 | H29: =AVERAGE(H25:H28) -> 5688.325 | I29: =AVERAGE(I25:I28) -> 0.10250215 | J29: =AVERAGE(J25:J28) -> 0.092014008 | K29: =AVERAGE(K25:K28) -> 0.98889754
C30: Median | F30: =MEDIAN(F25:F28) -> 1.03 | G30: =MEDIAN(G25:G28) -> 51019.634 | H30: =MEDIAN(H25:H28) -> 5643.1 | I30: =MEDIAN(I25:I28) -> 0.099213947 | J30: =MEDIAN(J25:J28) -> 0.08961666 | K30: =MEDIAN(K25:K28) -> 0.95316314
C33: Reference Range - Prospective Unlevered Equity Beta | K33: =MAX(K30:K30) -> 0.95316314
C34: Target Debt / Equity Ratio | K34: =I29 -> 0.10250215
C35: Refernce Range - Prospective Levered Equity Beta | K35: =K33*(1+(K34*(1-$D$3))) -> 1.0264391
C38: Total Comp Set
C40: Mean | F40: =AVERAGE(F10,F13,F14,F15,F25,F26,F27,F28) -> 1.17 | G40: =AVERAGE(G10,G13,G14,G15,G25,G26,G27,G28) -> 56166.447 | H40: =AVERAGE(H10,H13,H14,H15,H25,H26,H27,H28) -> 6949.151 | I40: =AVERAGE(I10,I13,I14,I15,I25,I26,I27,I28) -> 0.11692825 | J40: =AVERAGE(J10,J13,J14,J15,J25,J26,J27,J28) -> 0.099968189 | K40: =AVERAGE(K10,K13,K14,K15,K25,K26,K27,K28) -> 1.0769402
C41: Median | F41: =MEDIAN(F10,F13,F14,F15,F25,F26,F27,F28) -> 1.2 | G41: =MEDIAN(G10,G13,G14,G15,G25,G26,G27,G28) -> 45063.951 | H41: =MEDIAN(H10,H13,H14,H15,H25,H26,H27,H28) -> 3151.8 | I41: =MEDIAN(I10,I13,I14,I15,I25,I26,I27,I28) -> 0.072660624 | J41: =MEDIAN(J10,J13,J14,J15,J25,J26,J27,J28) -> 0.067733022 | K41: =MEDIAN(K10,K13,K14,K15,K25,K26,K27,K28) -> 1.1145261
C44: Reference Range - Prospective Unlevered Equity Beta | K44: =K40 -> 1.0769402
C45: Target Debt / Equity Ratio | K45: =I41 -> 0.072660624
C46: Refernce Range - Prospective Levered Equity Beta | K46: =K44*(1+(K45*(1-$D$3))) -> 1.1356286

Sheet IRR Analysis
C4: 45657 | D4: 46022 | E4: 46387 | F4: Downside
B6: EBITDA (NTM) | D6: =Model!AC171 -> 2758.9969 | E6: =Model!AD171 -> 3259.2743 | F6: =E6 -> 3259.2743
B8: Multiple - 6 month High | D8: 25.4 | E8: =D8 -> 25.4
B9: Multiple - 6 month Low | D9: 19.4 | E9: =D9 -> 19.4 | F9: 15
B10: Average Multiple | D10: =AVERAGE(D8:D9) -> 22.4 | E10: =AVERAGE(E8:E9) -> 22.4 | F10: =F9 -> 15
B12: TEV | D12: =D$6*D10 -> 61801.531 | E12: =E$6*E10 -> 73007.745 | F12: =F$6*F10 -> 48889.115
B13: Less: Net Debt | D13: =SUM(Model!AB235-Model!AB211) -> 2192.4537 | E13: =SUM(Model!AC235-Model!AC211) -> 1307.3958 | F13: =SUM(Model!AD235-Model!AD211) -> -25.968006
B15: Equity Value | D15: =D12-D$13 -> 59609.077 | E15: =E12-E$13 -> 71700.349 | F15: =F12-F$13 -> 48915.083
B16: FDSO | D16: =Model!AB199 -> 410.50413 | E16: =Model!AC199 -> 410.50413 | F16: =Model!AD199 -> 410.50413
B18: Implied Share Price | D18: =D15/D$16 -> 145.20945 | E18: =E15/E$16 -> 174.66414 | F18: =F15/F$16 -> 119.15857
B20: Shares Purchased (mm) | C20: =C22/C21 -> 0.44951901 | D20: =C20 -> 0.44951901 | E20: =D20 -> 0.44951901 | F20: =E20 -> 0.44951901
B21: Entry Price | C21: 111.23
B22: Total Value ($m) | C22: 50
B24: Exit Value | D24: =D18*D$20 -> 65.274407 | E24: =E18*E$20 -> 78.514851 | F24: =F18*F$20 -> 53.564041
B26: Broker Fee | C26: 0.0025 | D26: =C26 -> 0.0025 | E26: =C26 -> 0.0025 | F26: =D26 -> 0.0025
B27: Broker Fee ($m) | C27: =C26*-C22 -> -0.125 | D27: =D26*-D24 -> -0.16318602 | E27: =E26*-E24 -> -0.19628713 | F27: =F26*-F24 -> -0.1339101
B29: DPS | D29: =Model!AB322 -> 0.32851848 | E29: =Model!AC322 -> 0.36137033 | F29: =Model!AA322 -> 0.26776452
B30: Dividends | D30: =D29*D20 -> 0.14767531 | E30: =E29*E20 -> 0.16244284 | F30: =F29*F20 -> 0.12036525
B32: Total Cash Flow - 1 Year | C32: =-C22+C27+C30 -> -50.125 | D32: =D24+D27+D30 -> 65.258896
B33: Total Cash Flow - 2 Year | C33: =C32 -> -50.125 | E33: =E24+E27+E30 -> 78.481006
B35: IRR | D35: =XIRR(C32:D32,C4:D4) -> 0.30192311 | E35: =XIRR(C33:E33,C4:E4) -> 0.25128168
B37: Downside

Sheet Financial Overview
C3: 2023 | D3: =C3+1 -> 2024 | E3: =D3+1 -> 2025 | F3: =E3+1 -> 2026 | G3: =F3+1 -> 2027 | H3: =G3+1 -> 2028 | I3: =H3+1 -> 2029 | J3: =I3+1 -> 2030
B5: Aero Units
B7: Aero-Commercial Units | C7: =Model!Z36 -> 1485 | D7: =Model!AA36 -> 1378 | E7: =Model!AB36 -> 1536.36 | F7: =Model!AC36 -> 1628.5416 | G7: =Model!AD36 -> 1726.2541 | H7: =Model!AE36 -> 1829.8293 | I7: =Model!AF36 -> 1939.6191 | J7: =Model!AG36 -> 2055.9962
B8: Implied Ship Set | C8: =Model!X72 -> 1.8132261 | D8: =Model!Y72 -> 1.9742424 | E8: =Model!Z72 -> 2.1744108 | F8: =Model!AA72 -> 2.7934171 | G8: =Model!AB72 -> 2.6998751 | H8: =Model!AC72 -> 2.8991293 | I8: =Model!AD72 -> 2.9185676 | J8: =Model!AE72 -> 3.1134274
B10: Aero-Defense Units | C10: =Model!Z56 -> 317 | D10: =Model!AA56 -> 291.28 | E10: =Model!AB56 -> 476.45159 | F10: =Model!AC56 -> 506 | G10: =Model!AD56 -> 519 | H10: =Model!AE56 -> 532 | I10: =Model!AF56 -> 546 | J10: =Model!AG56 -> 560
B11: Implied Ship Set | C11: =Model!Z88 -> 3.2018927 | D11: =Model!AA88 -> 3.9624285 | E11: =Model!AB88 -> 2.6171945 | F11: =Model!AC88 -> 2.8100866 | G11: =Model!AD88 -> 2.9210662 | H11: =Model!AE88 -> 3.2394129 | I11: =Model!AF88 -> 3.3141686 | J11: =Model!AG88 -> 3.3928801
B13: Sales
B14: Aero- Commercial | C14: =Model!Z127 -> 3229 | D14: =Model!AA127 -> 3849.3288 | E14: =Model!AB127 -> 4147.9802 | F14: =Model!AC127 -> 4721.3527 | G14: =Model!AD127 -> 5038.1893 | H14: =Model!AE127 -> 5697.0408 | I14: =Model!AF127 -> 5981.8928 | J14: =Model!AG127 -> 6280.9875
B15: Aero- Defense | C15: =Model!Z128 -> 1015 | D15: =Model!AA128 -> 1154.1762 | E15: =Model!AB128 -> 1246.9665 | F15: =Model!AC128 -> 1421.9038 | G15: =Model!AD128 -> 1516.0334 | H15: =Model!AE128 -> 1723.3677 | I15: =Model!AF128 -> 1809.536 | J15: =Model!AG128 -> 1900.0128
B16: Commercial Transport | C16: =Model!Z129 -> 1402 | D16: =Model!AA129 -> 1321.6511 | E16: =Model!AB129 -> 1303.5765 | F16: =Model!AC129 -> 1444.8722 | G16: =Model!AD129 -> 1461.531 | H16: =Model!AE129 -> 1546.2781 | I16: =Model!AF129 -> 1623.592 | J16: =Model!AG129 -> 1704.7716
B17: Industrial & Other | C17: =Model!Z130 -> 994 | D17: =Model!AA130 -> 1116.0691 | E17: =Model!AB130 -> 1356.0859 | F17: =Model!AC130 -> 1868.0861 | G17: =Model!AD130 -> 2530.3513 | H17: =Model!AE130 -> 3160.9941 | I17: =Model!AF130 -> 3863.6029 | J17: =Model!AG130 -> 4733.05
B18: Total Sales | C18: =SUM(C14:C17) -> 6640 | D18: =SUM(D14:D17) -> 7441.2252 | E18: =SUM(E14:E17) -> 8054.6091 | F18: =SUM(F14:F17) -> 9456.2148 | G18: =SUM(G14:G17) -> 10546.105 | H18: =SUM(H14:H17) -> 12127.681 | I18: =SUM(I14:I17) -> 13278.624 | J18: =SUM(J14:J17) -> 14618.822
B19: Memo : Data Center Sales | C19: =Model!Z110 -> 0 | D19: =Model!AA110 -> 0 | E19: =Model!AB110 -> 76.038584 | F19: =Model!AC110 -> 200.72455 | G19: =Model!AD110 -> 491.22071 | H19: =Model!AE110 -> 653.49202 | I19: =Model!AF110 -> 788.58705 | J19: =Model!AG110 -> 951.61
B21: Gross Profit | C21: =Model!Z181 -> 1867 | D21: =Model!AA181 -> 2307.4077 | E21: =Model!AB181 -> 2604.3867 | F21: =Model!AC181 -> 3243.4025 | G21: =Model!AD181 -> 3799.5108 | H21: =Model!AE181 -> 4570.1873 | I21: =Model!AF181 -> 5221.2303 | J21: =Model!AG181 -> 5997.849
B22: Margin % | C22: =C21/C$18 -> 0.2811747 | D22: =D21/D$18 -> 0.31008437 | E22: =E21/E$18 -> 0.32334117 | F22: =F21/F$18 -> 0.34299162 | G22: =G21/G$18 -> 0.36027622 | H22: =H21/H$18 -> 0.37683935 | I22: =I21/I$18 -> 0.39320568 | J22: =J21/J$18 -> 0.41028265
B24: EBITDA
B25: Engine Products | C25: =Model!Z158 -> 887 | D25: =Model!AA158 -> 1170.0665 | E25: =Model!AB158 -> 1400.4604 | F25: =Model!AC158 -> 1817.3419 | G25: =Model!AD158 -> 2245.4128 | H25: =Model!AE158 -> 2836.4166 | I25: =Model!AF158 -> 3354.4039 | J25: =Model!AG158 -> 3985.0102
B26: Fastening Systems | C26: =Model!Z160 -> 278 | D26: =Model!AA160 -> 395.75 | E26: =Model!AB160 -> 452.666 | F26: =Model!AC160 -> 528 | G26: =Model!AD160 -> 587 | H26: =Model!AE160 -> 654.76187 | I26: =Model!AF160 -> 699.16022 | J26: =Model!AG160 -> 746.36149
B27: Engineered Structures | C27: =Model!Z162 -> 113 | D27: =Model!AA162 -> 155.7667 | E27: =Model!AB162 -> 180 | F27: =Model!AC162 -> 209.333 | G27: =Model!AD162 -> 233 | H27: =Model!AE162 -> 263.26393 | I27: =Model!AF162 -> 284.17613 | J27: =Model!AG162 -> 306.52138
B28: Forged Wheels | C28: =Model!Z164 -> 309 | D28: =Model!AA164 -> 283.26 | E28: =Model!AB164 -> 264 | F28: =Model!AC164 -> 328 | G28: =Model!AD164 -> 331.79422 | H28: =Model!AE164 -> 353.10862 | I28: =Model!AF164 -> 376.94855 | J28: =Model!AG164 -> 402.28971
B29: Segment Adj. EBITDA | C29: =SUM(C25:C28) -> 1587 | D29: =SUM(D25:D28) -> 2004.8432 | E29: =SUM(E25:E28) -> 2297.1264 | F29: =SUM(F25:F28) -> 2882.6749 | G29: =SUM(G25:G28) -> 3397.207 | H29: =SUM(H25:H28) -> 4107.551 | I29: =SUM(I25:I28) -> 4714.6888 | J29: =SUM(J25:J28) -> 5440.1827
B31: Total Adj. EBITDA | C31: =Model!Z171 -> 1508 | D31: =Model!AA171 -> 1907.964 | E31: =Model!AB171 -> 2191.78 | F31: =Model!AC171 -> 2758.9969 | G31: =Model!AD171 -> 3259.2743 | H31: =Model!AE171 -> 3948.9328 | I31: =Model!AF171 -> 4541.0174 | J31: =Model!AG171 -> 5248.9829
B32: Margin % | C32: =C31/C$18 -> 0.22710843 | D32: =D31/D$18 -> 0.25640455 | E32: =E31/E$18 -> 0.27211501 | F32: =F31/F$18 -> 0.29176547 | G32: =G31/G$18 -> 0.30905006 | H32: =H31/H$18 -> 0.32561319 | I32: =I31/I$18 -> 0.34197952 | J32: =J31/J$18 -> 0.35905649
B34: CapEx | C34: =-Model!Z292 -> 246 | D34: =-Model!AA292 -> 304.00407 | E34: =-Model!AB292 -> 359.93349 | F34: =-Model!AC292 -> 378.24859 | G34: =-Model!AD292 -> 369.11367 | H34: =-Model!AE292 -> 363.83042 | I34: =-Model!AF292 -> 331.96559 | J34: =-Model!AG292 -> 292.37644
B36: EBITDA - CapEx | C36: =C31-C34 -> 1262 | D36: =D31-D34 -> 1603.9599 | E36: =E31-E34 -> 1831.8465 | F36: =F31-F34 -> 2380.7483 | G36: =G31-G34 -> 2890.1607 | H36: =H31-H34 -> 3585.1024 | I36: =I31-I34 -> 4209.0518 | J36: =J31-J34 -> 4956.6065
B37: Margin % | C37: =C36/C$18 -> 0.19006024 | D37: =D36/D$18 -> 0.21555051 | E37: =E36/E$18 -> 0.22742836 | F37: =F36/F$18 -> 0.25176547 | G37: =G36/G$18 -> 0.27405006 | H37: =H36/H$18 -> 0.29561319 | I37: =I36/I$18 -> 0.31697952 | J37: =J36/J$18 -> 0.33905649
B40: Other Items
B42: Dividends per Share | C42: =Model!Z322 -> 0.17550374 | D42: =Model!AA322 -> 0.26776452 | E42: =Model!AB322 -> 0.32851848 | F42: =Model!AC322 -> 0.36137033 | G42: =Model!AD322 -> 0.5420555 | H42: =Model!AE322 -> 0.70467215 | I42: =Model!AF322 -> 0.70467215 | J42: =Model!AG322 -> 0.70467215
B43: Growth % | D43: =D42/C42-1 -> 0.52569125 | E43: =E42/D42-1 -> 0.22689324 | F43: =F42/E42-1 -> 0.1 | G43: =G42/F42-1 -> 0.5 | H43: =H42/G42-1 -> 0.3 | I43: =I42/H42-1 -> 0 | J43: =J42/I42-1 -> 0
B45: Net Leverage | C45: =Model!Z342 -> 2.0530504 | D45: =Model!AA342 -> 1.4780611 | E45: =Model!AB342 -> 1.0003074 | F45: =Model!AC342 -> 0.47386635 | G45: =Model!AD342 -> -0.0079674196 | H45: =Model!AE342 -> -0.52730035 | I45: =Model!AF342 -> -1.0504148 | J45: =Model!AG342 -> -1.5425771

Sheet ROIC
A1: As of | B1: 45646 | K1: 2023 | L1: =K1+1 -> 2024 | M1: =L1+1 -> 2025 | N1: =M1+1 -> 2026 | Q1: 2024
