Workbook

Sheet Cover
B33: Shoals Technologies Group Model
B35: 44862 | D35: TICKER: | G35: SHLS

Sheet TSM (SHLS)
B3: Summary Financials
B5: Ticker | C5: SHLS
B6: Price | C6: 22.21
B7: As Of | C7: =Cover!$B$35 -> 44862
B8: Basic Shares | C8: =112.667006+54.534591 -> 167.2016
D11: Options | E11: WAEP | F11: In / Out | G11: Proceeds | I11: Market Capitalization
B12: RSUs | D12: 1.810853 | F12: =IF(E12>$C$6,0,1) -> 1 | G12: =F12*E12*D12 -> 0 | I12: ="Current Price (as of "&TEXT(C7,"m/d/yy")&")" -> Current Price (as of 10/28/22) | L12: =C6 -> 22.21
B13: PSUs | D13: 0.242907 | F13: =IF(E13>$C$6,0,1) -> 1 | G13: =F13*E13*D13 -> 0 | I13: Target Price Premium | L13: 0
I14: Target Price | L14: =L12*(1+L13) -> 22.21
B15: Total | D15: =SUM(D12:D14) -> 2.05376 | G15: =SUM(G12:G14) -> 0 | I15: Fully-Diluted Shares | L15: =G20 -> 169.25536
B16: Total ITM | D16: =SUMPRODUCT(D12:D14,F12:F14) -> 2.05376 | I16: Implied Equity Value | L16: =L14*L15 -> 3759.1615
I17: Plus: Debt | L17: =189.515+2+85.14 -> 276.655
B18: Shares Repurchased | G18: =G15/C6 -> 0 | I18: Plus: NCI | L18: -6.714
B19: Shares Issues (Dilution) | G19: =D16-G18 -> 2.05376 | I19: Less: Cash & Cash Equivalents | L19: =-10.094 -> -10.094
B20: Fully Diluted Shares Outstanding | G20: =C8+G19 -> 169.25536 | I20: Implied Total Enterprise Value | L20: =SUM(L16:L19) -> 4019.0085

Sheet Model>>
A1: <LEFT BLANK>

Sheet BS
B2: USD in Millions | N2: 2021 | R2: 2022 | V2: 2023
D3: 2019 | E3: 2020 | F3: 2021 | G3: 2022 | H3: 2023 | I3: =H3+1 -> 2024 | J3: =I3+1 -> 2025 | K3: =J3+1 -> 2026 | L3: =K3+1 -> 2027 | N3: Q1 | O3: Q2 | P3: Q3 | Q3: Q4 | R3: Q1 | S3: Q2 | T3: Q3 | U3: Q4 | V3: Q1 | W3: Q2 | X3: Q3 | Y3: Q4
D4: 43818 | E4: =D4+365 -> 44183 | F4: =E4+365 -> 44548 | G4: =F4+365 -> 44913 | H4: =G4+365 -> 45278 | I4: =H4+365 -> 45643 | J4: =I4+365 -> 46008 | K4: =J4+365 -> 46373 | L4: =K4+365 -> 46738 | N4: 44286 | O4: =N4+90 -> 44376 | P4: =O4+90 -> 44466 | Q4: =P4+90 -> 44556 | R4: =Q4+90 -> 44646 | S4: =R4+90 -> 44736 | T4: =S4+90 -> 44826 | U4: =T4+90 -> 44916 | V4: =U4+90 -> 45006 | ... Y4: =X4+90 -> 45276
B5: Balance Sheet | D5: Actual | E5: Actual | F5: Actual | G5: Forecast | H5: Forecast | I5: Forecast | J5: Forecast | K5: Forecast | L5: Forecast | N5: Actual | O5: Actual | P5: Actual | Q5: Actual | R5: Actual | S5: Actual | T5: Forecast | U5: Forecast | V5: Forecast | W5: Forecast | X5: Forecast | Y5: Forecast
B7: Assets:
B9: Current Assets:
B10: Cash and Cash Equivalents | D10: ='BS FY18-20'!C5/1000 -> 7.082 | E10: ='BS FY18-20'!B5/1000 -> 10.073 | F10: =Q10 -> 5.006 | G10: =U10 -> 30.094 | H10: =Y10 -> 70.094 | I10: =+CF!I40 -> 168.66345 | J10: =+CF!J40 -> 293.81621 | K10: =+CF!K40 -> 445.54292 | L10: =+CF!L40 -> 622.87718 | N10: ='BS 1Q21'!B4/1000 -> 4.227 | O10: ='BS 2Q21'!B4/1000 -> 13.171 | P10: ='BS 3Q21'!B4/1000 -> 14.189 | Q10: ='BS FY21'!B5/1000 -> 5.006 | R10: ='BS 1Q22'!B4/1000 -> 2.534 | S10: ='BS 2Q22'!B4/1000 -> 10.094 | T10: =+CF!T40 -> 20.094 | U10: =+CF!U40 -> 30.094 | V10: =+CF!V40 -> 40.094 | W10: =+CF!W40 -> 50.094 | X10: =+CF!X40 -> 60.094 | Y10: =+CF!Y40 -> 70.094
B11: Accounts Receivable, Net | D11: ='BS FY18-20'!C6/1000 -> 27.292 | E11: ='BS FY18-20'!B6/1000 -> 27.004 | F11: =Q11 -> 31.499 | G11: =U11 -> 44.755178 | H11: =Y11 -> 67.132767 | I11: =I62 -> 83.488992 | J11: =J62 -> 104.64716 | K11: =K62 -> 125.57659 | L11: =L62 -> 144.41308 | N11: ='BS 1Q21'!B5/1000 -> 28.138 | O11: ='BS 2Q21'!B5/1000 -> 42.977 | P11: ='BS 3Q21'!B5/1000 -> 44.588 | Q11: ='BS FY21'!B6/1000 -> 31.499 | R11: ='BS 1Q22'!B5/1000 -> 56.887 | S11: ='BS 2Q22'!B5/1000 -> 57.827 | T11: =T62 -> 55.74137 | U11: =U62 -> 44.755178 | V11: =V62 -> 63.32011 | W11: =W62 -> 68.269399 | X11: =X62 -> 83.612055 | Y11: =Y62 -> 67.132767 | Z11: x
B12: Unbilled Receivables, Net | D12: ='BS FY18-20'!C7/1000 -> 2.505 | E12: ='BS FY18-20'!B7/1000 -> 3.794 | F12: =Q12 -> 13.533 | G12: =U12 -> 13.163288 | H12: =Y12 -> 19.744932 | I12: =I65 -> 25.046698 | J12: =J65 -> 31.394149 | K12: =K65 -> 37.672978 | L12: =L65 -> 43.323925 | N12: ='BS 1Q21'!B6/1000 -> 9.995 | O12: ='BS 2Q21'!B6/1000 -> 6.797 | P12: ='BS 3Q21'!B6/1000 -> 10.554 | Q12: ='BS FY21'!B7/1000 -> 13.533 | R12: ='BS 1Q22'!B6/1000 -> 16.149 | S12: ='BS 2Q22'!B6/1000 -> 14.58 | T12: =T65 -> 16.394521 | U12: =U65 -> 13.163288 | V12: =V65 -> 18.623562 | W12: =W65 -> 20.079235 | X12: =X65 -> 24.591781 | Y12: =Y65 -> 19.744932 | Z12: x
B13: Inventory, Net | D13: ='BS FY18-20'!C8/1000 -> 8.834 | E13: ='BS FY18-20'!B8/1000 -> 15.121 | F13: =Q13 -> 38.368 | G13: =U13 -> 52.804932 | H13: =Y13 -> 74.043493 | I13: =I68 -> 62.616744 | J13: =J68 -> 78.799313 | K13: =K68 -> 94.935905 | L13: =L68 -> 109.60953 | N13: ='BS 1Q21'!B7/1000 -> 21.092 | O13: ='BS 2Q21'!B7/1000 -> 21.272 | P13: ='BS 3Q21'!B7/1000 -> 27.832 | Q13: ='BS FY21'!B8/1000 -> 38.368 | R13: ='BS 1Q22'!B7/1000 -> 49.479 | S13: ='BS 2Q22'!B7/1000 -> 64.961 | T13: =T68 -> 62.582466 | U13: =U68 -> 52.804932 | V13: =V68 -> 68.521644 | W13: =W68 -> 73.601639 | X13: =X68 -> 92.219178 | Y13: =Y68 -> 74.043493 | Z13: x
B14: Other Current Assets | D14: ='BS FY18-20'!C9/1000 -> 0.798 | E14: ='BS FY18-20'!B9/1000 -> 0.155 | F14: =Q14 -> 5.042 | G14: =U14 -> 7.2069 | H14: =Y14 -> 10.81035 | I14: =I71 -> 18.334183 | J14: =J71 -> 22.917728 | K14: =K71 -> 27.501274 | L14: =L71 -> 31.626465 | N14: ='BS 1Q21'!B8/1000 -> 6.512 | O14: ='BS 2Q21'!B8/1000 -> 7.292 | P14: ='BS 3Q21'!B8/1000 -> 11.706 | Q14: ='BS FY21'!B9/1000 -> 5.042 | R14: ='BS 1Q22'!B8/1000 -> 12.651 | S14: ='BS 2Q22'!B8/1000 -> 8.827 | T14: =T71 -> 8.976 | U14: =U71 -> 7.2069 | V14: =V71 -> 10.1964 | W14: =W71 -> 11.0235 | X14: =X71 -> 13.464 | Y14: =Y71 -> 10.81035 | Z14: x
B15: Total Current Assets | D15: =SUM(D10:D14) -> 46.511 | E15: =SUM(E10:E14) -> 56.147 | F15: =SUM(F10:F14) -> 93.448 | G15: =SUM(G10:G14) -> 148.0243 | H15: =SUM(H10:H14) -> 241.82554 | I15: =SUM(I10:I14) -> 358.15007 | J15: =SUM(J10:J14) -> 531.57456 | K15: =SUM(K10:K14) -> 731.22968 | L15: =SUM(L10:L14) -> 951.85018 | N15: =SUM(N10:N14) -> 69.964 | O15: =SUM(O10:O14) -> 91.509 | P15: =SUM(P10:P14) -> 108.869 | Q15: =SUM(Q10:Q14) -> 93.448 | R15: =SUM(R10:R14) -> 137.7 | S15: =SUM(S10:S14) -> 156.289 | T15: =SUM(T10:T14) -> 163.78836 | U15: =SUM(U10:U14) -> 148.0243 | ... Y15: =SUM(Y10:Y14) -> 241.82554
B17: Property, Plant and Equipment, Net | D17: ='BS FY18-20'!C11/1000 -> 10.947 | E17: ='BS FY18-20'!B11/1000 -> 12.763 | F17: =Q17 -> 15.574 | G17: =U17 -> 16.056186 | H17: =Y17 -> 15.86486 | I17: =H17+IS!J92-IS!J101 -> 16.00261 | J17: =I17+IS!K92-IS!K101 -> 16.293144 | K17: =J17+IS!L92-IS!L101 -> 16.430893 | L17: =K17+IS!M92-IS!M101 -> 17.102968 | N17: ='BS 1Q21'!B10/1000 -> 13.16 | O17: ='BS 2Q21'!B10/1000 -> 13.622 | P17: ='BS 3Q21'!B10/1000 -> 14.358 | Q17: ='BS FY21'!B11/1000 -> 15.574 | R17: ='BS 1Q22'!B10/1000 -> 16.032 | S17: ='BS 2Q22'!B10/1000 -> 16.83 | T17: =S17+IS!Y92-IS!Y101 -> 16.531548 | U17: =T17+IS!Z92-IS!Z101 -> 16.056186 | V17: =U17+IS!AA92-IS!AA101 -> 15.886714 | W17: =V17+IS!AB92-IS!AB101 -> 15.80271 | X17: =W17+IS!AC92-IS!AC101 -> 15.97089 | Y17: =X17+IS!AD92-IS!AD101 -> 15.86486 | Z17: x
B18: Goodwill | D18: ='BS FY18-20'!C12/1000 -> 50.176 | E18: ='BS FY18-20'!B12/1000 -> 50.176 | F18: =Q18 -> 69.436 | G18: =U18 -> 69.941 | H18: =Y18 -> 69.941 | I18: =H18 -> 69.941 | J18: =I18 -> 69.941 | K18: =J18 -> 69.941 | L18: =K18 -> 69.941 | N18: ='BS 1Q21'!B11/1000 -> 50.176 | O18: ='BS 2Q21'!B11/1000 -> 50.176 | P18: ='BS 3Q21'!B11/1000 -> 69.321 | Q18: ='BS FY21'!B12/1000 -> 69.436 | R18: ='BS 1Q22'!B11/1000 -> 69.436 | S18: ='BS 2Q22'!B11/1000 -> 69.941 | T18: =S18 -> 69.941 | U18: =T18 -> 69.941 | V18: =U18 -> 69.941 | W18: =V18 -> 69.941 | X18: =W18 -> 69.941 | Y18: =X18 -> 69.941 | Z18: x
B19: Intangible Assets, Net | D19: ='BS FY18-20'!C13/1000 -> 79.973 | E19: ='BS FY18-20'!B13/1000 -> 71.988 | F19: =Q19 -> 65.236 | G19: =U19 -> 56.576 | H19: =Y19 -> 48.658 | I19: =H19-IS!J104 -> 41.073 | J19: =I19-IS!K104 -> 33.488 | K19: =J19-IS!L104 -> 25.903 | L19: =K19-IS!M104 -> 18.318 | N19: ='BS 1Q21'!B12/1000 -> 69.992 | O19: ='BS 2Q21'!B12/1000 -> 67.996 | P19: ='BS 3Q21'!B12/1000 -> 67.508 | Q19: ='BS FY21'!B13/1000 -> 65.236 | R19: ='BS 1Q22'!B12/1000 -> 62.966 | S19: ='BS 2Q22'!B12/1000 -> 60.727 | T19: =S19-IS!Y104 -> 58.6515 | U19: =T19-IS!Z104 -> 56.576 | V19: =U19-IS!AA104 -> 54.5965 | W19: =V19-IS!AB104 -> 52.617 | X19: =W19-IS!AC104 -> 50.6375 | Y19: =X19-IS!AD104 -> 48.658 | Z19: x
B20: Deferred Tax Asset | D20: 0 | E20: 0 | F20: =Q20 -> 176.958 | G20: =U20 -> 175.059 | H20: =Y20 -> 175.059 | I20: =H20 -> 175.059 | J20: =I20 -> 175.059 | K20: =J20 -> 175.059 | L20: =K20 -> 175.059 | N20: ='BS 1Q21'!B13/1000 -> 48.492 | O20: ='BS 2Q21'!B13/1000 -> 49.573 | P20: ='BS 3Q21'!B13/1000 -> 121.545 | Q20: ='BS FY21'!B14/1000 -> 176.958 | R20: ='BS 1Q22'!B13/1000 -> 175.539 | S20: ='BS 2Q22'!B13/1000 -> 175.059 | T20: =S20 -> 175.059 | U20: =T20 -> 175.059 | V20: =U20 -> 175.059 | W20: =V20 -> 175.059 | X20: =W20 -> 175.059 | Y20: =X20 -> 175.059 | Z20: x
B21: Other Assets | D21: 0 | E21: ='BS FY18-20'!B14/1000 -> 4.236 | F21: =Q21 -> 5.762 | G21: =U21 -> 17.771 | H21: =Y21 -> 17.771 | I21: =H21 -> 17.771 | J21: =I21 -> 17.771 | K21: =J21 -> 17.771 | L21: =K21 -> 17.771 | N21: ='BS 1Q21'!B14/1000 -> 0.475 | O21: ='BS 2Q21'!B14/1000 -> 0.84 | P21: ='BS 3Q21'!B14/1000 -> 1.204 | Q21: ='BS FY21'!B15/1000 -> 5.762 | R21: ='BS 1Q22'!B14/1000 -> 12.799 | S21: ='BS 2Q22'!B14/1000 -> 17.771 | T21: =S21 -> 17.771 | U21: =T21 -> 17.771 | V21: =U21 -> 17.771 | W21: =V21 -> 17.771 | X21: =W21 -> 17.771 | Y21: =X21 -> 17.771 | Z21: x
B22: Total Assets | D22: =SUM(D15,SUM(D17:D21)) -> 187.607 | E22: =SUM(E15,SUM(E17:E21)) -> 195.31 | F22: =SUM(F15,SUM(F17:F21)) -> 426.414 | G22: =SUM(G15,SUM(G17:G21)) -> 483.42748 | H22: =SUM(H15,SUM(H17:H21)) -> 569.1194 | I22: =SUM(I15,SUM(I17:I21)) -> 677.99668 | J22: =SUM(J15,SUM(J17:J21)) -> 844.12671 | K22: =SUM(K15,SUM(K17:K21)) -> 1036.3346 | L22: =SUM(L15,SUM(L17:L21)) -> 1250.0422 | N22: =SUM(N15,SUM(N17:N21)) -> 252.259 | O22: =SUM(O15,SUM(O17:O21)) -> 273.716 | P22: =SUM(P15,SUM(P17:P21)) -> 382.805 | Q22: =SUM(Q15,SUM(Q17:Q21)) -> 426.414 | R22: =SUM(R15,SUM(R17:R21)) -> 474.472 | S22: =SUM(S15,SUM(S17:S21)) -> 496.617 | T22: =SUM(T15,SUM(T17:T21)) -> 501.7424 | U22: =SUM(U15,SUM(U17:U21)) -> 483.42748 | ... Y22: =SUM(Y15,SUM(Y17:Y21)) -> 569.1194
B24: Liabilities & Equity:
B26: Current Liabilities:
B27: Accounts Payable | D27: ='BS FY18-20'!C18/1000 -> 10.383 | E27: ='BS FY18-20'!B18/1000 -> 14.634 | F27: =Q27 -> 19.985 | G27: =U27 -> 17.601644 | H27: =Y27 -> 24.681164 | I27: =I78 -> 41.744496 | J27: =J78 -> 52.532875 | K27: =K78 -> 63.290603 | L27: =L78 -> 73.07302 | N27: ='BS 1Q21'!B18/1000 -> 12.941 | O27: ='BS 2Q21'!B18/1000 -> 14.224 | P27: ='BS 3Q21'!B18/1000 -> 18.664 | Q27: ='BS FY21'!B19/1000 -> 19.985 | R27: ='BS 1Q22'!B18/1000 -> 17.879 | S27: ='BS 2Q22'!B18/1000 -> 24.258 | T27: =T78 -> 20.860822 | U27: =U78 -> 17.601644 | V27: =V78 -> 22.840548 | W27: =W78 -> 24.53388 | X27: =X78 -> 30.739726 | Y27: =Y78 -> 24.681164 | Z27: x
B28: Accrued Expenses | D28: ='BS FY18-20'!C19/1000 -> 1.264 | E28: ='BS FY18-20'!B19/1000 -> 5.967 | F28: =Q28 -> 9.569 | G28: =U28 -> 16.0615 | H28: =Y28 -> 22.521562 | I28: =I81 -> 55.002548 | J28: =J81 -> 68.753185 | K28: =K81 -> 82.503822 | L28: =L81 -> 94.879396 | N28: ='BS 1Q21'!B19/1000 -> 8.534 | O28: ='BS 2Q21'!B19/1000 -> 9.499 | P28: ='BS 3Q21'!B19/1000 -> 15.112 | Q28: ='BS FY21'!B20/1000 -> 9.569 | R28: ='BS 1Q22'!B19/1000 -> 14.764 | S28: ='BS 2Q22'!B19/1000 -> 25.297 | T28: =T81 -> 19.0355 | U28: =U81 -> 16.0615 | V28: =V81 -> 20.842 | W28: =W81 -> 22.4485 | X28: =X81 -> 28.05 | Y28: =Y81 -> 22.521562 | Z28: x
B29: Payable pursuant to TRA | D29: 0 | E29: 0 | F29: 0 | G29: =U29 -> 3.583 | H29: =Y29 -> 3.583 | I29: =H29 -> 3.583 | J29: =I29 -> 3.583 | K29: =J29 -> 3.583 | L29: =K29 -> 3.583 | N29: 0 | O29: 0 | P29: 0 | Q29: 0 | R29: ='BS 1Q22'!B20/1000 -> 4.065 | S29: ='BS 2Q22'!B20/1000 -> 3.583 | T29: =S29 -> 3.583 | U29: =T29 -> 3.583 | V29: =U29 -> 3.583 | W29: =V29 -> 3.583 | X29: =W29 -> 3.583 | Y29: =X29 -> 3.583 | Z29: x
B30: Long-Term Debt - Current Portion | D30: ='BS FY18-20'!C20/1000 -> 12.894 | E30: ='BS FY18-20'!B20/1000 -> 3.5 | F30: =Q30 -> 2 | G30: =U30 -> 2 | H30: =Y30 -> 2 | I30: =H30 -> 2 | J30: =I30 -> 2 | K30: =J30 -> 2 | L30: =K30 -> 2 | N30: ='BS 1Q21'!B20/1000 -> 3.5 | O30: ='BS 2Q21'!B20/1000 -> 3.5 | P30: ='BS 3Q21'!B20/1000 -> 2 | Q30: ='BS FY21'!B21/1000 -> 2 | R30: ='BS 1Q22'!B21/1000 -> 2 | S30: ='BS 2Q22'!B21/1000 -> 2 | T30: =S30 -> 2 | U30: =T30 -> 2 | V30: =U30 -> 2 | W30: =V30 -> 2 | X30: =W30 -> 2 | Y30: =X30 -> 2 | Z30: x
B31: Total Current Liabilities | D31: =SUM(D27:D30) -> 24.541 | E31: =SUM(E27:E30) -> 24.101 | F31: =SUM(F27:F30) -> 31.554 | G31: =SUM(G27:G30) -> 39.246144 | H31: =SUM(H27:H30) -> 52.785727 | I31: =SUM(I27:I30) -> 102.33004 | J31: =SUM(J27:J30) -> 126.86906 | K31: =SUM(K27:K30) -> 151.37743 | L31: =SUM(L27:L30) -> 173.53542 | N31: =SUM(N27:N30) -> 24.975 | O31: =SUM(O27:O30) -> 27.223 | P31: =SUM(P27:P30) -> 35.776 | Q31: =SUM(Q27:Q30) -> 31.554 | R31: =SUM(R27:R30) -> 38.708 | S31: =SUM(S27:S30) -> 55.138 | T31: =SUM(T27:T30) -> 45.479322 | U31: =SUM(U27:U30) -> 39.246144 | ... Y31: =SUM(Y27:Y30) -> 52.785727
B33: Revolving Line of Credit | D33: ='BS FY18-20'!C22/1000 -> 0 | E33: ='BS FY18-20'!B22/1000 -> 20 | F33: =Q33 -> 55.14 | G33: =U33 -> 66.185077 | H33: =Y33 -> 54.263244 | I33: =IS!J135 -> 0 | J33: =IS!K135 -> 0 | K33: =IS!L135 -> 0 | L33: =IS!M135 -> 0 | N33: ='BS 1Q21'!B22/1000 -> 39 | O33: ='BS 2Q21'!B22/1000 -> 49 | P33: ='BS 3Q21'!B22/1000 -> 60.14 | Q33: ='BS FY21'!B23/1000 -> 55.14 | R33: ='BS 1Q22'!B23/1000 -> 90.14 | S33: ='BS 2Q22'!B23/1000 -> 85.14 | T33: =IS!Y135 -> 85.736197 | U33: =IS!Z135 -> 66.185077 | V33: =IS!AA135 -> 88.033128 | W33: =IS!AB135 -> 84.916633 | X33: =IS!AC135 -> 94.141316 | Y33: =IS!AD135 -> 54.263244 | Z33: x
B34: Long-Term Debt, Less Current Portion | D34: ='BS FY18-20'!C23/1000 -> 13.16 | E34: ='BS FY18-20'!B23/1000 -> 335.332 | F34: =Q34 -> 189.913 | G34: =U34 -> 189.515 | H34: =Y34 -> 189.515 | I34: =+IS!J155 -> 189.515 | J34: =+IS!K155 -> 189.515 | K34: =+IS!L155 -> 189.515 | L34: =+IS!M155 -> 189.515 | N34: ='BS 1Q21'!B23/1000 -> 189.45 | O34: ='BS 2Q21'!B23/1000 -> 188.859 | P34: ='BS 3Q21'!B23/1000 -> 190.136 | Q34: ='BS FY21'!B24/1000 -> 189.913 | R34: ='BS 1Q22'!B24/1000 -> 189.689 | S34: ='BS 2Q22'!B24/1000 -> 189.515 | T34: =+IS!X155 -> 189.515 | U34: =+IS!Y155 -> 189.515 | V34: =+IS!Z155 -> 189.515 | W34: =+IS!AA155 -> 189.515 | X34: =+IS!AB155 -> 189.515 | Y34: =+IS!AC155 -> 189.515 | Z34: x
B35: TRA Liability | D35: 0 | E35: 0 | F35: =Q35 -> 156.374 | G35: =U35 -> 153.591 | H35: =Y35 -> 153.591 | I35: =H35 -> 153.591 | J35: =I35 -> 153.591 | K35: =J35 -> 153.591 | L35: =K35 -> 153.591 | N35: ='BS 1Q21'!B24/1000 -> 41.692 | O35: ='BS 2Q21'!B24/1000 -> 43.356 | P35: ='BS 3Q21'!B24/1000 -> 107.88 | Q35: ='BS FY21'!B25/1000 -> 156.374 | R35: ='BS 1Q22'!B25/1000 -> 152.309 | S35: ='BS 2Q22'!B25/1000 -> 153.591 | T35: =S35 -> 153.591 | U35: =T35 -> 153.591 | V35: =U35 -> 153.591 | W35: =V35 -> 153.591 | X35: =W35 -> 153.591 | Y35: =X35 -> 153.591 | Z35: x
B36: Other Long-term Liabilities | F36: =Q36 -> 0.931 | G36: =U36 -> 4.793 | H36: =Y36 -> 4.793 | I36: =H36 -> 4.793 | J36: =I36 -> 4.793 | K36: =J36 -> 4.793 | L36: =K36 -> 4.793 | N36: 0 | O36: 0 | P36: 0 | Q36: ='BS FY21'!B26/1000 -> 0.931 | R36: ='BS 1Q22'!B26/1000 -> 5.074 | S36: ='BS 2Q22'!B26/1000 -> 4.793 | T36: =S36 -> 4.793 | U36: =T36 -> 4.793 | V36: =U36 -> 4.793 | W36: =V36 -> 4.793 | X36: =W36 -> 4.793 | Y36: =X36 -> 4.793 | Z36: x
B37: $100.0M Revolver | D37: 0 | E37: 0 | F37: =Q37 -> 0 | G37: ='BS FY18-20'!F24/1000 -> 0 | H37: ='BS FY18-20'!G24/1000 -> 0 | I37: ='BS FY18-20'!H24/1000 -> 0 | J37: ='BS FY18-20'!I24/1000 -> 0 | K37: ='BS FY18-20'!J24/1000 -> 0 | L37: ='BS FY18-20'!K24/1000 -> 0 | N37: 0 | O37: 0 | P37: 0 | Q37: 0 | R37: 0 | S37: 0 | T37: 0 | U37: 0 | V37: 0 | W37: 0 | X37: 0 | Y37: 0 | Z37: delete later
B38: Term Loan | D38: 0 | E38: 0 | F38: =Q38 -> 0 | G38: ='BS FY18-20'!F25/1000 -> 0 | H38: ='BS FY18-20'!G25/1000 -> 0 | I38: ='BS FY18-20'!H25/1000 -> 0 | J38: ='BS FY18-20'!I25/1000 -> 0 | K38: ='BS FY18-20'!J25/1000 -> 0 | L38: ='BS FY18-20'!K25/1000 -> 0 | N38: 0 | O38: 0 | P38: 0 | Q38: 0 | R38: 0 | S38: 0 | T38: 0 | U38: 0 | V38: 0 | W38: 0 | X38: 0 | Y38: 0 | Z38: delete later
B39: Total Liabilities | D39: =SUM(D31,SUM(D33:D38)) -> 37.701 | E39: =SUM(E31,SUM(E33:E38)) -> 379.433 | F39: =SUM(F31,SUM(F33:F38)) -> 433.912 | G39: =SUM(G31,SUM(G33:G38)) -> 453.33022 | H39: =SUM(H31,SUM(H33:H38)) -> 454.94797 | I39: =SUM(I31,SUM(I33:I38)) -> 450.22904 | J39: =SUM(J31,SUM(J33:J38)) -> 474.76806 | K39: =SUM(K31,SUM(K33:K38)) -> 499.27643 | L39: =SUM(L31,SUM(L33:L38)) -> 521.43442 | N39: =SUM(N31,SUM(N33:N38)) -> 295.117 | O39: =SUM(O31,SUM(O33:O38)) -> 308.438 | P39: =SUM(P31,SUM(P33:P38)) -> 393.932 | Q39: =SUM(Q31,SUM(Q33:Q38)) -> 433.912 | R39: =SUM(R31,SUM(R33:R38)) -> 475.92 | S39: =SUM(S31,SUM(S33:S38)) -> 488.177 | T39: =SUM(T31,SUM(T33:T38)) -> 479.11452 | U39: =SUM(U31,SUM(U33:U38)) -> 453.33022 | ... Y39: =SUM(Y31,SUM(Y33:Y38)) -> 454.94797
B41: Equity:
B42: Paid-in Capital | F42: =Q42 -> 95.684 | G42: =U42 -> 101.243 | H42: =Y42 -> 101.243 | I42: =H42 -> 101.243 | J42: =I42 -> 101.243 | K42: =J42 -> 101.243 | L42: =K42 -> 101.243 | N42: ='BS 1Q21'!B32/1000 -> 78.073 | O42: ='BS 2Q21'!B32/1000 -> 78.883 | P42: ='BS 3Q21'!B32/1000 -> 92.149 | Q42: ='BS FY21'!B34/1000 -> 95.684 | R42: ='BS 1Q22'!B33/1000 -> 98.376 | S42: ='BS 2Q22'!B33/1000 -> 101.243 | T42: =S42 -> 101.243 | U42: =T42 -> 101.243 | V42: =U42 -> 101.243 | W42: =V42 -> 101.243 | X42: =W42 -> 101.243 | Y42: =X42 -> 101.243 | Z42: x
B43: Other Stockholders Equity | D43: ='BS FY18-20'!C26/1000 -> 149.906 | E43: ='BS FY18-20'!B26/1000 -> -184.123 | F43: =Q43 -> -93.133 | G43: =U43 -> -64.433738 | H43: =Y43 -> 19.640432 | I43: =+H43+IS!J56+CF!I11 -> 133.23664 | J43: =+I43+IS!K56+CF!J11 -> 274.82764 | K43: =+J43+IS!L56+CF!K11 -> 442.52714 | L43: =+K43+IS!M56+CF!L11 -> 634.07673 | N43: =SUM('BS 1Q21'!B33)/1000 -> -98.34 | O43: ='BS 2Q21'!B33/1000 -> -93.782 | P43: ='BS 3Q21'!B33/1000 -> -91.296 | Q43: ='BS FY21'!B35/1000 -> -93.133 | R43: ='BS 1Q22'!B34/1000 -> -90.493 | S43: ='BS 2Q22'!B34/1000 -> -86.091 | T43: =S43+IS!Y56+IS!Y50 -> -71.903115 | U43: =T43+IS!Z56+IS!Z50 -> -64.433738 | V43: =U43+IS!AA56+IS!AA50 -> -45.718746 | W43: =V43+IS!AB56+IS!AB50 -> -25.65353 | X43: =W43+IS!AC56+IS!AC50 -> 2.4163621 | Y43: =X43+IS!AD56+IS!AD50 -> 19.640432 | Z43: x
B44: Total Equity | D44: =SUM(D42:D43) -> 149.906 | E44: =SUM(E42:E43) -> -184.123 | F44: =SUM(F42:F43) -> 2.551 | G44: =SUM(G42:G43) -> 36.809262 | H44: =SUM(H42:H43) -> 120.88343 | I44: =SUM(I42:I43) -> 234.47964 | J44: =SUM(J42:J43) -> 376.07064 | K44: =SUM(K42:K43) -> 543.77014 | L44: =SUM(L42:L43) -> 735.31973 | N44: =SUM(N42:N43) -> -20.267 | O44: =SUM(O42:O43) -> -14.899 | P44: =SUM(P42:P43) -> 0.853 | Q44: =SUM(Q42:Q43) -> 2.551 | R44: =SUM(R42:R43) -> 7.883 | S44: =SUM(S42:S43) -> 15.152 | T44: =SUM(T42:T43) -> 29.339885 | U44: =SUM(U42:U43) -> 36.809262 | ... Y44: =SUM(Y42:Y43) -> 120.88343
B46: Non-Controlling Interest | D46: 0 | E46: 0 | F46: =Q46 -> -10.051 | G46: =U46 -> -6.714 | H46: =Y46 -> -6.714 | I46: =H46 -> -6.714 | J46: =I46 -> -6.714 | K46: =J46 -> -6.714 | L46: =K46 -> -6.714 | N46: ='BS 1Q21'!B35/1000 -> -22.593 | O46: ='BS 2Q21'!B35/1000 -> -19.825 | P46: ='BS 3Q21'!B35/1000 -> -11.982 | Q46: ='BS FY21'!B37/1000 -> -10.051 | R46: ='BS 1Q22'!B36/1000 -> -9.333 | S46: ='BS 2Q22'!B36/1000 -> -6.714 | T46: =S46 -> -6.714 | U46: =T46 -> -6.714 | V46: =U46 -> -6.714 | W46: =V46 -> -6.714 | X46: =W46 -> -6.714 | Y46: =X46 -> -6.714 | Z46: x
B48: Total Liabilities & Equity | D48: =SUM(D39,D44,D46) -> 187.607 | E48: =SUM(E39,E44,E46) -> 195.31 | F48: =SUM(F39,F44,F46) -> 426.412 | G48: =SUM(G39,G44,G46) -> 483.42548 | H48: =SUM(H39,H44,H46) -> 569.1174 | I48: =SUM(I39,I44,I46) -> 677.99468 | J48: =SUM(J39,J44,J46) -> 844.12471 | K48: =SUM(K39,K44,K46) -> 1036.3326 | L48: =SUM(L39,L44,L46) -> 1250.0402 | N48: =SUM(N39,N44,N46) -> 252.257 | O48: =SUM(O39,O44,O46) -> 273.714 | P48: =SUM(P39,P44,P46) -> 382.803 | Q48: =SUM(Q39,Q44,Q46) -> 426.412 | R48: =SUM(R39,R44,R46) -> 474.47 | S48: =SUM(S39,S44,S46) -> 496.615 | T48: =SUM(T39,T44,T46) -> 501.7404 | U48: =SUM(U39,U44,U46) -> 483.42548 | ... Y48: =SUM(Y39,Y44,Y46) -> 569.1174
B50: Check | D50: =D48-D22 -> 0 | E50: =E48-E22 -> 0 | F50: =F48-F22 -> -0.002 | G50: =G48-G22 -> -0.002 | H50: =H48-H22 -> -0.002 | I50: =I48-I22 -> -0.002 | J50: =J48-J22 -> -0.002 | K50: =K48-K22 -> -0.002 | L50: =L48-L22 -> -0.002 | N50: =N48-N22 -> -0.002 | O50: =O48-O22 -> -0.002 | P50: =P48-P22 -> -0.002 | Q50: =Q48-Q22 -> -0.002 | R50: =R48-R22 -> -0.002 | S50: =S48-S22 -> -0.002 | T50: =T48-T22 -> -0.002 | U50: =U48-U22 -> -0.002 | ... Y50: =Y48-Y22 -> -0.002
B55: Net Working Capital Schedule
...

Sheet IS
B2: USD in Millions | D2: Fiscal Year Ended December 31, | O2: 2020 | S2: =O2+1 -> 2021 | W2: =S2+1 -> 2022 | AA2: =W2+1 -> 2023
D3: 2018 | E3: 2019 | F3: 2020 | G3: 2021 | H3: 2022 | I3: 2023 | J3: 2024 | K3: 2025 | L3: 2026 | M3: 2027 | O3: Q1 | P3: Q2 | Q3: Q3 | R3: Q4 | S3: Q1 | T3: Q2 | U3: Q3 | V3: Q4 | W3: Q1 | X3: Q2 | Y3: Q3 | Z3: Q4 | AA3: Q1 | AB3: Q2 | AC3: Q3 | AD3: Q4
D4: 43465 | E4: =D4+365 -> 43830 | F4: =E4+365 -> 44195 | G4: =F4+365 -> 44560 | H4: =G4+365 -> 44925 | I4: =H4+365 -> 45290 | J4: =I4+365 -> 45655 | K4: =J4+365 -> 46020 | L4: =K4+365 -> 46385 | M4: =L4+365 -> 46750 | O4: 43911 | P4: 44003 | Q4: 44095 | R4: 44186 | S4: 44276 | T4: 44368 | U4: 44460 | V4: 44551 | W4: 44641 | X4: 44733 | Y4: 44825 | Z4: 44916 | AA4: 45006 | AB4: 45098 | AC4: 45190 | AD4: 45281
B5: Income Statement | D5: Actual | E5: Actual | F5: Actual | G5: Actual | H5: Forecast | I5: Forecast | J5: Forecast | K5: Forecast | L5: Forecast | M5: Forecast | O5: Actual | P5: Actual | Q5: Actual | R5: Actual | S5: Actual | T5: Actual | U5: Actual | V5: Actual | W5: Actual | X5: Actual | Y5: Forecast | Z5: Forecast | AA5: Forecast | AB5: Forecast | AC5: Forecast | AD5: Forecast
B7: Non-GAAP Income Statement
P8: =P9/O9-1 -> 0.065954836 | Q8: =Q9/P9-1 -> 0.21118198 | R8: =R9/Q9-1 -> -0.26322294 | S8: =S9/R9-1 -> 0.17678631 | T8: =T9/S9-1 -> 0.30957811 | U8: =U9/T9-1 -> 0.0019758213 | V8: =V9/U9-1 -> -0.19709225 | W8: =W9/V9-1 -> 0.41481081 | ... AD8: =AD9/AC9-1 -> -0.19709225
B9: Total Revenue | D9: 103.75 | E9: 144.496 | F9: 175.518 | G9: 213.212 | H9: =SUM(W9:Z9) -> 303.295 | I9: =SUM(AA9:AD9) -> 470.10725 | J9: =I9*(1+J10) -> 611.13943 | K9: =J9*(1+K10) -> 763.92428 | L9: =K9*(1+L10) -> 916.70914 | M9: =L9*(1+M10) -> 1054.2155 | O9: 40.74 | P9: 43.427 | Q9: 52.598 | R9: =F9-SUM(O9:Q9) -> 38.753 | S9: ='IS 1Q21'!B3/1000 -> 45.604 | T9: ='IS 2Q21'!B3/1000 -> 59.722 | U9: ='IS 3Q21'!B3/1000 -> 59.84 | V9: =G9-SUM(S9:U9) -> 48.046 | W9: ='IS 1Q22'!B3/1000 -> 67.976 | X9: ='IS 2Q22'!B3/1000 -> 73.49 | Y9: =U9*(1+Y10) -> 89.76 | Z9: =V9*(1+Z10) -> 72.069 | AA9: =W9*(1+AA10) -> 105.3628 | AB9: =X9*(1+AB10) -> 113.9095 | AC9: =Y9*(1+AC10) -> 139.128 | AD9: =Z9*(1+AD10) -> 111.70695
B10: Growth % | E10: =E9/D9-1 -> 0.39273253 | F10: =F9/E9-1 -> 0.21469106 | G10: =G9/F9-1 -> 0.2147586 | H10: =H9/G9-1 -> 0.42250436 | I10: =I9/H9-1 -> 0.55 | J10: 0.3 | K10: 0.25 | L10: 0.2 | M10: 0.15 | S10: =S9/O9-1 -> 0.11939126 | T10: =T9/P9-1 -> 0.37522739 | U10: =U9/Q9-1 -> 0.13768584 | V10: =V9/R9-1 -> 0.23980079 | W10: =W9/S9-1 -> 0.490571 | X10: =X9/T9-1 -> 0.23053481 | Y10: 0.5 | Z10: 0.5 | AA10: 0.55 | AB10: 0.55 | AC10: 0.55 | AD10: 0.55
B12: Cost of Revenue | D12: 75.582 | E12: 100.284 | F12: 108.972 | G12: 130.567 | H12: =SUM(W12:Z12) -> 187.72412 | I12: =SUM(AA12:AD12) -> 293.81703 | J12: =J13*J9 -> 381.96214 | K12: =K13*K9 -> 479.36249 | L12: =L13*L9 -> 577.52676 | M12: =M13*M9 -> 666.79131 | O12: 26.554 | P12: 26.598 | Q12: 31.909 | R12: =F12-SUM(O12:Q12) -> 23.911 | S12: ='IS 1Q21'!B4/1000 -> 26.83 | T12: ='IS 2Q21'!B4/1000 -> 33.543 | U12: ='IS 3Q21'!B4/1000 -> 38.071 | V12: =G12-SUM(S12:U12) -> 32.123 | W12: ='IS 1Q22'!B4/1000 -> 41.684 | X12: ='IS 2Q22'!B4/1000 -> 44.897 | Y12: =Y13*Y9 -> 56.1 | Z12: =Z13*Z9 -> 45.043125 | AA12: =AA13*AA9 -> 65.85175 | AB12: =AB13*AB9 -> 71.193438 | AC12: =AC13*AC9 -> 86.955 | AD12: =AD13*AD9 -> 69.816844
B13: % of Revenue | D13: =IFERROR(D12/D$9,"N/A") -> 0.7285012 | E13: =IFERROR(E12/E$9,"N/A") -> 0.69402613 | F13: =IFERROR(F12/F$9,"N/A") -> 0.6208594 | G13: =IFERROR(G12/G$9,"N/A") -> 0.6123811 | H13: =IFERROR(H12/H$9,"N/A") -> 0.61894896 | I13: =IFERROR(I12/I$9,"N/A") -> 0.625 | J13: 0.625 | K13: =J13+0.25% -> 0.6275 | L13: =K13+0.25% -> 0.63 | M13: =L13+0.25% -> 0.6325 | O13: =IFERROR(O12/O$9,"N/A") -> 0.65179185 | P13: =IFERROR(P12/P$9,"N/A") -> 0.61247611 | Q13: =IFERROR(Q12/Q$9,"N/A") -> 0.60665805 | R13: =IFERROR(R12/R$9,"N/A") -> 0.6170103 | S13: =IFERROR(S12/S$9,"N/A") -> 0.58832559 | T13: =IFERROR(T12/T$9,"N/A") -> 0.56165232 | U13: =IFERROR(U12/U$9,"N/A") -> 0.63621324 | V13: =IFERROR(V12/V$9,"N/A") -> 0.66858844 | ... X13: =IFERROR(X12/X$9,"N/A") -> 0.61092666 | Y13: 0.625 | Z13: 0.625 | AA13: =Z13 -> 0.625 | AB13: =AA13 -> 0.625 | AC13: =AB13 -> 0.625 | AD13: =AC13 -> 0.625
B15: Gross Profit | D15: =D9-D12 -> 28.168 | E15: =E9-E12 -> 44.212 | F15: =F9-F12 -> 66.546 | G15: =G9-G12 -> 82.645 | H15: =H9-H12 -> 115.57088 | I15: =I9-I12 -> 176.29022 | J15: =J9-J12 -> 229.17728 | K15: =K9-K12 -> 284.56179 | ... M15: =M9-M12 -> 387.4242 | O15: =O9-O12 -> 14.186 | P15: =P9-P12 -> 16.829 | Q15: =Q9-Q12 -> 20.689 | R15: =R9-R12 -> 14.842 | S15: =S9-S12 -> 18.774 | T15: =T9-T12 -> 26.179 | U15: =U9-U12 -> 21.769 | V15: =V9-V12 -> 15.923 | ... AD15: =AD9-AD12 -> 41.890106
B16: Gross Margin % | D16: =D15/D$9 -> 0.2714988 | E16: =E15/E$9 -> 0.30597387 | F16: =F15/F$9 -> 0.3791406 | G16: =G15/G$9 -> 0.3876189 | H16: =H15/H$9 -> 0.38105104 | I16: =I15/I$9 -> 0.375 | J16: =J15/J$9 -> 0.375 | K16: =K15/K$9 -> 0.3725 | ... M16: =M15/M$9 -> 0.3675 | O16: =O15/O$9 -> 0.34820815 | P16: =P15/P$9 -> 0.38752389 | Q16: =Q15/Q$9 -> 0.39334195 | R16: =R15/R$9 -> 0.3829897 | S16: =S15/S$9 -> 0.41167441 | T16: =T15/T$9 -> 0.43834768 | U16: =U15/U$9 -> 0.36378676 | V16: =V15/V$9 -> 0.33141156 | ... AD16: =AD15/AD$9 -> 0.375
B18: Operating Expenses:
B19: Selling, General & Administrative | D19: 8.904 | E19: 9.065 | F19: 21.008 | G19: 37.893 | H19: =SUM(W19:Z19) -> 55.06225 | I19: =SUM(AA19:AD19) -> 70.907858 | J19: =J22*J$9 -> 90.652366 | K19: =K22*K$9 -> 111.40565 | L19: =L22*L$9 -> 131.395 | M19: =M22*M$9 -> 148.46872 | O19: 2.558 | P19: 9.317 | Q19: 3.515 | R19: =F19-SUM(O19:Q19) -> 5.618 | S19: ='IS 1Q21'!B7/1000 -> 6.816 | T19: ='IS 2Q21'!B7/1000 -> 10.018 | U19: ='IS 3Q21'!B7/1000 -> 10.031 | V19: =G19-SUM(S19:U19) -> 11.028 | W19: ='IS 1Q22'!B7/1000 -> 13.919 | X19: ='IS 2Q22'!B7/1000 -> 13.265 | Y19: =U19*(1+Y25) -> 13.54185 | Z19: =V19*(1+Z25) -> 14.3364 | AA19: =W19*(1+AA25) -> 15.3109 | AB19: =X19*(1+AB25) -> 17.2445 | AC19: =Y19*(1+AC25) -> 18.281498 | AD19: =Z19*(1+AD25) -> 20.07096
B20: Depreciation & Amortization | D20: 8.177 | E20: 8.217 | F20: 8.262 | G20: 8.52 | H20: =SUM(W20:Z20) -> 11.943104 | I20: =SUM(AA20:AD20) -> 12.810398 | J20: =J106 -> 13.558645 | K20: =K106 -> 14.933709 | L20: =L106 -> 16.614342 | M20: =M106 -> 17.45508 | O20: 2.061 | P20: 2.064 | Q20: 2.069 | R20: =F20-SUM(O20:Q20) -> 2.068 | S20: ='IS 1Q21'!B8/1000 -> 2.068 | T20: ='IS 2Q21'!B8/1000 -> 2.062 | U20: ='IS 3Q21'!B8/1000 -> 2.175 | V20: =G20-SUM(S20:U20) -> 2.215 | W20: ='IS 1Q22'!B8/1000 -> 2.366 | X20: ='IS 2Q22'!B8/1000 -> 2.344 | Y20: =Y106 -> 3.616552 | Z20: =Z106 -> 3.616552 | AA20: =AA106 -> 3.2025996 | AB20: =AB106 -> 3.2025996 | AC20: =AC106 -> 3.2025996 | AD20: =AD106 -> 3.2025996
B21: Total Operating Expenses | D21: =SUM(D19:D20) -> 17.081 | E21: =SUM(E19:E20) -> 17.282 | F21: =SUM(F19:F20) -> 29.27 | G21: =SUM(G19:G20) -> 46.413 | H21: =SUM(H19:H20) -> 67.005354 | I21: =SUM(I19:I20) -> 83.718256 | J21: =SUM(J19:J20) -> 104.21101 | K21: =SUM(K19:K20) -> 126.33936 | ... M21: =SUM(M19:M20) -> 165.9238 | O21: =SUM(O19:O20) -> 4.619 | P21: =SUM(P19:P20) -> 11.381 | Q21: =SUM(Q19:Q20) -> 5.584 | R21: =SUM(R19:R20) -> 7.686 | S21: =SUM(S19:S20) -> 8.884 | T21: =SUM(T19:T20) -> 12.08 | U21: =SUM(U19:U20) -> 12.206 | V21: =SUM(V19:V20) -> 13.243 | ... AD21: =SUM(AD19:AD20) -> 23.27356
B22: SG&A % of Revenue | D22: =D19/D$9 -> 0.085821687 | E22: =E19/E$9 -> 0.062735301 | F22: =F19/F$9 -> 0.11969143 | G22: =G19/G$9 -> 0.17772452 | H22: =H19/H$9 -> 0.18154684 | I22: =I19/I$9 -> 0.15083336 | J22: =I22-0.25% -> 0.14833336 | K22: =J22-0.25% -> 0.14583336 | L22: =K22-0.25% -> 0.14333336 | M22: =L22-0.25% -> 0.14083336 | O22: =O19/O$9 -> 0.062788414 | P22: =P19/P$9 -> 0.21454395 | Q22: =Q19/Q$9 -> 0.066827636 | R22: =R19/R$9 -> 0.14496942 | S22: =S19/S$9 -> 0.14946057 | T22: =T19/T$9 -> 0.16774388 | U22: =U19/U$9 -> 0.16763035 | V22: =V19/V$9 -> 0.22953003 | ... AD22: =AD19/AD$9 -> 0.17967512
B23: Depreciation % of Revenue | D23: =D20/D$9 -> 0.078814458 | E23: =E20/E$9 -> 0.056866626 | F23: =F20/F$9 -> 0.047072095 | G23: =G20/G$9 -> 0.039960227 | H23: =H20/H$9 -> 0.039377847 | I23: =I20/I$9 -> 0.027249948 | J23: =J20/J$9 -> 0.022185846 | K23: =K20/K$9 -> 0.019548676 | ... M23: =M20/M$9 -> 0.016557411 | O23: =O20/O$9 -> 0.050589102 | P23: =P20/P$9 -> 0.047528036 | Q23: =Q20/Q$9 -> 0.039336096 | R23: =R20/R$9 -> 0.053363611 | S23: =S20/S$9 -> 0.045346899 | T23: =T20/T$9 -> 0.03452664 | U23: =U20/U$9 -> 0.036346925 | V23: =V20/V$9 -> 0.046101653 | ... AD23: =AD20/AD$9 -> 0.028669654
B24: Total Operating Expenses % of Revenue | D24: =D21/D$9 -> 0.16463614 | E24: =E21/E$9 -> 0.11960193 | F24: =F21/F$9 -> 0.16676352 | G24: =G21/G$9 -> 0.21768475 | H24: =H21/H$9 -> 0.22092469 | I24: =I21/I$9 -> 0.17808331 | J24: =J21/J$9 -> 0.17051921 | K24: =K21/K$9 -> 0.16538204 | ... M24: =M21/M$9 -> 0.15739077 | O24: =O21/O$9 -> 0.11337752 | P24: =P21/P$9 -> 0.26207198 | Q24: =Q21/Q$9 -> 0.10616373 | R24: =R21/R$9 -> 0.19833303 | S24: =S21/S$9 -> 0.19480747 | T24: =T21/T$9 -> 0.20227052 | U24: =U21/U$9 -> 0.20397727 | V24: =V21/V$9 -> 0.27563169 | ... AD24: =AD21/AD$9 -> 0.20834478
B25: SG&A YoY Growth % | E25: =E19/D19-1 -> 0.018081761 | F25: =F19/E19-1 -> 1.3174848 | G25: =G19/F19-1 -> 0.80374143 | H25: =H19/G19-1 -> 0.4530982 | I25: =I19/H19-1 -> 0.28777624 | J25: =J19/I19-1 -> 0.27845304 | K25: =K19/J19-1 -> 0.22893259 | L25: =L19/K19-1 -> 0.17942858 | M25: =M19/L19-1 -> 0.12994186 | S25: =S19/O19-1 -> 1.6645817 | T25: =T19/P19-1 -> 0.075238811 | U25: =U19/Q19-1 -> 1.8537696 | V25: =V19/R19-1 -> 0.96297615 | W25: =W19/S19-1 -> 1.0421068 | X25: =X19/T19-1 -> 0.32411659 | Y25: 0.35 | Z25: 0.3 | AA25: 0.1 | AB25: 0.3 | AC25: 0.35 | AD25: 0.4
B27: EBIT | D27: =D15-D21 -> 11.087 | E27: =E15-E21 -> 26.93 | F27: =F15-F21 -> 37.276 | G27: =G15-G21 -> 36.232 | H27: =H15-H21 -> 48.565521 | I27: =I15-I21 -> 92.571963 | J27: =J15-J21 -> 124.96627 | K27: =K15-K21 -> 158.22244 | ... M27: =M15-M21 -> 221.5004 | O27: =O15-O21 -> 9.567 | P27: =P15-P21 -> 5.448 | Q27: =Q15-Q21 -> 15.105 | R27: =R15-R21 -> 7.156 | S27: =S15-S21 -> 9.89 | T27: =T15-T21 -> 14.099 | U27: =U15-U21 -> 9.563 | V27: =V15-V21 -> 2.68 | ... AD27: =AD15-AD21 -> 18.616547
B28: Interest Income / (Expense) | D28: -2.44 | E28: -1.787 | F28: -3.51 | G28: -14.549 | H28: =SUM(W28:Z28) -> -17.491516 | I28: =SUM(AA28:AD28) -> -19.048398 | J28: =-J152 -> -14.073042 | K28: =-K152 -> -11.89275 | L28: =-L152 -> -11.794625 | M28: =-M152 -> -11.932 | O28: -0.272 | P28: -0.225 | Q28: -0.104 | R28: -0.104 | S28: ='IS 1Q21'!B11/1000 -> -3.709 | T28: ='IS 2Q21'!B11/1000 -> -3.62 | U28: ='IS 3Q21'!B11/1000 -> -3.582 | V28: =G28-SUM(S28:U28) -> -3.638 | W28: ='IS 1Q22'!B11/1000 -> -3.836 | X28: ='IS 2Q22'!B11/1000 -> -4.17 | Y28: =-Y152 -> -4.8239087 | Z28: =-Z152 -> -4.6616072 | AA28: =-AA152 -> -4.6812746 | AB28: =-AB152 -> -4.8416636 | AC28: =-AC152 -> -4.8939649 | AD28: =-AD152 -> -4.6314953
B29: Tax Receivable agreement liability adjustment | D29: 0 | E29: 0 | F29: 0 | G29: -1.663 | H29: =SUM(W29:Z29) -> 0 | I29: =SUM(AA29:AD29) -> 0 | J29: 0 | K29: 0 | L29: 0 | M29: 0 | O29: 0 | P29: 0 | Q29: 0 | R29: 0 | S29: 0 | T29: ='IS 2Q21'!B12/1000 -> -1.664 | U29: ='IS 3Q21'!B12/1000 -> -2.014 | V29: =G29-SUM(S29:U29) -> 2.015 | W29: 0 | X29: 0 | Y29: 0 | Z29: 0 | AA29: 0 | AB29: 0 | AC29: 0 | AD29: 0
B30: Loss on debt repayment | D30: 0 | E30: 0 | F30: 0 | G30: -15.99 | H30: =SUM(W30:Z30) -> 0 | I30: =SUM(AA30:AD30) -> 0 | J30: 0 | K30: 0 | L30: 0 | M30: 0 | O30: 0 | P30: 0 | Q30: 0 | R30: 0 | S30: ='IS 1Q21'!B12/1000 -> -15.99 | T30: 0 | U30: 0 | V30: =G30-SUM(S30:U30) -> 0 | W30: 0 | X30: 0 | Y30: 0 | Z30: 0 | AA30: 0 | AB30: 0 | AC30: 0 | AD30: 0
B31: Income Before Taxes | D31: =SUM(D27:D30) -> 8.647 | E31: =SUM(E27:E30) -> 25.143 | F31: =SUM(F27:F30) -> 33.766 | G31: =SUM(G27:G30) -> 4.03 | H31: =SUM(H27:H30) -> 31.074005 | I31: =SUM(I27:I30) -> 73.523565 | J31: =SUM(J27:J30) -> 110.89323 | K31: =SUM(K27:K30) -> 146.32969 | ... M31: =SUM(M27:M30) -> 209.5684 | O31: =SUM(O27:O30) -> 9.295 | P31: =SUM(P27:P30) -> 5.223 | Q31: =SUM(Q27:Q30) -> 15.001 | R31: =SUM(R27:R30) -> 7.052 | S31: =SUM(S27:S30) -> -9.809 | T31: =SUM(T27:T30) -> 8.815 | U31: =SUM(U27:U30) -> 3.967 | V31: =SUM(V27:V30) -> 1.057 | ... AD31: =SUM(AD27:AD30) -> 13.985051
B33: Provision for Income Tax | D33: 0 | E33: 0 | F33: 0 | G33: -0.086 | H33: =SUM(W33:Z33) -> -6.4116911 | I33: =SUM(AA33:AD33) -> -15.439949 | J33: =J36*J31 -> -23.287579 | K33: =K36*K31 -> -30.729235 | L33: =L36*L31 -> -37.669466 | M33: =M36*M31 -> -44.009365 | O33: 0 | P33: 0 | Q33: 0 | R33: 0 | S33: ='IS 1Q21'!B14/1000 -> 1.475 | T33: ='IS 2Q21'!B15/1000 -> 0.339 | U33: ='IS 3Q21'!B15/1000 -> 1.309 | V33: =G33-SUM(S33:U33) -> -3.209 | W33: ='IS 1Q22'!B14/1000 -> -1.522 | X33: ='IS 2Q22'!B15/1000 -> -1.511 | Y33: =Y36*Y31 -> -2.4523148 | Z33: =Z36*Z31 -> -0.92637633 | AA33: =AA36*AA31 -> -3.4264179 | AB33: =AB36*AB31 -> -3.6597329 | AC33: =AC36*AC31 -> -5.416937 | AD33: =AD36*AD31 -> -2.9368608
B34: Net After-Tax Income | D34: =D31+D33 -> 8.647 | E34: =E31+E33 -> 25.143 | F34: =F31+F33 -> 33.766 | G34: =G31+G33 -> 3.944 | H34: =H31+H33 -> 24.662314 | I34: =I31+I33 -> 58.083616 | J34: =J31+J33 -> 87.605653 | K34: =K31+K33 -> 115.60045 | ... M34: =M31+M33 -> 165.55904 | O34: =O31+O33 -> 9.295 | P34: =P31+P33 -> 5.223 | Q34: =Q31+Q33 -> 15.001 | R34: =R31+R33 -> 7.052 | S34: =S31+S33 -> -8.334 | T34: =T31+T33 -> 9.154 | U34: =U31+U33 -> 5.276 | V34: =V31+V33 -> -2.152 | ... AD34: =AD31+AD33 -> 11.048191
B36: Tax Rate | G36: =G33/G31 -> -0.02133995 | H36: =H33/H31 -> -0.20633617 | I36: =I33/I31 -> -0.21 | J36: =I36 -> -0.21 | K36: =J36 -> -0.21 | L36: =K36 -> -0.21 | M36: =L36 -> -0.21 | W36: =W33/W31 -> -0.2466375 | X36: =X33/X31 -> -0.17143181 | Y36: -0.21 | Z36: -0.21 | AA36: -0.21 | AB36: -0.21 | AC36: -0.21 | AD36: -0.21
B38: Less: Net income (loss) attributable to NCI | D38: 0 | E38: 0 | F38: 0 | G38: ='IS FY21'!B17/1000 -> 1.596 | H38: =SUM(W38:Z38) -> 10.712 | I38: =SUM(AA38:AD38) -> 11.604 | J38: =I38 -> 11.604 | K38: =J38 -> 11.604 | L38: =K38 -> 11.604 | M38: =L38 -> 11.604 | O38: 0 | P38: 0 | Q38: 0 | R38: 0 | S38: ='IS 1Q21'!B16/1000 -> -5.475 | T38: ='IS 2Q21'!B17/1000 -> 4.596 | U38: ='IS 3Q21'!B17/1000 -> 2.79 | V38: =G38-SUM(S38:U38) -> -0.315 | W38: ='IS 1Q22'!B16/1000 -> 2.009 | X38: ='IS 2Q22'!B17/1000 -> 2.901 | Y38: =X38 -> 2.901 | Z38: =Y38 -> 2.901 | AA38: =Z38 -> 2.901 | AB38: =AA38 -> 2.901 | AC38: =AB38 -> 2.901 | AD38: =AC38 -> 2.901
B39: Net Income to Shoals | D39: =D34-D38 -> 8.647 | E39: =E34-E38 -> 25.143 | F39: =F34-F38 -> 33.766 | G39: =G34-G38 -> 2.348 | H39: =H34-H38 -> 13.950314 | I39: =I34-I38 -> 46.479616 | J39: =J34-J38 -> 76.001653 | K39: =K34-K38 -> 103.99645 | ... M39: =M34-M38 -> 153.95504 | O39: =O34-O38 -> 9.295 | P39: =P34-P38 -> 5.223 | Q39: =Q34-Q38 -> 15.001 | R39: =R34-R38 -> 7.052 | S39: =S34-S38 -> -2.859 | T39: =T34-T38 -> 4.558 | U39: =U34-U38 -> 2.486 | V39: =V34-V38 -> -1.837 | ... AD39: =AD34-AD38 -> 8.1471906
B41: Adj. EBITDA Calculation
B42: Net Income as reported | D42: =D34 -> 8.647 | E42: =E34 -> 25.143 | F42: =F34 -> 33.766 | G42: =G34 -> 3.944 | H42: =H34 -> 24.662314 | I42: =I34 -> 58.083616 | J42: =J34 -> 87.605653 | K42: =K34 -> 115.60045 | ... M42: =M34 -> 165.55904 | O42: =O34 -> 9.295 | P42: =P34 -> 5.223 | Q42: =Q34 -> 15.001 | R42: =R34 -> 7.052 | S42: =S34 -> -8.334 | T42: =T34 -> 9.154 | U42: =U34 -> 5.276 | V42: =V34 -> -2.152 | ... AD42: =AD34 -> 11.048191
B43: Plus: Interest Expense, net | D43: =-D28 -> 2.44 | E43: =-E28 -> 1.787 | F43: =-F28 -> 3.51 | G43: =-G28 -> 14.549 | H43: =-H28 -> 17.491516 | I43: =-I28 -> 19.048398 | J43: =-J28 -> 14.073042 | K43: =-K28 -> 11.89275 | ... M43: =-M28 -> 11.932 | O43: =-O28 -> 0.272 | P43: =-P28 -> 0.225 | Q43: =-Q28 -> 0.104 | R43: =-R28 -> 0.104 | S43: =-S28 -> 3.709 | T43: =-T28 -> 3.62 | U43: =-U28 -> 3.582 | V43: =-V28 -> 3.638 | ... AD43: =-AD28 -> 4.6314953
B44: Plus: Provision for Income Tax | D44: =-D33 -> 0 | E44: =-E33 -> 0 | F44: =-F33 -> 0 | G44: =-G33 -> 0.086 | H44: =-H33 -> 6.4116911 | I44: =-I33 -> 15.439949 | J44: =-J33 -> 23.287579 | K44: =-K33 -> 30.729235 | ... M44: =-M33 -> 44.009365 | O44: =-O33 -> 0 | P44: =-P33 -> 0 | Q44: =-Q33 -> 0 | R44: =-R33 -> 0 | S44: =-S33 -> -1.475 | T44: =-T33 -> -0.339 | U44: =-U33 -> -1.309 | V44: =-V33 -> 3.209 | ... AD44: =-AD33 -> 2.9368608
B45: Plus: Depreciation Expense | D45: 1.006 | E45: 1.179 | F45: 1.42 | G45: 1.701 | H45: =SUM(W45:Z45) -> 3.286104 | I45: =SUM(AA45:AD45) -> 4.8923983 | J45: =J101 -> 5.9736449 | K45: =K101 -> 7.3487086 | L45: =L101 -> 9.0293421 | M45: =M101 -> 9.8700797 | O45: 0.326 | P45: 0.338 | Q45: 0.391 | R45: =F45-SUM(O45:Q45) -> 0.365 | S45: 0.405 | T45: 0.411 | U45: 0.449 | V45: =G45-SUM(S45:U45) -> 0.436 | W45: 0.424 | X45: 0.47 | Y45: =Y101 -> 1.196052 | Z45: =Z101 -> 1.196052 | AA45: =AA101 -> 1.2230996 | AB45: =AB101 -> 1.2230996 | AC45: =AC101 -> 1.2230996 | AD45: =AD101 -> 1.2230996
B46: Plus: Amortization of Intangibles | D46: 7.984 | E46: 7.984 | F46: 7.985 | G46: 8.352 | H46: =SUM(W46:Z46) -> 8.659 | I46: =SUM(AA46:AD46) -> 7.918 | J46: =J104 -> 7.585 | K46: =K104 -> 7.585 | L46: =L104 -> 7.585 | M46: =M104 -> 7.585 | O46: 1.996 | P46: 1.996 | Q46: 1.996 | R46: =F46-SUM(O46:Q46) -> 1.997 | S46: 1.996 | T46: 1.996 | U46: 2.088 | V46: =G46-SUM(S46:U46) -> 2.272 | W46: 2.27 | X46: 2.238 | Y46: =Y104 -> 2.0755 | Z46: =Z104 -> 2.0755 | AA46: =AA104 -> 1.9795 | AB46: =AB104 -> 1.9795 | AC46: =AC104 -> 1.9795 | AD46: =AD104 -> 1.9795
B47: Plus: Amortization of Deferred Financing Costs | D47: 0.038 | E47: 0.038 | F47: 0.351 | G47: ='CF FY21'!B7/1000 -> 5.969 | H47: =SUM(W47:Z47) -> 0.684 | I47: =SUM(AA47:AD47) -> 0 | J47: 0 | K47: 0 | L47: 0 | M47: 0 | S47: ='CF 1Q21'!B7/1000 -> 5.11 | T47: ='CF 2Q21'!B7/1000-IS!S47 -> 0.305 | U47: ='CF 3Q21'!B7/1000-SUM(IS!S47:T47) -> 0.277 | V47: ='CF FY21'!B7/1000-SUM(IS!S47:U47) -> 0.277 | W47: ='CF 1Q22'!B7/1000 -> 0.276 | X47: ='CF 2Q22'!B7/1000-IS!W47 -> 0.408 | Y47: 0 | Z47: =Y47 -> 0 | AA47: =Z47 -> 0 | AB47: =AA47 -> 0 | AC47: =AB47 -> 0 | AD47: =AC47 -> 0
B48: Plus: Tax rececivable agreement liability adjustment | D48: =-D29 -> 0 | E48: =-E29 -> 0 | F48: =-F29 -> 0 | G48: =-G29 -> 1.663 | H48: =-H29 -> 0 | I48: =-I29 -> 0 | J48: =-J29 -> 0 | K48: =-K29 -> 0 | ... M48: =-M29 -> 0 | O48: =-O29 -> 0 | P48: =-P29 -> 0 | Q48: =-Q29 -> 0 | R48: =F48-SUM(O48:Q48) -> 0 | S48: =-S29 -> 0 | T48: =-T29 -> 1.664 | U48: =-U29 -> 2.014 | V48: =-V29 -> -2.015 | W48: =-W29 -> 0 | X48: =-X29 -> 0 | Y48: =-Y29 -> 0 | Z48: =-Z29 -> 0 | ... AD48: =-AD29 -> 0
B49: Plus: Loss on debt repayment | D49: 0 | E49: 0 | F49: 0 | G49: =-G30 -> 15.99 | H49: =-H30 -> 0 | I49: =-I30 -> 0 | J49: =-J30 -> 0 | K49: =-K30 -> 0 | L49: =-L30 -> 0 | M49: =-M30 -> 0 | O49: 0 | P49: 0 | Q49: 0 | R49: =F49-SUM(O49:Q49) -> 0 | S49: =-S30 -> 15.99 | T49: =-T30 -> 0 | U49: =-U30 -> 0 | V49: =-V30 -> 0 | W49: =-W30 -> 0 | X49: =-X30 -> 0 | Y49: =-Y30 -> 0 | Z49: =-Z30 -> 0 | ... AD49: =-AD30 -> 0
B50: Plus: Equity-Based Compensation | D50: 0 | E50: 0 | F50: 8.251 | G50: 11.286 | H50: =SUM(W50:Z50) -> 16.840948 | I50: =SUM(AA50:AD50) -> 25.990553 | J50: =I50 -> 25.990553 | K50: =J50 -> 25.990553 | L50: =K50 -> 25.990553 | M50: =L50 -> 25.990553 | O50: 0 | P50: 6.704 | Q50: 1.032 | R50: =F50-SUM(O50:Q50) -> 0.515 | S50: 1.392 | T50: 2.78 | U50: 2.732 | V50: =G50-SUM(S50:U50) -> 4.382 | W50: 3.831 | X50: 4.063 | Y50: =+X50/X9*Y9 -> 4.9625103 | Z50: =+Y50/Y9*Z9 -> 3.984438 | AA50: =+Z50/Z9*AA9 -> 5.8251334 | AB50: =+AA50/AA9*AB9 -> 6.29765 | AC50: =+AB50/AB9*AC9 -> 7.6918909 | AD50: =+AC50/AC9*AD9 -> 6.1758789
...

Sheet CF
B2: USD in Millions | D2: Fiscal Year Ended December 31, | N2: 2021 | R2: 2022 | V2: 2023
D3: 2019 | E3: 2020 | F3: 2021 | G3: 2022 | H3: 2023 | I3: =H3+1 -> 2024 | J3: =I3+1 -> 2025 | K3: =J3+1 -> 2026 | L3: =K3+1 -> 2027 | N3: Q1 | O3: Q2 | P3: Q3 | Q3: Q4 | R3: Q1 | S3: Q2 | T3: Q3 | U3: Q4 | V3: Q1 | W3: Q2 | X3: Q3 | Y3: Q4
D4: 43818 | E4: 44185 | F4: 44551 | G4: 44917 | H4: 45283 | I4: 45649 | J4: 46014 | K4: 46379 | L4: 46744 | N4: 44639 | O4: 44731 | P4: 44823 | Q4: 44914 | R4: 44640 | S4: 44732 | T4: 44824 | U4: 44915 | V4: 45006 | W4: 45098 | X4: 45190 | Y4: 45281
B5: Cash Flow | D5: Actual | E5: Actual | F5: Actual | G5: Forecast | H5: Forecast | I5: Forecast | J5: Forecast | K5: Forecast | L5: Forecast | N5: Actual | O5: Actual | P5: Actual | Q5: Actual | R5: Actual | S5: Actual | T5: Forecast | U5: Forecast | V5: Forecast | W5: Forecast | X5: Forecast | Y5: Forecast
B7: Cash Flow From Operating Activities:
B8: GAAP Net Income | D8: =IS!E56 -> 25.143 | E8: =IS!F56 -> 33.766 | F8: =SUM(N8:Q8) -> 3.944 | G8: =IS!H56 -> 24.662314 | H8: =IS!I56 -> 58.083616 | I8: =IS!J56 -> 87.605653 | J8: =IS!K56 -> 115.60045 | K8: =IS!L56 -> 141.70894 | L8: =IS!M56 -> 165.55904 | N8: -8.334 | O8: =0.82-N8 -> 9.154 | P8: =6.096-SUM(N8:O8) -> 5.276 | Q8: =3.944-SUM(N8:P8) -> -2.152 | R8: =4.649 -> 4.649 | S8: =11.952-R8 -> 7.303 | T8: =IS!Y56 -> 9.2253746 | U8: =IS!Z56 -> 3.4849395 | V8: =IS!AA56 -> 12.889858 | W8: =IS!AB56 -> 13.767566 | X8: =IS!AC56 -> 20.378001 | Y8: =IS!AD56 -> 11.048191
B9: Depreciation & Amortization | D9: =SUM(IS!E45:'IS'!E46) -> 9.163 | E9: =SUM(IS!F45:'IS'!F46) -> 9.405 | F9: =SUM(N9:Q9) -> 10.053 | G9: =SUM(IS!H45:'IS'!H46) -> 11.945104 | H9: =SUM(IS!I45:'IS'!I46) -> 12.810398 | I9: =SUM(IS!J45:'IS'!J46) -> 13.558645 | J9: =SUM(IS!K45:'IS'!K46) -> 14.933709 | K9: =SUM(IS!L45:'IS'!L46) -> 16.614342 | L9: =SUM(IS!M45:'IS'!M46) -> 17.45508 | N9: 2.401 | O9: =4.808-N9 -> 2.407 | P9: =7.345-SUM(N9:O9) -> 2.537 | Q9: =10.053-SUM(N9:P9) -> 2.708 | R9: =2.694 -> 2.694 | S9: =5.402-R9 -> 2.708 | T9: =SUM(IS!Y45:'IS'!Y46) -> 3.271552 | U9: =SUM(IS!Z45:'IS'!Z46) -> 3.271552 | V9: =SUM(IS!AA45:'IS'!AA46) -> 3.2025996 | W9: =SUM(IS!AB45:'IS'!AB46) -> 3.2025996 | X9: =SUM(IS!AC45:'IS'!AC46) -> 3.2025996 | Y9: =SUM(IS!AD45:'IS'!AD46) -> 3.2025996
B10: Amortization of Deferred Financing Fees | D10: =IS!E47 -> 0.038 | E10: =IS!F47 -> 0.351 | F10: =SUM(N10:Q10) -> 5.969 | G10: =IS!H47 -> 0.684 | H10: =IS!I47 -> 0 | I10: =IS!J47 -> 0 | J10: =IS!K47 -> 0 | K10: =IS!L47 -> 0 | L10: =IS!M47 -> 0 | N10: 5.11 | O10: =5.415-N10 -> 0.305 | P10: =5.692-SUM(N10:O10) -> 0.277 | Q10: =5.969-SUM(N10:P10) -> 0.277 | R10: =0.276 -> 0.276 | S10: =0.684-R10 -> 0.408 | T10: =IS!Y47 -> 0 | U10: =IS!Z47 -> 0 | V10: =IS!AA47 -> 0 | W10: =IS!AB47 -> 0 | X10: =IS!AC47 -> 0 | Y10: =IS!AD47 -> 0
B11: Equity Based Compensation | D11: =IS!E50 -> 0 | E11: =IS!F50 -> 8.251 | F11: =SUM(N11:Q11) -> 11.286 | G11: =IS!H50 -> 16.840948 | H11: =IS!I50 -> 25.990553 | I11: =IS!J50 -> 25.990553 | J11: =IS!K50 -> 25.990553 | K11: =IS!L50 -> 25.990553 | L11: =IS!M50 -> 25.990553 | N11: 1.392 | O11: =4.172-N11 -> 2.78 | P11: =6.404-SUM(N11:O11) -> 2.232 | Q11: =11.286-SUM(N11:P11) -> 4.882 | R11: 3.831 | S11: =7.896-R11 -> 4.065 | T11: =IS!Y50 -> 4.9625103 | U11: =IS!Z50 -> 3.984438 | V11: =IS!AA50 -> 5.8251334 | W11: =IS!AB50 -> 6.29765 | X11: =IS!AC50 -> 7.6918909 | Y11: =IS!AD50 -> 6.1758789
B12: All other | D12: =SUM('CF FY18-20'!C9)/1000 -> 0.301 | E12: =SUM('CF FY18-20'!B9)/1000 -> 0.188 | F12: =SUM(N12:Q12) -> -1.179 | G12: =SUM(R12:U12) -> 3.29 | H12: =SUM(V12:Y12) -> 0 | I12: 0 | J12: 0 | K12: 0 | L12: 0 | N12: =0.557+0.061 -> 0.618 | O12: =1.664+0.061-0.524-N12 -> 0.583 | P12: =(0.435+0.64+3.678+0.061)-SUM(N12:O12) -> 3.613 | Q12: =-1.418-1.476+1.663+0.052-SUM(N12:P12) -> -5.993 | R12: =1.419 -> 1.419 | S12: =0.443+2.847-R12 -> 1.871 | T12: 0 | U12: 0 | V12: 0 | W12: 0 | X12: 0 | Y12: 0
B14: Change in Net Working Capital:
B15: Accounts Receivable | D15: ='CF FY18-20'!C11/1000 -> -0.473 | E15: =BS!D11-BS!E11 -> 0.288 | F15: =SUM(N15:Q15) -> 0.818 | G15: =BS!F11-BS!G11 -> -13.256178 | H15: =BS!G11-BS!H11 -> -22.377589 | I15: =BS!H11-BS!I11 -> -16.356225 | J15: =BS!I11-BS!J11 -> -21.158169 | K15: =BS!J11-BS!K11 -> -20.929432 | L15: =BS!K11-BS!L11 -> -18.836489 | N15: -1.134 | O15: =-15.973-N15 -> -14.839 | P15: =-12.271-SUM(N15:O15) -> 3.702 | Q15: =0.818-SUM(N15:P15) -> 13.089 | R15: =-25.388 -> -25.388 | S15: =-26.259-R15 -> -0.871 | T15: =BS!S11-BS!T11 -> 2.0856301 | U15: =BS!T11-BS!U11 -> 10.986192 | V15: =BS!U11-BS!V11 -> -18.564932 | W15: =BS!V11-BS!W11 -> -4.9492893 | X15: =BS!W11-BS!X11 -> -15.342656 | Y15: =BS!X11-BS!Y11 -> 16.479288
B16: Unbilled Receivables | D16: ='CF FY18-20'!C12/1000 -> -1.345 | E16: =BS!D12-BS!E12 -> -1.289 | F16: =SUM(N16:Q16) -> -9.739 | G16: =BS!F12-BS!G12 -> 0.36971233 | H16: =BS!G12-BS!H12 -> -6.5816438 | I16: =BS!H12-BS!I12 -> -5.3017662 | J16: =BS!I12-BS!J12 -> -6.3474508 | K16: =BS!J12-BS!K12 -> -6.2788297 | L16: =BS!K12-BS!L12 -> -5.6509467 | N16: -6.201 | O16: =-3.003-N16 -> 3.198 | P16: =-6.76-SUM(N16:O16) -> -3.757 | Q16: =-9.739-SUM(N16:P16) -> -2.979 | R16: -2.616 | S16: =-1.047-R16 -> 1.569 | T16: =BS!S12-BS!T12 -> -1.8145205 | U16: =BS!T12-BS!U12 -> 3.2312329 | V16: =BS!U12-BS!V12 -> -5.460274 | W16: =BS!V12-BS!W12 -> -1.4556733 | X16: =BS!W12-BS!X12 -> -4.5125458 | Y16: =BS!X12-BS!Y12 -> 4.8468493
B17: Inventory | D17: ='CF FY18-20'!C13/1000 -> -0.694 | E17: =BS!D13-BS!E13-E12 -> -6.475 | F17: =SUM(N17:Q17) -> -17.188 | G17: =BS!F13-BS!G13 -> -14.436932 | H17: =BS!G13-BS!H13 -> -21.238562 | I17: =BS!H13-BS!I13 -> 11.426749 | J17: =BS!I13-BS!J13 -> -16.182568 | K17: =BS!J13-BS!K13 -> -16.136592 | L17: =BS!K13-BS!L13 -> -14.673625 | N17: -5.971 | O17: =-6.151-N17 -> -0.18 | P17: =-8.505-SUM(N17:O17) -> -2.354 | Q17: =-17.188-SUM(N17:P17) -> -8.683 | R17: =-11.111 -> -11.111 | S17: =-27.404-R17 -> -16.293 | T17: =BS!S13-BS!T13 -> 2.3785342 | U17: =BS!T13-BS!U13 -> 9.7775342 | V17: =BS!U13-BS!V13 -> -15.716712 | W17: =BS!V13-BS!W13 -> -5.0799955 | X17: =BS!W13-BS!X13 -> -18.617539 | Y17: =BS!X13-BS!Y13 -> 18.175685
B18: Other Current Assets | D18: ='CF FY18-20'!C14/1000 -> 0.137 | E18: =BS!D14-BS!E14 -> 0.643 | F18: =SUM(N18:Q18) -> 0.341 | G18: =BS!F14-BS!G14 -> -2.1649 | H18: =BS!G14-BS!H14 -> -3.60345 | I18: =BS!H14-BS!I14 -> -7.5238328 | J18: =BS!I14-BS!J14 -> -4.5835457 | K18: =BS!J14-BS!K14 -> -4.5835457 | L18: =BS!K14-BS!L14 -> -4.1251911 | N18: -3.465 | O18: =-4.631-N18 -> -1.166 | P18: =-6.904-SUM(N18:O18) -> -2.273 | Q18: =0.341-SUM(N18:P18) -> 7.245 | R18: =-3.421 -> -3.421 | S18: =-2.059-R18 -> 1.362 | T18: =BS!S14-BS!T14 -> -0.149 | U18: =BS!T14-BS!U14 -> 1.7691 | V18: =BS!U14-BS!V14 -> -2.9895 | W18: =BS!V14-BS!W14 -> -0.8271 | X18: =BS!W14-BS!X14 -> -2.4405 | Y18: =BS!X14-BS!Y14 -> 2.65365
B19: Accounts Payable | D19: ='CF FY18-20'!C15/1000 -> 4.195 | E19: =BS!E27-BS!D27 -> 4.251 | F19: =SUM(N19:Q19) -> -3.877 | G19: =BS!G27-BS!F27 -> -2.3833562 | H19: =BS!H27-BS!G27 -> 7.0795205 | I19: =BS!I27-BS!H27 -> 17.063332 | J19: =BS!J27-BS!I27 -> 10.788379 | K19: =BS!K27-BS!J27 -> 10.757728 | L19: =BS!L27-BS!K27 -> 9.7824167 | N19: -1.693 | O19: =-0.41-N19 -> 1.283 | P19: =-5.198-SUM(N19:O19) -> -4.788 | Q19: =-3.877-SUM(N19:P19) -> 1.321 | R19: =-2.106 -> -2.106 | S19: =4.06-R19 -> 6.166 | T19: =BS!T27-BS!S27 -> -3.3971781 | U19: =BS!U27-BS!T27 -> -3.2591781 | V19: =BS!V27-BS!U27 -> 5.2389041 | W19: =BS!W27-BS!V27 -> 1.6933318 | X19: =BS!X27-BS!W27 -> 6.2058462 | Y19: =BS!Y27-BS!X27 -> -6.0585616
B20: Accrued Expenses | D20: ='CF FY18-20'!C16/1000 -> -0.283 | E20: =BS!E28-BS!D28 -> 4.703 | F20: =SUM(N20:Q20) -> -4.511 | G20: =BS!G28-BS!F28 -> 6.4925 | H20: =BS!H28-BS!G28 -> 6.4600625 | I20: =BS!I28-BS!H28 -> 32.480986 | J20: =BS!J28-BS!I28 -> 13.750637 | K20: =BS!K28-BS!J28 -> 13.750637 | L20: =BS!L28-BS!K28 -> 12.375573 | N20: -0.502 | O20: =-0.362-N20 -> 0.14 | P20: =2.608-SUM(N20:O20) -> 2.97 | Q20: =-4.511-SUM(N20:P20) -> -7.119 | R20: 5.914 | S20: =16.742-R20 -> 10.828 | T20: =BS!T28-BS!S28 -> -6.2615 | U20: =BS!U28-BS!T28 -> -2.974 | V20: =BS!V28-BS!U28 -> 4.7805 | W20: =BS!W28-BS!V28 -> 1.6065 | X20: =BS!X28-BS!W28 -> 5.6015 | Y20: =BS!Y28-BS!X28 -> -5.5284375
B21: Cash Flow From Operating Activities | D21: =SUM(D8:D12,D15:D20) -> 36.182 | E21: =SUM(E8:E12,E15:E20) -> 54.082 | F21: =SUM(F8:F12,F15:F20) -> -4.083 | G21: =SUM(G8:G12,G15:G20) -> 32.043213 | H21: =SUM(H8:H12,H15:H20) -> 56.622906 | I21: =SUM(I8:I12,I15:I20) -> 158.94409 | J21: =SUM(J8:J12,J15:J20) -> 132.792 | K21: =SUM(K8:K12,K15:K20) -> 160.8938 | L21: =SUM(L8:L12,L15:L20) -> 187.87641 | N21: =SUM(N8:N12,N15:N20) -> -17.779 | O21: =SUM(O8:O12,O15:O20) -> 3.665 | P21: =SUM(P8:P12,P15:P20) -> 7.435 | Q21: =SUM(Q8:Q12,Q15:Q20) -> 2.596 | R21: =SUM(R8:R12,R15:R20) -> -25.859 | S21: =SUM(S8:S12,S15:S20) -> 19.116 | T21: =SUM(T8:T12,T15:T20) -> 10.301403 | U21: =SUM(U8:U12,U15:U20) -> 30.27181 | ... Y21: =SUM(Y8:Y12,Y15:Y20) -> 50.995142
B23: Cash Flow From Investing Activities:
B24: Purchases of PP&E | D24: ='CF FY18-20'!C19/1000 -> -1.719 | E24: ='CF FY18-20'!B19/1000 -> -3.236 | F24: =SUM(N24:Q24) -> -4.126 | G24: =SUM(R24:U24) -> -3.76729 | H24: =SUM(V24:Y24) -> -4.7010725 | I24: =-I49 -> -6.1113943 | J24: =-J49 -> -7.6392428 | K24: =-K49 -> -9.1670914 | L24: =-L49 -> -10.542155 | N24: -0.863 | O24: =-1.736-N24 -> -0.873 | P24: =-2.483-SUM(N24:O24) -> -0.747 | Q24: =-4.126-SUM(N24:P24) -> -1.643 | R24: -0.882 | S24: =-2.149-R24 -> -1.267 | T24: =-T49 -> -0.8976 | U24: =-U49 -> -0.72069 | V24: =-V49 -> -1.053628 | W24: =-W49 -> -1.139095 | X24: =-X49 -> -1.39128 | Y24: =-Y49 -> -1.1170695
B25: Acquisition of Business, net of cash acquired | D25: 0 | E25: 0 | F25: =SUM(N25:Q25) -> -12.909 | G25: 0 | H25: 0 | I25: 0 | J25: 0 | K25: 0 | L25: 0 | N25: 0 | O25: 0 | P25: =-12.909-SUM(N25:O25) -> -12.909 | Q25: =-12.909-SUM(N25:P25) -> 0 | R25: 0 | S25: 0 | T25: 0 | U25: 0 | V25: 0 | W25: 0 | X25: 0 | Y25: 0
B26: Cash Flow From Investing Activities | D26: =SUM(D24:D25) -> -1.719 | E26: =SUM(E24:E25) -> -3.236 | F26: =SUM(F24:F25) -> -17.035 | G26: =SUM(G24:G25) -> -3.76729 | H26: =SUM(H24:H25) -> -4.7010725 | I26: =SUM(I24:I25) -> -6.1113943 | J26: =SUM(J24:J25) -> -7.6392428 | K26: =SUM(K24:K25) -> -9.1670914 | L26: =SUM(L24:L25) -> -10.542155 | N26: =SUM(N24:N25) -> -0.863 | O26: =SUM(O24:O25) -> -0.873 | P26: =SUM(P24:P25) -> -13.656 | Q26: =SUM(Q24:Q25) -> -1.643 | R26: =SUM(R24:R25) -> -0.882 | S26: =SUM(S24:S25) -> -1.267 | T26: =SUM(T24:T25) -> -0.8976 | U26: =SUM(U24:U25) -> -0.72069 | ... Y26: =SUM(Y24:Y25) -> -1.1170695
B29: Cash Flow From Financing Activities:
B30: Net Proceeds from Equity Offering | D30: ='CF FY18-20'!C42/1000 -> 0 | E30: ='CF FY18-20'!B42/1000 -> 0 | F30: =SUM(N30:Q30) -> 144.817 | G30: =SUM(R30:U30) -> 0 | H30: =SUM(V30:Y30) -> 0 | N30: =154.521-9.619 -> 144.902 | O30: =154.521-9.619-N30 -> 0 | P30: =154.521+281.064-281.064-9.619-SUM(N30:O30) -> 0 | Q30: =278.833-124.312+281.064-281.064-9.704-SUM(N30:P30) -> -0.085 | R30: 0 | S30: 0 | T30: 0 | U30: 0 | V30: 0 | W30: 0 | X30: 0 | Y30: 0
B31: Net Debt Financing Activity | D31: ='CF FY18-20'!C43/1000 -> -13.5 | E31: ='CF FY18-20'!B43/1000 -> 331.929 | F31: =SUM(N31:Q31) -> -119.241 | G31: =SUM(R31:U31) -> 10.045077 | H31: =SUM(V31:Y31) -> -11.921834 | I31: =+IS!J156-IS!I156 -> -54.263244 | J31: =+IS!K156-IS!J156 -> 0 | K31: =+IS!L156-IS!K156 -> 0 | L31: =+IS!M156-IS!L156 -> 0 | N31: =-0.094+19-150.875 -> -131.969 | O31: =-0.094-151.75+34-5-N31 -> 9.125 | P31: =-0.094-152.25+40.14-1.537-SUM(N31:O31) -> 9.103 | Q31: =-152.75+49.14-14-1.537-0.094-SUM(N31:P31) -> -5.5 | R31: =-0.5+35 -> 34.5 | S31: =-1+38-8-R31 -> -5.5 | T31: =+IS!Y156-IS!X156 -> 0.59619742 | U31: =+IS!Z156-IS!Y156 -> -19.55112 | V31: =+IS!AA156-IS!Z156 -> 21.848051 | W31: =+IS!AB156-IS!AA156 -> -3.1164947 | X31: =+IS!AC156-IS!AB156 -> 9.2246827 | Y31: =+IS!AD156-IS!AC156 -> -39.878072
B32: Other | D32: ='CF FY18-20'!C44/1000 -> -13.989 | E32: ='CF FY18-20'!B44/1000 -> -379.784 | F32: =SUM(N32:Q32) -> -4.974 | G32: =SUM(R32:U32) -> -5.863 | H32: =SUM(V32:Y32) -> 0 | N32: -0.137 | O32: =-2.973-0.137-N32 -> -2.973 | P32: =-4.837-0.137-SUM(N32:O32) -> -1.864 | Q32: =-4.837-0.137-SUM(N32:P32) -> 0 | R32: =-2.938-1.297 -> -4.235 | S32: =-4.566-1.297-R32 -> -1.628 | T32: 0 | U32: 0 | V32: 0 | W32: 0 | X32: 0 | Y32: 0
B35: Cash Flow From Financing Activities | D35: =SUM(D30:D34) -> -27.489 | E35: =SUM(E30:E34) -> -47.855 | F35: =SUM(F30:F34) -> 20.602 | G35: =SUM(G30:G34) -> 4.1820771 | H35: =SUM(H30:H34) -> -11.921834 | I35: =SUM(I30:I34) -> -54.263244 | J35: =SUM(J30:J34) -> 0 | K35: =SUM(K30:K34) -> 0 | L35: =SUM(L30:L34) -> 0 | N35: =SUM(N30:N34) -> 12.796 | O35: =SUM(O30:O34) -> 6.152 | P35: =SUM(P30:P34) -> 7.239 | Q35: =SUM(Q30:Q34) -> -5.585 | R35: =SUM(R30:R34) -> 30.265 | S35: =SUM(S30:S34) -> -7.128 | T35: =SUM(T30:T34) -> 0.59619742 | U35: =SUM(U30:U34) -> -19.55112 | ... Y35: =SUM(Y30:Y34) -> -39.878072
B37: Net Change in Cash | D37: =SUM(D21,D26,D35) -> 6.974 | E37: =SUM(E21,E26,E35) -> 2.991 | F37: =SUM(F21,F26,F35) -> -0.516 | G37: =SUM(G21,G26,G35) -> 32.458 | H37: =SUM(H21,H26,H35) -> 40 | I37: =SUM(I21,I26,I35) -> 98.569455 | J37: =SUM(J21,J26,J35) -> 125.15276 | K37: =SUM(K21,K26,K35) -> 151.72671 | L37: =SUM(L21,L26,L35) -> 177.33426 | N37: =SUM(N21,N26,N35) -> -5.846 | O37: =SUM(O21,O26,O35) -> 8.944 | P37: =SUM(P21,P26,P35) -> 1.018 | Q37: =SUM(Q21,Q26,Q35) -> -4.632 | R37: =SUM(R21,R26,R35) -> 3.524 | S37: =SUM(S21,S26,S35) -> 10.721 | T37: =SUM(T21,T26,T35) -> 10 | U37: =SUM(U21,U26,U35) -> 10 | ... Y37: =SUM(Y21,Y26,Y35) -> 10
B39: Beginning Cash | D39: ='CF FY18-20'!D36/1000 -> 0.108 | E39: =D42 -> 7.082 | F39: =E42 -> 10.073 | G39: =F42 -> 5.006 | I39: =+H40 -> 70.094 | J39: =+I40 -> 168.66345 | K39: =+J40 -> 293.81621 | L39: =+K40 -> 445.54292 | N39: =E42 -> 10.073 | O39: =N42 -> 4.227 | P39: =O42 -> 13.171 | Q39: =P42 -> 14.189 | R39: =Q42 -> 5.006 | S39: =R40 -> 8.53 | T39: =+S40 -> 10.094 | U39: =+T40 -> 20.094 | V39: =+U40 -> 30.094 | W39: =+V40 -> 40.094 | X39: =+W40 -> 50.094 | Y39: =+X40 -> 60.094
B40: Ending Cash | D40: =SUM(D37,D39) -> 7.082 | E40: =SUM(E37,E39) -> 10.073 | F40: =SUM(F37,F39) -> 9.557 | G40: =SUM(G37,G39) -> 37.464 | H40: =+Y40 -> 70.094 | I40: =SUM(I37,I39) -> 168.66345 | J40: =SUM(J37,J39) -> 293.81621 | K40: =SUM(K37,K39) -> 445.54292 | L40: =SUM(L37,L39) -> 622.87718 | N40: =SUM(N37,N39) -> 4.227 | O40: =SUM(O37,O39) -> 13.171 | P40: =SUM(P37,P39) -> 14.189 | Q40: =SUM(Q37,Q39) -> 9.557 | R40: =SUM(R37,R39) -> 8.53 | S40: =+BS!S10 -> 10.094 | T40: =SUM(T37,T39) -> 20.094 | U40: =SUM(U37,U39) -> 30.094 | V40: =SUM(V37,V39) -> 40.094 | W40: =SUM(W37,W39) -> 50.094 | X40: =SUM(X37,X39) -> 60.094 | Y40: =SUM(Y37,Y39) -> 70.094
B41: Restricted cash included in other current assets | F41: 4.551 | G41: =10.125+3.583 -> 13.708 | H41: =G41 -> 13.708 | I41: =H41 -> 13.708 | J41: =I41 -> 13.708 | K41: =J41 -> 13.708 | L41: =K41 -> 13.708 | Q41: 4.551 | R41: =4.222+6.325 -> 10.547 | S41: =10.125+3.583 -> 13.708 | T41: =S41 -> 13.708 | U41: =T41 -> 13.708 | V41: =U41 -> 13.708 | W41: =V41 -> 13.708 | X41: =W41 -> 13.708 | Y41: =X41 -> 13.708 | Z41: ignore
B42: Ending Cash | D42: =D40-D41 -> 7.082 | E42: =E40-E41 -> 10.073 | F42: =F40-F41 -> 5.006 | G42: =G40-G41 -> 23.756 | H42: =H40-H41 -> 56.386 | I42: =I40-I41 -> 154.95545 | J42: =J40-J41 -> 280.10821 | K42: =K40-K41 -> 431.83492 | L42: =L40-L41 -> 609.16918 | N42: =N40-N41 -> 4.227 | O42: =O40-O41 -> 13.171 | P42: =P40-P41 -> 14.189 | Q42: =Q40-Q41 -> 5.006 | R42: =R40-R41 -> -2.017 | S42: =S40-S41 -> -3.614 | T42: =T40-T41 -> 6.386 | U42: =U40-U41 -> 16.386 | ... Y42: =Y40-Y41 -> 56.386 | Z42: ignore
B45: CapEx Schedule
B47: Memo: Revenue | D47: =IS!E9 -> 144.496 | E47: =IS!F9 -> 175.518 | F47: =IS!G9 -> 213.212 | G47: =IS!H9 -> 303.295 | H47: =IS!I9 -> 470.10725 | I47: =IS!J9 -> 611.13943 | J47: =IS!K9 -> 763.92428 | K47: =IS!L9 -> 916.70914 | L47: =IS!M9 -> 1054.2155 | N47: =IS!S9 -> 45.604 | O47: =IS!T9 -> 59.722 | P47: =IS!U9 -> 59.84 | Q47: =IS!V9 -> 48.046 | R47: =IS!W9 -> 67.976 | S47: =IS!X9 -> 73.49 | T47: =IS!Y9 -> 89.76 | U47: =IS!Z9 -> 72.069 | ... Y47: =IS!AD9 -> 111.70695
B49: Capital Expenditures | D49: =-D24 -> 1.719 | E49: =-E24 -> 3.236 | F49: =-F24 -> 4.126 | G49: =-G24 -> 3.76729 | H49: =-H24 -> 4.7010725 | I49: =I50*I47 -> 6.1113943 | J49: =J50*J47 -> 7.6392428 | K49: =K50*K47 -> 9.1670914 | L49: =L50*L47 -> 10.542155 | N49: =-N24 -> 0.863 | O49: =-O24 -> 0.873 | P49: =-P24 -> 0.747 | Q49: =-Q24 -> 1.643 | R49: =-R24 -> 0.882 | S49: =-S24 -> 1.267 | T49: =T47*T50 -> 0.8976 | U49: =U47*U50 -> 0.72069 | V49: =V47*V50 -> 1.053628 | W49: =W47*W50 -> 1.139095 | X49: =X47*X50 -> 1.39128 | Y49: =Y47*Y50 -> 1.1170695
B50: % of Revenue | D50: =D49/D47 -> 0.011896523 | E50: =E49/E47 -> 0.018436855 | F50: =F49/F47 -> 0.019351631 | G50: =G49/G47 -> 0.012421207 | H50: =H49/H47 -> 0.01 | I50: 0.01 | J50: =I50 -> 0.01 | K50: =J50 -> 0.01 | L50: =K50 -> 0.01 | M50: 0.02 | N50: =N49/N47 -> 0.018923779 | O50: =O49/O47 -> 0.014617729 | P50: =P49/P47 -> 0.012483289 | Q50: =Q49/Q47 -> 0.034196395 | R50: =R49/R47 -> 0.012975168 | S50: =S49/S47 -> 0.017240441 | T50: 0.01 | U50: 0.01 | V50: 0.01 | W50: 0.01 | X50: 0.01 | Y50: 0.01

Sheet TAM Builds
C1: Fiscal Year Ended December 31,
D2: Q1 | E2: Q2 | F2: Q3 | G2: Q4 | H2: 2021 | I2: Q1 | J2: Q2 | K2: Q3 | L2: Q4 | M2: 2022 | N2: 2023 | O2: =N2+1 -> 2024 | P2: =O2+1 -> 2025 | Q2: =P2+1 -> 2026 | R2: =Q2+1 -> 2027 | S2: =R2+1 -> 2028 | T2: =S2+1 -> 2029 | U2: =T2+1 -> 2030 | V2: =U2+1 -> 2031 | W2: =V2+1 -> 2032
D3: 44276 | E3: 44368 | F3: 44460 | G3: 44551 | H3: 44551 | I3: 44621 | J3: 44742 | K3: 44834 | L3: 44916 | M3: 44916 | N3: 44916 | O3: 45657 | P3: =O3+365 -> 46022 | Q3: =P3+365 -> 46387 | R3: =Q3+365 -> 46752 | S3: =R3+365 -> 47117 | T3: =S3+365 -> 47482 | U3: =T3+365 -> 47847 | V3: =U3+365 -> 48212 | W3: =V3+365 -> 48577
D4: Actual | E4: Actual | F4: Actual | G4: Actual | H4: Actual | I4: Actual | J4: Actual | K4: Forecast | L4: Forecast | M4: Forecast | N4: Forecast | O4: Forecast | P4: Forecast | Q4: Forecast | R4: Forecast | S4: Forecast | T4: Forecast | U4: Forecast | V4: Forecast | W4: Forecast
C6: Revenue Build
C8: System Solution | D8: 33.369 | E8: 51.242 | F8: 38.641 | G8: =H8-SUM(D8:F8) -> 32.566 | H8: 155.818 | I8: 46.829 | J8: 56.821
C9: Components | D9: 12.235 | E9: 8.48 | F9: 21.199 | G9: =H9-SUM(D9:F9) -> 15.48 | H9: 57.394 | I9: 21.147 | J9: 16.669
C11: Total Revenue | D11: =IS!S9 -> 45.604 | E11: =IS!T9 -> 59.722 | F11: =IS!U9 -> 59.84 | G11: =IS!V9 -> 48.046 | H11: =IS!G9 -> 213.212 | I11: =IS!W9 -> 67.976 | J11: =IS!X9 -> 73.49 | K11: =IS!Y9 -> 89.76 | L11: =IS!Z9 -> 72.069 | M11: =SUM(I11:L11) -> 303.295 | N11: ='DCF - 10 Year'!E18 -> 470.10725 | O11: ='DCF - 10 Year'!F18 -> 611.13943 | P11: ='DCF - 10 Year'!G18 -> 763.92428 | Q11: ='DCF - 10 Year'!H18 -> 916.70914 | R11: ='DCF - 10 Year'!I18 -> 1054.2155 | S11: ='DCF - 10 Year'!J18 -> 1159.6371 | T11: ='DCF - 10 Year'!K18 -> 1275.6008 | U11: ='DCF - 10 Year'!L18 -> 1403.1608 | ... W11: ='DCF - 10 Year'!N18 -> 1697.8246
